{"text_format":"1","workbook":"xlsx","n_sheets":2,"sheets":["Data","Farmland Correlation Periods "],"not_rendered":{"charts":2,"images":2,"macros":0,"external_links":1,"defined_names":2,"comments":0,"pivot_tables":0},"unopened":[],"bounds":{"document_bytes":16777216,"sheet_cells":100000,"rows_first":2000,"rows_last":500,"rows_between":2000,"halvings":0,"cell_chars":16384,"cell_head_chars":4096},"cells_cut":0,"cells_raw":0,"read":"whole","date_system":"1900"}

{"sheet":"Data","index":0,"n_rows":65,"n_cols":91,"rows_kept":65,"cut":false,"hidden":true,"merged":[[1,32,1,34],[1,35,1,36],[1,1,1,4],[1,5,1,8],[1,10,1,13],[1,14,1,15],[1,16,1,23],[1,27,1,28]]}
["Financial Returns Data spreadsheet",null,null,null,null,null,null,null,null,null,"Ann Geometrics",null,null,null,null,null,null,null,null,null,null,null,null,null,null,null,null,null,null,null,null,null,null,null,null,null,null,null,"Land Returns by State workbook ",null,null,{"$f":"SUM(AO2:CC2)","v":32},"Total rate of return - Cap Gain plus rental income less taxes mixed time definition",null,null,null,null,null,null,"By convention, use the ERS data of publication as the year for this sheet. ",null,null,null,null,null,null,"Select states in Ave 1 with logicals in AO2:CC2",null,null,null,null,null,null,null,null,null,null,null,null,null,null,null,null,null,null,null,null,null,null,null,{"$f":"SUM(AO2:CB2)","v":32},"NCREIF"]
["Return Matrix","Stock Indexes",null,null,null,"MSCI equity Indexes",null,null,null,null,"REITS",null,null,null,"Interest Rates",null,"Treasury Series",null,null,null,null,null,null,null,null,"CDs",null,"Corporate Bonds",null,"Comm Paper","Municipal bonds","Mortgages","Commodity indexes",null,null,"Inflation Ref",null,"US Return rates (cont) ","States land returns - from Land return by state","States land returns - from Land return by state",1,null,1,1,1,null,1,1,1,1,1,1,1,1,1,null,1,1,1,1,1,1,null,null,1,1,1,1,1,1,1,null,1,1,1,null,1,1,null,1]
["Year","S&P500","Dow Jones","NASDAQ","NYSE","EAFE","EUROPE","PACIFIC","North America","MSCIUSA","All REITS","Equity REITS","Mortgage\nREITS","Composite\nREITS","BBALibor","ED3M","TCM1Y","TCM3Y","TCM5Y","TCM7Y","TCM10Y","TCM20Y","TCM30Y","TBSM3M","TBSM6M","CD3M","CD6M","AAA","BAA","CP3M","Muni20","Mort30F","Reuters","CRB FI","CRBSpot","CPI","PPI","Gold","US Ag 32 States","US Ave Farm (all)","Alabama","Arizona","Arkansas","California","Colorado","Delaware","Florida","Georgia","Idaho","Illinois","Indiana","Iowa","Kansas","Kentucky","Louisiana","Maryland","Michigan","Minnesota","Mississippi","Missouri","Montana","Nebraska","New Jersey","New Mexico","New York","North Carolina ","North Dakota","Ohio","Oklahoma","Oregon","Pennsylvania","South Carolina","South Dakota","Tennessee","Texas","Utah","Virginia","Washington","West Virginia","Wisconsin","Wyoming","NCREIF Total Farmland","NCREIF Cornbelt","NCREIF Permanent","NCREIF PacWest","NCREIF Delta","NCREIF Annual Cropland","NCREIF Timber"]
[1960,4.3974724887541609E-2,-9.8125443033485943E-2,null,null,null,null,null,null,null,null,null,null,null,null,null,3.6266666666666662E-2,3.9808333333333334E-2,4.0899999999999999E-2,null,null,4.0591666666666672E-2,null,2.8833333333333332E-2,3.2116666666666675E-2,null,null,4.41E-2,5.1891666666666662E-2,null,3.5150000000000001E-2,null,-6.7826633130077155E-2,-4.4657926884521575E-2,-2.2704793693757108E-2,1.3513719166722855E-2,6.3291350516475296E-3,null,null,null,null,null,null,null,null,null,null,null,null,null,null,null,null,null,null,null,null,null,null,null,null,null,null,null,null,null,null,null,null,null,null,null,null,null,null,null,null,null,null,null,null,null,null,null,null,null,null,null,1,"  Texas",40440.80827454877]
[1961,0.20805873991544577,0.17146563660627268,null,null,null,null,null,null,null,null,null,null,null,null,null,2.9808333333333329E-2,3.5349999999999999E-2,3.7508333333333324E-2,null,null,3.9233333333333335E-2,null,2.3541666666666669E-2,2.5916666666666664E-2,null,null,4.3500000000000004E-2,5.0750000000000003E-2,null,3.4533333333333333E-2,null,1.5394317450552706E-2,5.6906377499556807E-2,4.1907000677693075E-2,6.6889881507964889E-3,-3.1595602903684815E-3,null,null,null,null,null,null,null,null,null,null,null,null,null,null,null,null,null,null,null,null,null,null,null,null,null,null,null,null,null,null,null,null,null,null,null,null,null,null,null,null,null,null,null,null,null,null,null,null,null,null,null,2,"  Kansas",30461.365407694]
[1962,-0.12567573645529242,-0.1143523249001136,null,null,null,null,null,null,null,null,null,null,null,null,null,3.1008333333333325E-2,3.471666666666666E-2,3.7016666666666677E-2,null,null,3.9933333333333335E-2,null,2.7733333333333336E-2,2.8991666666666666E-2,null,null,4.3250000000000004E-2,5.0200000000000002E-2,null,3.1541666666666669E-2,null,5.404169641544701E-2,1.9476093157273718E-4,-5.7688496015096097E-2,1.3245226750020505E-2,0,null,null,null,null,null,null,null,null,null,null,null,null,null,null,null,null,null,null,null,null,null,null,null,null,null,null,null,null,null,null,null,null,null,null,null,null,null,null,null,null,null,null,null,null,null,null,null,null,null,null,null,3,"  North Dakota",27685.835753241256]
[1963,0.17303397510657365,0.15706010688530039,null,null,null,null,null,null,null,null,null,null,null,null,null,3.3566666666666668E-2,3.6691666666666657E-2,3.8291666666666661E-2,null,null,4.0500000000000001E-2,null,3.1591666666666671E-2,3.2583333333333325E-2,null,null,4.2591666666666667E-2,4.8558333333333342E-2,null,3.1699999999999999E-2,null,0.11222867452433791,6.4021103950820918E-2,3.1317799552547557E-2,1.6313575491523787E-2,0,null,null,null,null,null,null,null,null,null,null,null,null,null,null,null,null,null,null,null,null,null,null,null,null,null,null,null,null,null,null,null,null,null,null,null,null,null,null,null,null,null,null,null,null,null,null,null,null,null,null,null,4,"  Iowa",27556.003946734447]
[1964,0.12195100160681834,0.13593675430198532,null,null,null,null,null,null,null,null,null,null,null,null,null,3.845833333333333E-2,4.0308333333333328E-2,4.0683333333333321E-2,null,null,4.1900000000000007E-2,null,3.5466666666666667E-2,3.6816666666666671E-2,null,null,4.4058333333333331E-2,4.8283333333333338E-2,null,3.2066666666666667E-2,null,-5.8125181286848022E-2,-5.4041851441596761E-2,7.138808221290642E-2,9.6619109117368901E-3,3.1595602903685179E-3,null,null,null,null,null,null,null,null,null,null,null,null,null,null,null,null,null,null,null,null,null,null,null,null,null,null,null,null,null,null,null,null,null,null,null,null,null,null,null,null,null,null,null,null,null,null,null,null,null,null,null,5,"  Illinois",24530.893400741268]
[1965,8.6745855016126638E-2,0.10337937591211992,null,null,null,null,null,null,null,null,null,null,null,null,null,4.1441666666666661E-2,4.2175000000000004E-2,4.2475000000000006E-2,null,null,4.2666666666666665E-2,null,3.9491666666666675E-2,4.0533333333333331E-2,4.3441666666666663E-2,4.4258333333333344E-2,4.4933333333333332E-2,4.8658333333333345E-2,null,3.2608333333333336E-2,null,7.1560535237798692E-3,1.5686596167699473E-2,6.9311799890228884E-2,1.904819497069463E-2,3.4111834506863122E-2,null,null,null,null,null,null,null,null,null,null,null,null,null,null,null,null,null,null,null,null,null,null,null,null,null,null,null,null,null,null,null,null,null,null,null,null,null,null,null,null,null,null,null,null,null,null,null,null,null,null,null,6,"  Minnesota  ",23263.829507599661]
[1966,-0.14030845109096513,-0.20999912131678625,null,null,null,null,null,null,null,null,null,null,null,null,null,5.2033333333333334E-2,5.2300000000000006E-2,5.1041666666666673E-2,null,null,4.7674999999999995E-2,null,4.8625000000000002E-2,5.0608333333333338E-2,5.4833333333333331E-2,5.6283333333333338E-2,5.1300000000000005E-2,5.6649999999999992E-2,null,3.808333333333333E-2,null,-8.3560122485414917E-2,-1.7616539833414512E-2,-6.4538521137571178E-2,3.4006367985194942E-2,1.5128881596299999E-2,null,null,null,null,null,null,null,null,null,null,null,null,null,null,null,null,null,null,null,null,null,null,null,null,null,null,null,null,null,null,null,null,null,null,null,null,null,null,null,null,null,null,null,null,null,null,null,null,null,null,null,7,"  Nebraska",22764.229276397858]
[1967,0.18308892899674109,0.14147039465134925,null,8.8170332077994962E-2,null,null,null,null,null,null,null,null,null,null,null,4.8850000000000005E-2,5.0391666666666668E-2,5.1075000000000009E-2,null,null,5.0091666666666666E-2,null,4.3066666666666677E-2,4.6208333333333337E-2,5.0208333333333327E-2,5.2116666666666672E-2,5.5066666666666667E-2,6.2283333333333316E-2,null,3.9374999999999993E-2,null,0.17595886300612609,-3.8699261187469233E-2,-6.5936323004402567E-2,2.9942356615078318E-2,1.1940440371918069E-2,null,null,null,null,null,null,null,null,null,null,null,null,null,null,null,null,null,null,null,null,null,null,null,null,null,null,null,null,null,null,null,null,null,null,null,null,null,null,null,null,null,null,null,null,null,null,null,null,null,null,null,8,"  South Dakota",21066.362240429473]
[1968,7.3811759233710639E-2,4.1868844459161884E-2,null,0.12228047275106897,null,null,null,null,null,null,null,null,null,null,null,5.6908333333333339E-2,5.6850000000000012E-2,5.698333333333333E-2,null,null,5.4541666666666669E-2,null,5.3383333333333338E-2,5.4716666666666663E-2,5.8591666666666667E-2,6.0033333333333327E-2,6.1750000000000006E-2,6.9358333333333355E-2,null,4.4450000000000003E-2,null,2.1246291829349319E-2,1.197619104671562E-2,2.5114328484147418E-2,4.6117682094965536E-2,2.6355844705362456E-2,0.15496203889813742,null,null,null,null,null,null,null,null,null,null,null,null,null,null,null,null,null,null,null,null,null,null,null,null,null,null,null,null,null,null,null,null,null,null,null,null,null,null,null,null,null,null,null,null,null,null,null,null,null,null,9,"  Missouri",19084.586492482249]
[1969,-0.12060330002707749,-0.16480267658270875,null,-0.20538512322858959,0,0,0,0,0,null,null,null,null,null,null,7.1224999999999997E-2,7.0166666666666655E-2,6.933333333333333E-2,7.145E-2,6.6708333333333328E-2,6.3266666666666665E-2,null,6.6666666666666666E-2,6.8608333333333341E-2,7.7608333333333335E-2,7.8925000000000009E-2,7.0291666666666655E-2,7.8133333333333332E-2,null,5.7149999999999992E-2,null,6.4417973852752677E-2,3.0290542467913576E-2,0.13092382921744192,6.0127397972595101E-2,4.7964059207126424E-2,-0.15581467501629784,0.12669880220008178,0.12041776846627299,0.18997256839612528,5.810385968861697E-2,0.16694794262661586,1.7608696703629967E-2,8.3601485827168837E-2,0.10050092959293259,5.4598963107138854E-2,0.25415313166456344,7.2229716272442693E-2,0.10414023744764779,7.0174074334551556E-2,0.12001394768492971,5.7772128294485622E-2,0.14129129155605449,9.9360722121965506E-2,9.1273451849268827E-2,0.12238819691057964,0.15372620892603001,0.20225871733930939,0.17103992814591243,5.939894788246762E-2,8.0038321048497257E-2,0.10828057343205054,2.1053384948094993E-2,0.14946405436402926,0.14126463044782728,0.18003469837833164,8.7526028974578299E-2,5.3336214263172782E-2,0.10677537011401857,0.13578345812855452,0.18474040218789911,0.11617648273316514,0.17870567074237484,0.23488183917389632,5.559691063765021E-2,0.11598726858158975,0.14609784689891825,0.17682515587699155,0.18761288131204429,8.6392168501070662E-2,null,null,null,null,null,null,null,10,"  Montana",18118.375999999997]
[1970,9.7714572673684649E-4,4.6979907142670543E-2,null,0.10189303515126928,-0.13843955611158673,-0.12907928853483919,-0.14706049661812406,8.5081288464231686E-2,8.6246062790812358E-2,null,null,null,null,null,null,6.8974999999999995E-2,7.2866666666666663E-2,7.3758333333333329E-2,7.3750000000000024E-2,7.3483333333333331E-2,6.8624999999999992E-2,null,6.3916666666666677E-2,6.5083333333333326E-2,7.5641666666666663E-2,7.657499999999999E-2,8.0399999999999985E-2,9.1050000000000006E-2,null,6.3274999999999998E-2,null,-9.9955398316789196E-3,-1.3566099526718903E-2,-7.8738076046871594E-2,5.4206817836426738E-2,2.1799228342584579E-2,6.254620512350012E-2,0.10974882989913247,0.10605213624462637,0.16297856951326992,7.1553713428561358E-2,0.13794607013084448,-4.4392008693799369E-3,5.9436704417853994E-2,0.1304695832294428,0.12238938178002677,0.18786890628483477,8.8088790880509832E-2,5.0369066835642573E-2,4.1078819724483878E-2,0.10152861951131129,1.3291766279495652E-3,0.1542481343896861,0.12509359683078283,0.12081929470763354,7.8161652973747428E-2,0.12290501499219335,0.17248941913599722,0.12304708554481994,9.175586702784691E-2,5.8608464033186612E-2,0.12313728157599189,2.0157025577865067E-2,0.140040067203794,5.7774459298188932E-2,0.12916924047224779,0.10882749736022662,8.1451869318952513E-2,9.0024494682119621E-2,0.15981831995896481,7.3749132085677668E-2,8.9955623372952431E-2,0.13794478968483748,0.19047750776310984,5.3591951926073092E-2,0.16297911436739082,0.10949892888794327,0.13419785065630116,0.17911650463590351,0.10849919606989683,null,null,null,null,null,null,null,11,"  Oklahoma",15229.305678110537]
[1971,0.1024370930650918,5.9354646729505189E-2,null,9.195639029808006E-2,0.23225528447957131,0.20749559366161402,0.28880543556397414,9.267711452530708E-2,9.5373227815406025E-2,0,0,0,0,null,6.5941666666666676E-2,4.8799999999999996E-2,5.6541666666666678E-2,5.9874999999999998E-2,6.1783333333333336E-2,6.159166666666667E-2,6.1200000000000004E-2,null,4.3324999999999995E-2,4.5116666666666666E-2,5.0049999999999997E-2,5.2166666666666674E-2,7.3866666666666664E-2,8.5633333333333339E-2,null,5.4741666666666682E-2,7.5457777777777763E-2,-1.861976550926513E-2,8.7421634958658942E-3,1.0304540828814325E-2,3.2141209211796987E-2,3.963530685739565E-2,0.14956141064361747,0.1091581116753202,0.10878774829724244,0.20643020270799484,0.11025643868001921,6.879618365235507E-2,-6.6006388928176764E-3,0.10826905399750865,0.14642087347010926,6.9306322696395237E-2,0.1866748674883929,9.5865360525261456E-2,6.3514786372291118E-2,0.1025733887998138,7.5336007949691475E-2,3.848629291342763E-2,0.14159313575549848,0.14770230100511475,9.1494238448590684E-2,6.6914515260624127E-2,9.7457397149926378E-2,0.10463384407804634,0.14121472278852296,7.1360789489157E-2,0.15501076503665445,3.9051930362584579E-2,6.5233767845494839E-2,0.1032690552924066,0.17371962448937159,0.10293744723998238,9.7221239003406013E-2,6.6561547894739018E-2,0.14437792260683954,7.4383764603503225E-2,0.12089293159956364,9.0591538131018279E-2,0.10901960081392639,0.20726055506077867,0.17981175281221365,0.14443059894179272,6.70093637351242E-2,0.15743915938712041,0.17773801702349851,5.6637013970997664E-2,null,null,null,null,null,null,null,12,"  Indiana",13026.85205851413]
[1972,0.14525348635059787,0.1361117496965627,null,8.3725657501329029E-2,0.28728963947775837,0.11073855142798338,0.70464789116324777,0.13274640161160875,0.12489290920016581,0.10609240440610015,7.7056056283294219E-2,0.11484249831646158,0.10609240440610015,null,5.4241666666666674E-2,4.9599999999999984E-2,5.7208333333333326E-2,5.9816666666666657E-2,6.1449999999999998E-2,6.2100000000000002E-2,6.0099999999999987E-2,null,4.0725000000000004E-2,4.4841666666666669E-2,4.6658333333333336E-2,5.015E-2,7.2133333333333341E-2,8.1550000000000011E-2,null,5.2575000000000004E-2,7.3832916666666651E-2,0.33732253161850273,0.27331435908276935,0.20413836925456405,3.3495954428182186E-2,6.2755845031403759E-2,0.38517478140918171,0.13876013663365491,0.13704865126558397,0.12581373555751896,0.15151310590743716,0.22795389841225994,5.8213588057254934E-2,0.14706982460564735,5.6877352644532413E-2,7.8913905317066407E-2,0.22245265796613731,0.12248834010924747,0.10864042989380156,9.6779786386728711E-2,0.13277391954740045,9.2248586577927658E-2,0.17887627421075683,0.14242946730063891,8.146406380858498E-2,0.15210578666684862,0.11611718841783501,0.1262187106343077,0.19089488028582649,9.9031594446028409E-2,0.22003116426699129,7.7951617994346939E-2,8.1670805117965206E-2,0.17105698512431669,0.12520770482943661,0.12203108214573255,0.11003843988169269,7.8744778391413389E-2,0.1573157985748615,9.2075653734593338E-2,0.18267069323171437,0.10062957444895769,0.164396439716921,0.23023429338016402,0.17209557018328839,0.16812880866797844,0.1265286523983421,0.20797975665333096,0.15488242232232266,0.16644736407078567,null,null,null,null,null,null,null,13,"  Colorado",12043.76889689886]
[1973,-0.19074319646240165,-0.18126329342280512,null,-0.19485488137120277,-0.18413798696913125,-0.11758436050528583,-0.25717730193060345,-0.19356721341905966,-0.20746816749741737,-0.3176831069919786,-0.16864536577925257,-0.45033118702769842,-0.3176831069919786,null,9.2499999999999999E-2,7.3116666666666663E-2,6.9549999999999987E-2,6.8666666666666668E-2,6.8583333333333329E-2,6.8425E-2,7.116666666666667E-2,null,7.0316666666666666E-2,7.1991666666666662E-2,8.4158333333333335E-2,8.3108333333333326E-2,7.4408333333333326E-2,8.2408333333333333E-2,null,5.1891666666666662E-2,8.042916666666669E-2,0.60199831717578522,0.38939355437073703,0.44810914989836426,8.3475722157322102E-2,0.14261410719884182,0.5129862560622962,0.17963129192020053,0.17068711321768504,0.20145731649436999,8.5090417308127247E-2,0.20638628656579455,4.0767258492582073E-2,0.19596974646798665,0.16327450620297052,0.15525577620495307,0.20666132828918868,0.14684028681326194,0.13686580789871278,0.1900765741125012,0.19494948697042308,0.15674380582862879,0.17910429217942125,0.11438116749719672,0.15615216933044312,0.22357136910626688,0.1813060684354546,0.21348004741095292,0.20166487018825913,0.13408147569207118,0.2627835419402571,8.8230433445821183E-2,0.13030282119595113,0.14214964435073568,0.20199694582612709,0.18301653916946689,0.19013846167341977,0.13674036723618396,0.14221006783699341,0.17998671659058363,0.1259757230888551,0.15572843047118481,0.20042796838343066,0.2402121520116674,0.10789043661297273,0.17320474755571288,0.20441981961343134,0.22380601663515245,0.25562297413919605,0.16924777665837676,null,null,null,null,null,null,null,14,"  Ohio",11529.919652914276]
[1974,-0.35265579277959586,-0.322723026692944,null,-0.23292979323204233,-0.295680220067155,-0.31274174214247541,-0.26636113588194249,-0.3546484354349892,-0.369062529317427,-0.54872911220207643,-0.24083700312635012,-0.60376133127433584,-0.54872911220207643,null,0.110175,8.1816666666666663E-2,7.8224999999999989E-2,7.8016666666666665E-2,7.7141666666666664E-2,7.5575000000000017E-2,8.0516666666666681E-2,null,7.8299999999999995E-2,7.9358333333333309E-2,0.10244166666666667,9.9750000000000019E-2,8.5658333333333322E-2,9.4966666666666658E-2,null,6.1733333333333328E-2,9.1870416666666663E-2,-0.15763604060464337,1.631680205257446E-2,9.1810260743861328E-3,0.11633899208414977,0.18967839501966308,0.54297041505430876,0.27035189306436452,0.26276792225964579,0.28491655166897351,0.21826207630306896,0.26714135070529405,0.12469862746344003,0.27490123130149613,0.26368375657877302,0.28078459830379815,0.33094082917079287,0.26272214553747253,0.2967047908678826,0.25234791026282366,0.32812216533319893,0.26321150255071912,0.24194177866061112,0.2149479054529371,0.16655647750134914,0.20415149109993694,0.30952655285375963,0.33069158238636925,0.35215933607182509,0.25840283942616604,0.36225856024143333,0.17146354864004304,0.26273881220157785,0.26758860585576127,0.2281863143664834,0.38887346321114841,0.26626657343539195,0.19921184012681795,0.1754356347366488,0.25280430711145657,0.26712359114499223,0.31689963880785371,0.25248171765305827,0.33717886853274187,0.20346270179360013,0.29033166779655073,0.18959742442629648,0.29341355389407281,0.24583277264052472,0.27551971652833546,null,null,null,null,null,null,null,15,"  Wisconsin",10779.010526556182]
[1975,0.27420928188809235,0.32448431406189437,null,0.26923846487543679,0.27157657547829989,0.31255352456239782,0.20568693495671736,0.24656281908057803,0.26623122850930786,0.30995716756562858,0.17646688430592811,0.34206467625434245,0.30995716756562858,null,7.0174999999999987E-2,6.7583333333333329E-2,7.4899999999999994E-2,7.7658333333333329E-2,7.8950000000000006E-2,7.9875000000000002E-2,8.1916666666666665E-2,null,5.7749999999999996E-2,6.0883333333333338E-2,6.4366666666666669E-2,6.889166666666667E-2,8.8258333333333341E-2,0.10610000000000001,null,7.0508333333333326E-2,9.0405416666666655E-2,7.661204886321042E-4,-6.5356249533779595E-2,-9.9020759200860523E-2,6.7064230580545836E-2,4.1031396677862562E-2,-0.27669873641713666,0.18706235649236358,0.1742220482097529,0.16292687326673036,3.7223943201844203E-2,0.11500975865428568,0.14973721728955317,0.10181600916985967,0.21082989133634372,0.12848868022087839,0.1908691030419474,0.20406341827879729,0.22149294934552421,0.27502901507281396,0.27277006042487167,0.18143803045472373,0.17968758697299433,0.15080508141961729,9.542798697027427E-2,0.10375168175969034,0.32219542888503272,0.20505148657276215,0.11781313827767781,0.17956491465302146,0.29282372956825603,0.13568325183426266,6.4088992742509995E-2,0.17651263123031008,0.11657266144256337,0.39048833094206797,0.17241671742488368,0.15537010494889092,0.10903464121422241,0.18612127168146519,0.15762600821667458,0.27589635973169124,0.18353475771812625,0.12707151445706297,0.10690610007093494,0.15188190057400019,0.19756005596776469,0.18078497582815559,0.18820029709354852,0.16853741864323463,null,null,null,null,null,null,null,16,"  California",10655.108]
[1976,0.17520012912305855,0.16438836824380657,null,3.541166188968755E-2,-3.5891339161321944E-3,-0.11476406791708309,0.16837771159367459,0.14751523818054432,0.17134800821167478,0.39859982532700089,0.38925883998428595,0.41682482350419181,0.39859982532700089,null,5.5750000000000001E-2,5.8741666666666671E-2,6.7708333333333329E-2,7.1791666666666656E-2,7.4233333333333332E-2,7.6116666666666666E-2,7.8633333333333333E-2,null,4.974166666666667E-2,5.2525000000000002E-2,5.2683333333333332E-2,5.6241666666666662E-2,8.4341666666666662E-2,9.7466666666666674E-2,null,6.6416666666666666E-2,8.8643333333333352E-2,0.28887265002246898,6.927206462061393E-2,6.9736089655685118E-2,4.750233398500326E-2,4.5834536343799324E-2,-3.9267182371041008E-2,0.2111286836978076,0.20489603048077326,0.21725710940023424,0.12300389293206583,0.20426624268272589,9.960155916416813E-2,0.18346498333793243,0.16657627852392221,0.12132540839039713,0.14395627639079106,0.16754466440470586,0.28610106003306979,0.2839144024851511,0.32132332466464469,0.28772822411443333,0.25276766218974767,0.16985665350466506,0.2041487535722897,0.14105249388323826,0.29014980482434699,0.16691299486455186,0.22274671915897026,0.20562829266798596,0.37700254054258953,0.15446189896406506,9.5679080462909474E-2,0.12151636419881487,0.17747398387131288,0.28117641448472674,0.2343307570427702,0.15061258061881658,0.20604732897634317,0.13002377781462882,0.14642884570578762,0.19744552762533174,0.18315458111997474,0.25115462002014122,0.20100139943571962,0.17317412142979241,0.29505710979696531,0.31485695116501161,0.21235029462587374,0.23846227062008873,null,null,null,null,null,null,null,17,"  Arkansas",9645.2285944285741]
[1977,-0.12218971574933084,-0.18957382868325098,null,-0.11586499748531651,0.13639519317552098,0.16245558958410716,0.10086323856293064,-0.12007608871342169,-0.13014447330421011,0.17459583423786199,0.20232213856971373,0.16402510641021167,0.17459583423786199,null,6.0083333333333329E-2,6.0883333333333317E-2,6.6858333333333325E-2,6.9900000000000018E-2,7.2299999999999989E-2,7.4191666666666656E-2,7.6708333333333337E-2,7.7490909090909096E-2,5.2691666666666671E-2,5.5274999999999998E-2,5.6408333333333331E-2,5.9191666666666684E-2,8.0241666666666683E-2,8.969166666666667E-2,null,5.6825000000000001E-2,8.8416666666666671E-2,-9.873905013717045E-2,-2.1729249995471163E-2,5.4458166972897681E-2,6.4860634202040926E-2,5.7513906200606847E-2,0.17976239758357249,0.22683381578219508,0.20738777868455222,0.17874094661451834,0.15201704171803135,0.19841864292432723,8.0006860079320022E-2,0.18737631635892862,0.14520398592852052,0.14085952412278521,0.20788604516689727,0.20024954228338548,0.36778339746882793,0.35884736430804787,0.37798458904436877,0.2708975501567909,0.25465619865074912,0.20857999623834217,7.380672044097375E-2,0.28869647863058362,0.31053884356439132,0.20706634135510016,0.26161228740640552,0.18523102987778789,0.26642942448901524,5.2958556059340425E-2,0.15906128016294008,0.10068347996190627,0.16336325241369226,0.22717927257588869,0.31010513049503902,0.15061701958920928,0.19627807117319884,0.20997897239356689,0.19855198631962359,0.25001244634376896,0.21362907672017936,0.2004971018252584,0.19038985127457328,0.15239873620746275,0.27151301287968665,0.12106114314949722,0.26056515371081335,0.15116625598289912,null,null,null,null,null,null,null,18,"  Kentucky",8352.8471592864553]
[1978,1.0564399283848343E-2,-3.2028162366454289E-2,null,0.12501114343094749,0.25397496320018598,0.16247406129810393,0.37201070775308365,5.9067746927672367E-2,4.0492190507765728E-3,-1.6541295225341566E-2,9.8355757910794608E-2,-0.10502055998913803,-1.6541295225341566E-2,null,8.7325000000000014E-2,8.3400000000000016E-2,8.2891666666666683E-2,8.3175000000000013E-2,8.3566666666666678E-2,8.4100000000000022E-2,8.4841666666666662E-2,8.4849999999999995E-2,7.1883333333333327E-2,7.5833333333333322E-2,8.221666666666666E-2,8.6141666666666672E-2,8.7249999999999994E-2,9.4883333333333333E-2,null,6.0241666666666666E-2,9.6324583333333338E-2,5.1222933789456457E-2,0.12777345958040318,0.16042950614603921,8.6340190978796194E-2,9.3660921596511071E-2,0.25884567612109605,0.17589689777081968,0.16409366884727103,0.16048056619192058,0.13920664543066702,0.18115911466293438,0.20813527964008216,9.5886569297615853E-2,0.10795174010577474,0.14636773263547517,0.22060481923338704,0.16461214590155335,0.1559494007013659,0.1915095434483321,0.11771212801596204,0.15045444839170979,0.2042422860744276,0.25552687027398857,0.17039211106025515,0.1550437761215355,0.19032701033021399,0.27874724262789546,0.22976184742260966,0.14131927333102964,0.10140937375054906,7.998553469122234E-2,0.10184657026580099,6.0463452168095164E-2,0.13030539229260188,0.16012201663187547,0.15750209379323843,0.15096210885449277,0.23783100825765391,0.13261523231186645,0.12816936369403636,0.22253937883438701,0.22428601078878235,0.22092746660199095,0.14159358765679744,0.14308916311353617,0.18959489262080248,9.862239887739345E-2,0.2492130843443181,0.13137174228993709,null,null,null,null,null,null,null,19,"  Michigan",8059.5883321331257]
[1979,0.11608214835530381,4.101079657180242E-2,null,0.15855678424794672,1.7972979564267088E-2,8.0500268880329864E-2,-5.9671921055796988E-2,0.16424107998397178,7.8391456296222309E-2,0.26640255835981969,0.30643676358307709,0.15326123332243433,0.26640255835981969,null,0.11963333333333333,0.10665000000000001,9.7150000000000014E-2,9.5183333333333328E-2,9.4783333333333331E-2,9.4425000000000009E-2,9.3308333333333326E-2,9.292499999999998E-2,0.10069166666666667,0.100575,0.11225,0.11438333333333332,9.6291666666666664E-2,0.10689999999999998,null,6.5166666666666664E-2,0.11191749999999999,0.12853900484505595,0.21254274532756917,0.13856266179967652,0.12481552845498117,0.13730692482522749,0.90224995534422159,0.21561905688916291,0.21506933851322343,0.24745503781321984,0.28638174068965749,0.29775999391383057,0.28404716064223939,0.1970119946091437,0.13542624495075567,0.17476530554016098,0.184802820637674,0.16687981888534556,0.1781689993836105,0.21050286849194108,0.20942217398677027,0.27818003728938806,0.23765983677224042,0.24842772444577507,0.15096567104398204,0.140763946911764,0.22897526857410083,0.24907423116924177,0.19809184688450593,0.13458251256456449,0.34053400983670995,0.1284005912753963,0.24316202816569726,0.14976105651039304,0.27055470990550123,0.21358347346026713,0.23852471108981516,0.14725123783615515,0.2447347142704743,0.14927857492361976,0.21223461278270431,0.18242835444699029,0.20195679603829444,0.23296019042755153,0.27561405980525738,0.21702846347332538,0.21160046343071987,0.27572159381728811,0.23304148628788049,0.21012651605820767,null,null,null,null,null,null,null,20,"  Washington",7982.7999530532597]
[1980,0.22931310373547412,0.13923822062017965,null,0.12398130561227982,0.17406424905883816,7.2669217082436233E-2,0.28749695115473006,0.20098614577007798,0.20765732782825114,0.24701207626179683,0.21808378792672162,0.15527422039362601,0.24701207626179683,null,0.1404,0.12048333333333332,0.11548333333333333,0.11478333333333333,0.114325,0.11460000000000001,0.11386666666666664,0.11298333333333334,0.11434166666666667,0.11364166666666668,0.13066666666666668,0.12992499999999998,0.11938333333333334,0.13668333333333332,null,8.594166666666668E-2,0.13769499999999998,6.9123349446414085E-3,9.1589395765697509E-2,-1.4010737069598333E-2,0.11792788971617164,0.11751654664747782,0.14137409324827663,0.20356469876085781,0.2051007110743629,0.24918006359670097,0.3250391014499176,0.23062179861976939,0.20678636278606616,0.21624088260698468,0.20995845462048043,0.1966816720702961,0.19143679750171247,0.21628430565644369,0.13770622842613164,0.20899108064036906,0.2237830069104747,0.24441075138923474,0.17623765025394472,0.27007033079921078,0.2346673425655563,0.16681412643308824,0.24077260082244142,0.24336610339920006,0.28581444665852029,0.20867855328189019,0.27874620965768621,9.1211884026684259E-2,0.25669599500321771,0.11040496198544707,0.17884620353315445,0.21836008992709396,0.19669435981282821,0.20019818452233126,0.20048888230723755,0.15638514724061431,0.18895113299631791,0.19073105017035827,0.17054847775108684,0.21798486359995378,0.29617102930258371,0.13401449024243703,0.13486425057179177,0.14454018739487728,0.21192642717294921,0.14782366634179284,null,null,null,null,null,null,null,21,"  Tennessee",7084.1272119678533]
[1981,-0.1023695109518493,-9.6867408252931192E-2,null,-6.7964656579471261E-2,-4.9701495960842626E-2,-0.17187888953552152,5.8588006649542931E-2,-0.10644247410797807,-9.7632481952284494E-2,8.2276839440048058E-2,5.8276544524166855E-2,6.8319571139527135E-2,8.2276839440048058E-2,null,0.16788333333333333,0.14778333333333329,0.14439166666666667,0.14235833333333334,0.14060833333333334,0.13910833333333331,0.13718333333333332,0.13441666666666666,0.14024999999999999,0.13799166666666665,0.1591083333333333,0.157725,0.14170833333333333,0.1604416666666667,null,0.11326666666666668,0.16634624999999997,-5.9406741433847929E-2,-0.19085053196337279,-0.12575120530556039,8.5465184180621614E-2,5.1932748741643046E-2,-0.39450378419339788,0.15635096582721073,0.14165315318282307,0.19719669823462127,0.10355737968874772,0.18840265822279054,0.22034048769023992,0.14718112273912862,0.10060736642682826,0.13597763881308833,0.1253480561378752,0.1434964824534192,0.11286020569939409,0.13501958888271401,0.1338452254993619,0.13861336399720284,0.10904177213618982,0.18324550833305286,0.13902040446950817,0.17987303920839462,0.21508854621570528,0.28348718663829131,0.15775910794875445,9.3481781493656699E-2,0.22186780762225175,3.5640974005895193E-2,3.6408710945183283E-2,0.10878185060074279,0.12697694656831907,0.13549598763724341,0.1000819949266588,0.12228154709477923,0.17739924215265554,8.4063169548402913E-2,0.11339596488728275,0.17643805446742789,0.13187349233464438,0.16400422765864772,8.2272538930906997E-2,0.11846533200522236,0.24904535301944375,4.5703667638335541E-2,0.18619743049042256,0.14794136703231442,null,null,null,null,null,null,null,22,"  Idaho",6408.178301337337]
[1982,0.13768432396274524,0.17898265552843995,null,0.18809502219121324,-4.738906565996185E-2,2.3312740518220833E-4,-8.8076879500809169E-2,0.12259943067795358,0.14089564478039934,0.27493085989666549,0.19557419779782687,0.3963790202301482,0.27493085989666549,null,0.13120833333333332,0.12274999999999998,0.12921666666666667,0.13005833333333333,0.13056666666666666,0.13001666666666667,0.12916666666666665,0.12761666666666663,0.10614166666666663,0.11065833333333332,0.12270833333333331,0.12571666666666664,0.13787500000000003,0.16113333333333332,null,0.11659166666666666,0.16090208333333333,-2.1224775475213991E-2,-8.5550196024368363E-2,-9.4750336545810693E-2,3.7582711149042852E-2,1.7060122745308388E-2,0.13926961447483924,5.1932825150184554E-2,4.9093687025488573E-2,1.6044350996730548E-2,8.3293047475087895E-2,8.6619232415449263E-2,0.1171608927519531,7.1288761046776797E-2,-4.3588581452110121E-2,-1.8901860428628577E-2,-3.7427435040873046E-3,0.12014834940900825,-2.7858591092626814E-2,-6.5648883753163273E-2,3.8252888526524569E-4,9.7535508108876331E-2,7.6122060579096415E-2,9.5745054227706107E-3,-4.3541280691779406E-2,2.7035018704494838E-2,4.4742980980493105E-2,1.9463759502321995E-3,2.3048190849980367E-2,0.10468835726678978,8.8122985008370402E-2,5.0219346925098357E-2,1.452024004767094E-2,9.7276532780626729E-2,2.961962909393945E-3,0.104448388866061,-6.7367827450781292E-2,0.13396941467201709,0.10128724944898786,-1.8160929978022607E-2,4.1878490352153276E-2,0.11690450805255484,1.5518107291124444E-2,0.22191293602777065,5.2877358752859933E-2,1.5739383617252602E-2,0.12374516357356755,8.9174126159583228E-2,4.5307495397571389E-2,0.10615801567056214,null,null,null,null,null,null,null,23,"  Mississippi",6063.4341622345855]
[1983,0.15931770752319407,0.18454872920677864,null,0.11885274507351384,0.1899067954562719,0.15979572221284344,0.2151499620642853,0.16163738124245336,0.15365004870204582,0.22688747185629388,0.26724655559032495,0.1561192328931631,0.22688747185629388,null,9.5608333333333309E-2,9.5725000000000005E-2,0.10446666666666667,0.10795833333333332,0.11019999999999998,0.11105000000000002,0.11342500000000001,0.11178333333333335,8.6108333333333342E-2,8.7325E-2,9.0666666666666659E-2,9.2708333333333337E-2,0.12041666666666666,0.13554166666666664,null,9.5058333333333314E-2,0.13226874999999999,0.22340928832471382,0.17086011327494802,0.20019084900380774,3.7208917835590972E-2,1.7751945458450321E-2,-0.17799736739197955,1.3626366758921338E-2,7.6027772489274583E-3,-1.9711123135945346E-2,-1.1971393499835297E-2,-6.9322642758046948E-2,3.3522915961105938E-2,3.8737080965844918E-2,5.3521144586949287E-2,4.7650785509887383E-2,4.8872576183111235E-2,8.5677084639239308E-3,-4.2763764348095798E-2,-5.8072734575827928E-2,-5.2254749812014126E-2,4.1420377251737923E-2,4.2525731391089595E-2,-6.9679408235391385E-3,-9.2864636930604177E-2,-6.2266282543386505E-3,-3.3097551607065692E-2,-3.7633075861556876E-2,-2.3560077652024555E-2,-1.7710874883073168E-2,4.423369834411725E-2,-8.3977847464329312E-3,-9.2352305291690986E-2,2.8243221021268684E-2,4.518448760611958E-2,2.6845429948719655E-2,-2.6026777159523243E-2,3.5274437399130686E-2,4.679826635145784E-2,2.0489130827343022E-2,-6.9786394064685897E-5,5.5482519219352829E-2,1.3309928297923043E-2,8.5344086922670301E-2,-3.6197967154767793E-2,5.7698341461625481E-2,8.5060728941314251E-2,-1.4351488876583867E-2,2.4130225088790778E-2,7.8354349227573408E-2,null,null,null,null,null,null,null,24,"  Louisiana",5337.7869078904487]
[1984,1.3908765028303472E-2,-3.8058191939750942E-2,null,9.5291057455556633E-2,4.898313685194651E-2,-2.8072490132289084E-2,0.11034899604828448,1.1874135572878422E-3,1.0049696589728535E-2,0.13815473465501157,0.19001915173552938,7.0127555088068574E-2,0.13815473465501157,null,0.107325,0.10887500000000003,0.11892499999999999,0.12240833333333333,0.1240333333333333,0.12438333333333333,0.12476666666666665,0.12391666666666666,9.522499999999999E-2,9.755833333333333E-2,0.10365000000000001,0.10675833333333334,0.12709166666666666,0.1419,null,0.10100833333333332,0.13869375,-3.4496830832915555E-2,-0.12819366695604531,-7.7047437956779138E-2,3.8727007885292021E-2,1.1661939747842957E-2,-0.2153938462851416,7.5850530859432566E-2,7.4409676591803794E-2,3.7005261583520015E-2,0.1919688323342334,4.6200061302501899E-2,7.5220059855749352E-2,0.14605894756571244,4.0527598786605737E-2,6.105780192505976E-2,3.4450669117653515E-2,8.4135527024454634E-2,5.98929316303334E-2,7.8962424860873848E-2,-3.425320194802059E-2,8.0804440469340516E-2,3.1571101044117533E-2,9.5383999030185962E-2,7.5932792452399173E-2,6.0438894632722485E-2,2.4567030819935359E-2,0.11368813391244015,9.4184814008853646E-2,0.17510627457319566,1.6548017519870086E-2,-5.505058224684764E-2,0.15053923677983644,7.2548516140691133E-2,0.11236667822734654,7.8782526332790356E-2,4.5556077182216853E-2,9.831095901962042E-2,0.12138821295819277,6.3218249400945017E-2,1.4264423492673154E-2,9.6465874048084599E-2,5.0594925210635036E-2,0.18354138938513562,4.9019445488132446E-2,2.974853719018667E-2,0.14850572731213707,4.7246410755188338E-2,4.5166126165360476E-2,0.10913159491989149,null,null,null,null,null,null,null,25,"  Oregon",5310.7416618051657]
[1985,0.23375436150051249,0.24418182889101206,0.2737243296804901,0.16310623556741713,0.42506511921364076,0.54989700635220629,0.31813104610325837,0.23205490242358523,0.24089531117987548,5.7513210012705332E-2,0.17476267070881307,-5.3447822438548731E-2,5.7513210012705332E-2,null,8.2791666666666666E-2,8.4258333333333352E-2,9.6424999999999997E-2,0.10129166666666667,0.10509166666666667,0.10623333333333333,0.10971666666666666,0.10789166666666666,7.4791666666666645E-2,7.6516666666666663E-2,8.0474999999999977E-2,8.2458333333333342E-2,0.11373333333333333,0.12715000000000004,null,9.104166666666666E-2,0.12423250000000001,-7.5208687729907547E-2,-6.2651141470479899E-2,-8.3060475843526077E-2,3.7282976042563025E-2,9.6571711995879132E-4,5.8275028093743159E-2,-5.8476364205386301E-2,-5.063820459495199E-2,6.1966436528051987E-3,6.6446671370846713E-2,-1.6299152463007294E-3,-2.9668889345787184E-2,6.9038317208758901E-2,-0.10278614450382285,-1.9550200867041413E-3,2.3042852864503492E-3,1.1339236468957414E-2,-0.22166469813692458,-0.14013789198316945,-0.24651245533888899,-9.8974105148849884E-2,-3.4625636414688729E-2,2.1764292323707649E-2,8.1327909166408717E-3,-8.8402843720014251E-2,-0.16887534006101959,-5.0473578966172154E-2,-0.16257798586603164,2.9691997872880956E-2,-0.17966262028189137,-1.3423807547209739E-4,2.2006854301027109E-2,4.1207692607371504E-4,-4.2408929861432736E-2,-0.11044907451985649,-0.15716525234265027,-0.11909999764709264,-2.978223998938612E-2,-9.3541915308410314E-2,4.6331377568763965E-3,-0.16328109868966545,-4.2037036939987088E-2,0.17526448389116614,-6.7537723837362257E-2,1.9145034478692553E-2,7.7128518288663725E-2,-0.11376865693443192,-0.10060201507559446,-2.1915424814972006E-2,null,null,null,null,null,null,null,26,"  North Carolina",5198.7669701331497]
[1986,0.13645569088353351,0.20362277477087298,7.0981249359770113E-2,0.24547762628800435,0.51162283195275093,0.33835127746127297,0.65147215890919485,0.12378900009333026,0.12587971106229076,0.17542993908503066,0.17527785604998034,0.17575345027780528,0.17542993908503066,6.7708333333333329E-2,6.707500000000001E-2,6.4624999999999988E-2,7.0641666666666658E-2,7.3108333333333345E-2,7.5533333333333313E-2,7.6824999999999977E-2,7.85E-2,7.7983333333333349E-2,5.9783333333333327E-2,6.0299999999999986E-2,6.5183333333333343E-2,6.5075000000000008E-2,9.0208333333333321E-2,0.10390833333333331,null,7.3183333333333336E-2,0.10177833333333335,-7.8208854234600819E-2,-9.2667296087587156E-2,-3.6001565572528225E-2,1.0919125775314564E-2,-3.8371652857589901E-2,0.1735881005075961,-3.0706066205960288E-2,-2.445803510694626E-2,4.7114548911782635E-2,3.6994305977676355E-2,-8.7148057792966596E-2,-2.3170966873962584E-2,-6.3983469903788115E-2,8.9364855034798352E-2,-4.271779577577758E-3,6.5361934419984249E-4,-6.4761540013527491E-2,-4.5845522565492042E-2,-7.7294619810857584E-2,-0.1347246159808074,-4.8512173148251424E-2,3.3380503710901024E-2,-0.12687110402804513,-5.954549856540569E-2,-5.4462833006590335E-2,-0.18913441903458808,-4.3283917607956371E-2,1.649700523288437E-2,0.10623880987667984,-3.9257209475079824E-2,1.8220317121233558E-2,-6.00152987702956E-2,5.2318525930334925E-2,-3.0894980772299838E-2,-3.7746065347874523E-2,-1.2078522383305753E-2,-6.547195476755413E-2,2.9097812399828581E-2,-5.3934125160369072E-2,2.3379124654380841E-3,-1.7388135205685322E-2,3.1403922496080247E-2,-0.10339003855002055,-3.262580401423628E-2,8.7385851680881338E-2,1.0910618513787209E-3,4.0707913691035429E-2,-6.4149729019080906E-2,-5.5624023734311939E-2,null,null,null,null,null,null,null,27,"  Pennsylvania",5124.5470127280232]
[1987,2.0072211955288202E-2,2.2322821156253853E-2,-5.3892032743083615E-2,-7.9849403752681666E-2,0.20851413858411008,1.4160956638706028E-2,0.32822773062050986,1.3058199316093482E-2,6.0774513186696863E-3,-0.11281665391448972,-3.7077292071575604E-2,-0.1703955315466745,-0.11281665391448972,7.2239583333333329E-2,7.0608333333333329E-2,6.7641666666666669E-2,7.6683333333333326E-2,7.934999999999999E-2,8.2175000000000012E-2,8.3841666666666634E-2,8.6202908465374234E-2,8.5800000000000001E-2,5.7749999999999996E-2,6.0299999999999999E-2,6.8608333333333327E-2,6.9975000000000009E-2,9.3758333333333346E-2,0.10575833333333334,null,7.6391666666666677E-2,0.10194416666666667,6.4217839457199638E-2,0.10635012484299261,0.12298125638208274,4.3388833116191738E-2,4.4146452351473901E-2,0.21935503345220486,1.8307446483157401E-3,1.4746600183479227E-2,1.729663984840529E-2,0.19960993736138766,-9.3906710502665094E-3,-6.1984799169187497E-2,0.13987591336441604,2.9552781189863698E-2,7.7743407411759363E-2,7.5592311129025078E-2,-3.7555982233833926E-2,-1.1006036181368323E-2,-3.1998663712116557E-2,-1.6361913890594562E-2,2.322794418549648E-2,-1.8689342077825612E-2,-0.21595832036826043,1.3678368889700698E-2,-6.2996719173849539E-2,-9.7494840849065845E-2,-7.6190691820239742E-2,3.3305366828769037E-3,-2.5095373819548471E-2,7.0209208539972284E-2,0.22037322388458036,3.927337039533417E-2,0.15475697188486315,2.7249646087440498E-2,-2.1234533390739392E-2,1.5574286151733278E-2,-1.4067171463296274E-2,4.7605778786646312E-2,0.15877552284084648,-6.1484611031619937E-2,-4.8086625654552358E-2,3.4044812398376735E-2,-2.6573349224513973E-2,-1.6158058308952058E-2,7.8441191781304515E-3,-1.4082099739441394E-3,5.8936218332894828E-2,-1.8450025690681576E-2,6.2245548063354972E-2,null,null,null,null,null,null,0.26511160410393186,28,"  Georgia",5044.659304419687]
[1988,0.11690124105737434,0.1120125730668607,0.14324203387457768,0.14506089683469101,0.2363505604636309,0.11987115117862775,0.29417682167120729,0.11172527478378329,0.11005719748123612,0.10755681110795254,0.12650425963570852,7.0488694545709399E-2,0.10755681110795254,8.0442708333333335E-2,7.8524999999999998E-2,7.6524999999999996E-2,8.2566666666666663E-2,8.4716666666666662E-2,8.7083333333333318E-2,8.8458333333333347E-2,9.0218962375157308E-2,8.9591666666666667E-2,6.6675000000000012E-2,6.9133333333333324E-2,7.7274999999999996E-2,7.9025000000000012E-2,9.7100000000000006E-2,0.10829999999999998,null,7.6799999999999993E-2,0.10334249999999999,0.12480933062248264,7.9735007728182025E-2,9.6432666423315994E-2,4.3245398856710353E-2,4.5035752909877103E-2,-0.16552476697544843,0.11590957898349578,0.10940015415395753,5.8696012282745909E-2,5.9237096231427401E-2,0.11912495022838687,6.0331459308914231E-2,0.12997051269959295,7.7695253845214599E-2,0.14263896185655969,7.4815355145070928E-2,0.14514822093900956,0.15044240980402018,0.14509826010573329,0.26595511531010718,0.20682404155071285,6.9420786123030709E-2,7.0242564352744688E-2,0.13645649620207156,7.6154259082203496E-2,0.24185727712007019,7.622168180647898E-2,0.1368332980516265,0.14990756689123491,0.23344735827805552,6.6414789901264482E-2,0.20845396614731435,5.6759211356914446E-2,2.6911927300168191E-2,0.12486369404630364,0.13712603261780554,7.8409337910475857E-2,9.35172420484182E-2,4.0246744706599218E-2,0.12567712498120223,0.18506608872281591,0.1043360994836055,5.4540526525079423E-2,-1.9388989218915131E-2,6.4481835047148633E-2,7.5916045808799695E-2,0.10205428206529997,0.11380165096143176,1.9699772685513935E-2,null,null,null,null,null,null,0.30123225791077402,29,"  New York",4494.4220000000005]
[1989,0.24098714800052315,0.23868207348612752,0.17600906871006242,8.5479175116777023E-2,8.8197179103121179E-2,0.22634848622795065,1.9279912618803716E-2,0.23489972801084186,0.2383494925564725,-1.830215167769959E-2,8.4729129091344127E-2,-0.17321442898536638,-1.830215167769959E-2,9.2552499999999996E-2,9.1616666666666652E-2,8.5349999999999981E-2,8.5574999999999998E-2,8.5041666666666668E-2,8.5208333333333344E-2,8.4983333333333327E-2,8.4836406508731518E-2,8.4491666666666687E-2,8.111666666666667E-2,8.0308333333333315E-2,9.0850000000000014E-2,9.0808333333333366E-2,9.2575000000000005E-2,0.101775,null,7.2300000000000003E-2,0.10323166666666667,-9.3683678594613559E-2,-9.0979341915802148E-2,-8.7219209062063874E-2,4.5425490040164246E-2,3.6039936483196873E-2,-2.880832219150592E-2,0.12176196944682569,0.12165433521611931,9.4741280365428546E-2,0.12529418628077807,0.11917232547063568,0.14765069099451722,0.15094316750975634,0.16873735696507675,8.2673722690877055E-2,0.15118937968171642,0.14729014019250081,0.15181539312462905,0.13301823401943955,0.22183538780394427,0.15527486364992968,7.2776435413847956E-2,8.0826363291695083E-2,0.13184475603511986,3.8964483738589156E-2,0.1352467421019071,9.2478610272393569E-2,0.14713566116726326,0.15129593703776326,0.21779674055068859,0.22391375893389345,8.7506527919086141E-2,7.8732619863743664E-2,0.10200086030948323,6.8751960196609715E-2,0.12753976960679372,0.14384809719191205,8.3654616675704452E-2,0.21716522719012671,0.15850051643585705,7.5853908344369156E-2,7.110350653276104E-2,3.0827092778298849E-2,4.3534426613812946E-2,0.17739550083104647,0.14673147622211177,0.10030381656094114,8.065282747793856E-2,5.1809375817904534E-2,null,null,null,null,null,null,0.37354730771571298,30,"  Virginia",4167.674]
[1990,-6.7841460881909427E-2,-4.437416992393637E-2,-0.19613686685491852,3.3006139304816828E-2,-0.28376429618894905,-6.6783018271306199E-2,-0.43009226334052558,-6.6011344680684744E-2,-5.7558456926846108E-2,-0.19049567780548024,-0.16666553788031885,-0.20294812888765795,-0.19049567780548024,8.2930833333333343E-2,8.1641666666666668E-2,7.8825000000000006E-2,8.2541666666666666E-2,8.3699999999999997E-2,8.5166666666666654E-2,8.5499999999999993E-2,8.6630372732278638E-2,8.6083333333333331E-2,7.4933333333333338E-2,7.453333333333334E-2,8.1475000000000006E-2,8.1708333333333341E-2,9.3216666666666656E-2,0.10354999999999999,null,7.2741666666666663E-2,0.10128833333333331,-5.5298640196225754E-2,-3.2218797556274444E-2,-9.5233307030041306E-3,5.9270904723254414E-2,4.9211482903281714E-2,-3.1603037784280398E-2,9.3184030988477676E-2,8.4346228884041502E-2,9.0341104040311968E-2,9.425188216584067E-2,5.8962470438200291E-2,0.11347351239592614,0.13681191255084513,0.10574844229922888,0.12313750672068284,7.5177242035397412E-2,0.20271282940929564,6.6858222451682381E-2,6.3226964902223431E-2,7.5239351369540214E-2,0.15706229233248423,0.11147151586758139,1.6410903454081777E-2,2.6381729942327146E-2,4.3141255164509673E-2,0.14700930944724735,7.7576096161551936E-2,0.10587521255803697,0.26183834735388611,0.12914869965428671,0.10722472733281367,5.2599059750804249E-2,-1.2498530714912595E-2,1.3566907502169257E-2,7.4011672196178074E-2,2.8147233539976977E-2,3.1506275414057719E-2,0.16050648788936919,7.5070431646390937E-3,4.6708996639685703E-2,0.14193005442775755,6.2078219493054872E-2,3.8400120486618866E-2,-2.148330290302641E-2,0.19527308304498189,0.18079406628204656,-6.8416396564455043E-2,5.1916105975773983E-3,0.13329125395119718,null,null,null,null,null,null,0.1105940797701197,31,"  Alabama",3736.7749999999996]
[1991,0.23354292684587502,0.18496326570743432,0.45017893107999274,0.18715977048160223,9.7004833991663167E-2,9.5008173741014723E-2,9.8161966613798543E-2,0.2291876437847026,0.24032602690865304,0.3051221698579869,0.30524835303270564,0.27637225016466949,0.3051221698579869,5.9181666666666667E-2,5.8616666666666657E-2,5.8583333333333334E-2,6.8125000000000005E-2,7.3700000000000002E-2,7.6749999999999999E-2,7.8583333333333338E-2,8.1066226986729634E-2,8.1358333333333324E-2,5.3749999999999999E-2,5.4408333333333336E-2,5.8349999999999999E-2,5.9099999999999993E-2,8.7691666666666668E-2,9.8016666666666682E-2,null,6.9200000000000012E-2,9.2477500000000018E-2,-6.3713498265794574E-2,-6.7633496077239078E-2,-8.0184765052041751E-2,3.0182637105128102E-2,-2.3871551269916337E-2,-8.9462474139482689E-2,8.6832391259628841E-2,8.9996674723432243E-2,5.4604998676194474E-3,0.20734319118190916,0.12456312179731206,0.13229139008678464,0.27499731116525605,9.6076873209423059E-3,5.1625926402219538E-2,4.3482197756867014E-2,9.0278875820263851E-2,9.4006120256533959E-2,8.6580211196440257E-2,0.12151106708034365,0.10572592011821168,2.4405994638541092E-2,5.1412524757274827E-2,-5.0089018244274905E-2,0.1013422046579586,0.1468197081978071,9.5927122035119841E-2,0.11019978022751702,0.10826480232290986,8.8659910820855822E-2,0.1453193695550104,0.17960658954351938,9.6959966265901587E-2,4.0897714191549916E-2,0.11675686113908162,8.4469456126870998E-2,5.8298971415485054E-2,0.1228017755855957,1.4777282431528566E-2,0.11747579839196622,8.7052654243753969E-2,6.2951778175337744E-2,4.8257084549672195E-2,9.2282035312038213E-2,-9.1173180472538473E-2,0.16239316426629019,8.4477646540889392E-2,0.11663830318375867,0.1252038437505987,8.8786651308639275E-2,0.14197470615653329,6.2087008809023736E-2,7.7053774011005327E-2,7.0989264859725676E-2,6.7004435501971882E-2,0.20270965661433982,32,"  Florida",3715.7687971102246]
[1992,4.3674858582634285E-2,4.0902778936985087E-2,0.14369758883966463,6.7187832417350032E-2,-0.14951429432281374,-7.6340413096865276E-2,-0.21468224948887282,2.9234274308327486E-2,4.0800467418401876E-2,0.11489360068768195,0.13618700536460601,1.9002019477990382E-2,0.11489360068768195,3.845083333333333E-2,3.7066666666666664E-2,3.8891666666666665E-2,5.3066666666666665E-2,6.1883333333333332E-2,6.630833333333333E-2,7.010000000000001E-2,7.4913949869092999E-2,7.6666666666666675E-2,3.4316666666666669E-2,3.5466666666666667E-2,3.6816666666666664E-2,3.7641666666666664E-2,8.1399999999999986E-2,8.9766666666666689E-2,null,6.4416666666666664E-2,8.3990416666666651E-2,5.9656697570180169E-2,-2.5899607536247655E-2,-1.254477814337121E-2,2.8593799366740807E-2,1.4561285118820376E-2,-5.9050751273952054E-2,7.5868610388481583E-2,7.6472992033884857E-2,0.11125611397622838,0.1667367564777506,3.038169918530852E-2,7.3009675542053773E-2,4.5340337621516097E-2,-3.8491739554907874E-2,-1.3152302867148118E-2,-3.4867276040066994E-2,0.15554363645349628,0.10667568824443453,8.0774992558784384E-2,9.1823966409619415E-2,0.13225821550555925,7.4005735523410915E-2,6.111392656861897E-2,7.2371612935457089E-2,4.4395875346352566E-2,6.4718334937061792E-2,4.5338272285714354E-2,8.7937548991270376E-2,0.14214694821638652,0.10423776439329317,5.6680685142462037E-2,7.501814365759199E-2,6.0955295671828884E-2,7.2964038782978441E-2,1.3488437719172729E-2,9.7861512397915545E-2,9.0595345343310776E-2,0.14378028522345637,7.7343605324008094E-2,5.4905023178038422E-2,3.8041353708195072E-2,6.4843361608202296E-2,5.1917651544694222E-2,0.1059615549267118,0.11505873368604613,0.1226295650165684,0.20231739190854622,7.5377193553139099E-2,1.2097712286218679E-2,6.3392570085900157E-2,6.64434195221415E-2,5.3120744757814364E-2,7.7013369418291733E-2,7.6226355060710294E-2,6.1757451883533321E-2,0.37317058280724313]
[1993,6.8173948974774176E-2,0.1285928297995009,0.13758550203599507,9.9013595158171652E-2,0.26615278100791184,0.23396421227708103,0.2954271677081925,7.2057705699562519E-2,6.7814529858053668E-2,0.17014066035474434,0.17943848594327663,0.13583160955107629,0.17014066035474434,3.325666666666667E-2,3.1791666666666656E-2,3.4341666666666659E-2,4.4433333333333332E-2,5.1475E-2,5.5449999999999992E-2,5.8733333333333325E-2,6.2833333333333338E-2,6.5983333333333338E-2,2.9975000000000002E-2,3.1224999999999999E-2,3.1741666666666668E-2,3.2799999999999996E-2,7.2191666666666696E-2,7.9299999999999995E-2,null,5.5975000000000004E-2,7.3265833333333349E-2,-1.9572890520496936E-2,0.10988272718850647,4.2318727386563781E-2,2.7113235408560886E-2,8.4674510990985965E-3,0.1627817366551508,0.10146402075197805,9.7623686124282613E-2,9.8952635837878333E-2,0.12051449895751128,0.13655196827520452,6.2553189750363017E-2,0.19452564383726195,0.11763322284390755,2.7057125326810288E-2,0.12922905820028099,0.10313926471502535,6.1923267173786892E-2,0.10518484924670415,0.12270002208579532,0.11995181629898648,0.12888801199180644,9.8488428524822064E-2,0.15547559136673544,4.5632824868351157E-2,8.9306588192303513E-2,8.725496295434558E-2,0.12953990738693424,0.18411482011032024,0.10042309799566572,3.3639336637683225E-2,-2.3347326886125255E-2,0.10012833913577177,0.10101335766115853,0.1273108980294663,7.9508989243948641E-2,0.10593142315245055,0.20649562752601888,1.1114991177949857E-3,8.782335065825618E-3,2.0877170479249717E-2,0.12897516895662259,9.9142445349212002E-2,0.1319936454537094,1.3518082102593762E-2,0.12718342680108433,2.9273838123610486E-2,0.11023475373527951,0.18175732546943191,8.494684638325567E-2,8.3069149327405611E-2,0.10744976288290187,0.11528391327431131,7.9637363050295562E-2,6.1608985771335334E-2,0.22364725117048967]
[1994,-1.5512560994870606E-2,2.1164392801228678E-2,-3.2499785931354358E-2,-4.2719771565846512E-2,6.0531887211366563E-2,1.1838447140646152E-3,0.1119269304816657,-1.1047008336217808E-2,-8.5888965376950382E-3,8.0231569679994896E-3,3.1214861896355563E-2,-0.2784222882548314,8.0231569679994896E-3,4.8555833333333347E-2,4.6224999999999995E-2,5.3099999999999994E-2,6.2641666666666665E-2,6.6833333333333342E-2,6.9016666666666671E-2,7.0799999999999988E-2,7.4866666666666651E-2,7.3700000000000002E-2,4.2466666666666673E-2,4.6324999999999991E-2,4.6291666666666662E-2,4.9558333333333336E-2,7.9625000000000015E-2,8.622500000000001E-2,null,6.1800000000000008E-2,8.3548333333333336E-2,0.29788814865534602,4.463425816983449E-2,0.15286936012580987,2.6397471851024725E-2,2.744454992360083E-2,-2.1936363484206651E-2,0.11617006228960719,0.13605177344187103,0.14840668507126539,0.98607885034224252,0.10902614429126666,4.2459771521565708E-2,0.23275232993769701,6.7299829935741087E-2,2.866533514207275E-2,4.8525173376164382E-2,0.2456832690624613,0.1280253506815974,0.12353690581952642,0.12259120449046307,0.20004479243475909,0.10009217641331472,7.8090942775666208E-2,6.2791360098828436E-2,9.4033455592763215E-2,6.0113227812408299E-2,0.13180021745086382,0.13625343981013663,0.23170734027696746,0.17178719608455942,3.2648246396405518E-3,9.1261600127158615E-2,3.8515598355984323E-2,4.3745503611918479E-2,0.12486239520150821,0.1046953262808735,0.12059091932692147,0.23467014618714702,5.2302160875789525E-2,7.5440226657084108E-2,0.11483620508170871,3.5352741083218328E-2,9.8509214540765846E-2,0.36458081438225581,-7.8782043747937965E-3,0.24094067605917613,5.0293436159169036E-2,8.2704352991693486E-2,0.1596697755071616,9.3484464720394733E-2,0.13404104594578081,6.844583871901766E-2,8.2615311616279774E-2,8.0814324511223168E-2,6.0252553054401359E-2,0.15449222838303189]
[1995,0.29349504830068318,0.28857490346951542,0.33588882876172554,0.28413291278530056,9.0026662132340063E-2,0.1728904050283841,1.7435200125783291E-2,0.29005958361185946,0.29816007503973796,0.16812962469573212,0.14207997870964587,0.4911393893583888,0.16812962469573212,6.038166666666666E-2,5.9241666666666672E-2,5.9483333333333333E-2,6.2633333333333346E-2,6.3908333333333345E-2,6.5033333333333332E-2,6.5799999999999997E-2,6.9608333333333328E-2,6.8841666666666662E-2,5.489999999999999E-2,5.565833333333333E-2,5.9166666666666673E-2,5.9808333333333324E-2,7.5899999999999995E-2,8.2008333333333322E-2,null,5.9533333333333334E-2,7.952833333333334E-2,-6.9196782760765393E-2,2.7261910905782515E-2,1.0850770717599292E-2,2.506727560166927E-2,3.0697079108975883E-2,9.737175277858244E-3,0.11043746181376674,9.9907345749349119E-2,0.14846681872516654,6.0827577728864886E-2,0.12769814529002624,3.9640539558709428E-2,0.14801842439244689,5.9180771721424066E-2,2.472934735630803E-2,0.12134696337409187,0.14690558765297668,0.12982357102888872,0.12271059337617773,0.11285914579893377,0.11380513813252793,0.12672711747923429,0.13598259953314973,2.6684606252290882E-2,0.11854085723677564,9.9370117043050252E-2,0.13211793247108827,0.11717894103743874,0.11633529735198749,0.12740036645311503,6.3940356970998919E-3,5.2159831583938741E-2,2.3644564541358278E-2,9.8801247996801761E-2,0.12618636502677386,0.14486311374265376,9.9389674537418538E-2,0.19027345459762623,2.8737637001290971E-2,0.12938967169592128,0.11401726581967486,9.3800621208271026E-2,5.7086012588799383E-2,5.0579034179533647E-2,9.618428378170743E-2,0.15226108005455069,7.7105697005020207E-2,9.9095953851515303E-2,9.9881171818684597E-2,9.6574650218259617E-2,0.14028820763406857,7.8073340636304778E-2,0.10224876044977971,7.4616947222487573E-2,5.3815567194233971E-2,0.1384090796377373]
[1996,0.1845163658185163,0.23122865784381452,0.20462366856931763,0.19194077349921659,4.3036108575351797E-2,0.16973328238127397,-9.9103605385270896E-2,0.19560657902896633,0.19355349589528506,0.30567093380749599,0.30207795509061663,0.41120713446289575,0.30567093380749599,5.5323333333333335E-2,5.3841666666666683E-2,5.5125E-2,5.9899999999999995E-2,6.1766666666666664E-2,6.3391666666666679E-2,6.438333333333332E-2,6.8225000000000008E-2,6.700833333333335E-2,5.0058333333333344E-2,5.0808333333333337E-2,5.3900000000000003E-2,5.4649999999999997E-2,7.3700000000000002E-2,8.0541666666666678E-2,null,5.7575000000000001E-2,7.804291666666667E-2,-0.11308017398412183,-1.4789308270864929E-2,-3.0485716120848532E-3,3.2684742173495825E-2,2.6689182256394977E-2,-4.6950771618292635E-2,9.7209752287076151E-2,8.7244739705398477E-2,7.79467572781294E-2,7.182800588502096E-2,9.5335014638864207E-2,0.11383503635612698,0.13492418475673293,6.5665930699388544E-2,2.1659089524396994E-2,0.1069245996687767,0.13707625073396701,8.791482691172986E-2,0.11775495068852194,0.1306445328554624,7.9083052126358647E-2,8.0117636230204417E-2,0.13349746731247794,1.4300166743591882E-2,9.0145282555164741E-2,0.1396260359827324,0.106075035086329,0.12425634005157163,7.4265487934887769E-2,0.12179658312954655,1.3173365413702544E-2,1.2282709231905425E-2,-4.3380107783812134E-3,9.895150190291177E-2,9.7654942775924861E-2,6.9743131647403991E-2,4.3573627470102655E-2,0.14920579267024625,3.5767272716169057E-2,3.3521414711206524E-2,8.812143897657615E-2,0.15672874039220097,6.4114183590467735E-2,6.6629196413127437E-2,8.3774590827891432E-2,0.14446213073130459,8.3142297299213061E-2,0.11007456644163634,0.10577916833774441,9.8028887544981957E-2,0.13841757291715751,7.9064267880318395E-2,9.3248569683099802E-2,8.4206980009901455E-2,5.6944005531374131E-2,0.10732754597667471]
[1997,0.27008958570724206,0.20409631067926537,0.19585817505666975,0.21466865076999236,2.3757782999004715E-3,0.19537555772000303,-0.30520199889442284,0.26688381846422543,0.27558712833945198,0.1727837401458486,0.18448747058302817,3.7519460298543909E-2,0.1727837401458486,5.7914999999999994E-2,5.6050000000000003E-2,5.6299999999999996E-2,6.1016666666666677E-2,6.2225000000000003E-2,6.3241666666666668E-2,6.3524999999999998E-2,6.6841666666666674E-2,6.605833333333333E-2,5.0608333333333338E-2,5.1766666666666669E-2,5.6158333333333345E-2,5.7241666666666663E-2,7.2616666666666677E-2,7.8625000000000014E-2,7.2616666666666677E-2,5.522500000000001E-2,7.5957916666666667E-2,-6.4149692985795106E-2,-4.4679431131927537E-2,-5.8620784611326311E-2,1.6880675930415711E-2,-1.7976255849471299E-2,-0.24090358096140177,8.4339083635399867E-2,7.6325441065304603E-2,5.6978346115367409E-2,7.3313867224265847E-2,0.12751682016428101,7.6693763622288177E-2,0.11963506224737593,3.1163474998068333E-2,2.6290008748900764E-2,8.1417386225950183E-2,0.12567329859969237,8.545764449279189E-2,0.11642591717674379,0.15509252713589064,6.9156584205300589E-2,8.1059059664168737E-2,5.6599600201359436E-2,2.5088720566868349E-2,0.1023454666066598,0.11379528669789057,0.1341218433184968,0.11192067280747374,3.827083562120849E-2,8.8892141108862927E-2,-6.9537537057925199E-4,1.2047235769937468E-2,3.7617428696768498E-3,6.8456456761570639E-2,8.9788450883157039E-2,6.7781096435743329E-2,8.4675356737139398E-2,8.432997658410632E-2,1.8606184360195153E-2,4.7327171211391114E-2,0.11274720088538787,0.10221515227631864,5.8206138613181621E-2,7.6634425639344916E-2,3.7593367393897133E-2,0.1349335363586672,8.7441590335670269E-2,6.8413751413050936E-2,7.817129696972612E-2,8.7972839273065651E-2,0.13925748431401219,5.2888393290263735E-2,7.8946141136036596E-2,8.8039083866983336E-2,5.7085397010652184E-2,0.18909906533059972]
[1998,0.23640396383776424,0.14927012506557916,0.33383057612317901,0.16201815225023197,0.16746632223562458,0.23529286952046238,1.1498693316068776E-2,0.23988815841492675,0.25301031928986834,-0.20853439853536512,-0.19239850498860941,-0.34557207023923903,-0.20853439853536512,5.614750000000001E-2,5.4458333333333338E-2,5.0516666666666668E-2,5.1375000000000004E-2,5.1500000000000004E-2,5.2791666666666667E-2,5.2641666666666663E-2,5.7183333333333329E-2,5.5783333333333331E-2,4.7766666666666666E-2,4.8283333333333338E-2,5.4666666666666662E-2,5.4441666666666666E-2,6.5316666666666662E-2,7.2208333333333347E-2,6.5316666666666662E-2,5.0908333333333333E-2,6.9462916666666666E-2,-0.16826874167194464,-0.18090857280817971,-0.14458204637599872,1.5990500618620819E-2,-3.2054026290083484E-2,-8.3045459968199217E-3,9.3137917875689896E-2,8.2871587599115684E-2,8.2901838780846962E-2,0.10419100115127471,0.13720228799454892,8.1172862056162809E-2,0.11150339740368136,4.8470732018144669E-2,2.1583131879544748E-2,9.0160355031975031E-2,0.12016200672173515,0.11445279332334464,0.13695329378214402,0.11337255404354668,6.95368389783345E-2,0.10850980707911508,6.5007886461928149E-2,2.2207515445495065E-2,0.11529506254049401,0.11813427897608764,0.12783964985070559,0.10494194876468124,5.1352501411337202E-2,0.11222664201779535,-1.4038292479047636E-2,7.2745104551240163E-3,3.8707027547837156E-2,5.6429384407479737E-2,9.749284893749216E-2,0.10410913831465256,0.10686287053751245,4.8433401798105555E-2,4.3385864223291978E-2,7.1138435072107681E-2,0.13406824528430153,0.11776213560332723,9.9378453834524094E-2,5.7102026181162606E-2,3.6035013807761335E-2,0.12129919291455518,5.345475870192043E-2,9.414065771322816E-2,6.7521032995484828E-2,7.2384927560367407E-2,4.0837804855879511E-2,6.2179695283886449E-2,0.10371209710245699,9.8460196403302946E-2,5.4272925911248882E-2,5.8772245037695736E-2]
[1999,0.17836410941645447,0.22491186373351438,0.61834435133808263,3.4843944736339533E-2,0.22527076393318396,0.13209334109056969,0.44574786424125329,0.1980890405544706,0.18943740417409172,-6.6951510340938644E-2,-4.7301090562876597E-2,-0.4037286312663485,-6.6951510340938644E-2,5.4800000000000001E-2,5.3041666666666674E-2,5.0775000000000008E-2,5.4850000000000003E-2,5.5408333333333323E-2,5.7766666666666661E-2,5.6366666666666669E-2,6.1900000000000004E-2,5.8658333333333319E-2,4.6383333333333339E-2,4.7449999999999999E-2,5.33E-2,5.4575000000000005E-2,7.0416666666666669E-2,7.8708333333333338E-2,7.0416666666666669E-2,5.427499999999999E-2,7.4285000000000004E-2,-8.972821876673355E-2,7.0268075221964821E-2,-3.4470513365302227E-2,2.6491615446976285E-2,3.9909526230392359E-2,8.4768261247334178E-3,9.9178487304298818E-2,9.3178645617816774E-2,6.157495748321816E-2,0.11359874454299805,0.11891958090812103,0.11137512065818686,8.1617737315217515E-2,0.10173065170638265,5.1139830544649031E-2,0.10515141510041642,0.12713741057877387,8.1219337390528737E-2,9.1067609492584981E-2,8.5545880261492638E-2,8.5715755534203214E-2,0.10474208607362472,9.7220490764283587E-2,4.7855174598418662E-2,0.14854220675475688,0.11797084953089672,0.12242279728204654,0.11735721194829156,0.10059419015269022,0.11397784483909644,4.1164185815024137E-2,1.1689979145302561E-2,5.5873670088110755E-2,9.0007818767160908E-2,6.82054329070889E-2,9.7203361853665057E-2,6.4971246919825226E-2,9.2333401071314936E-2,8.7526759972880439E-2,9.1435782360400175E-2,9.8664354205934446E-2,0.10113397552449126,0.10366320696021909,7.8277830041542443E-2,9.4447911576162946E-2,0.10834401043910245,6.8400082949849728E-2,0.18804413083852611,9.2460445433007771E-2,6.9505531357993755E-2,1.4025206808498281E-2,7.7242419961208952E-2,0.11202917710837257,8.0808245937193712E-2,5.3854834461466661E-2,0.10924037752343008]
[2000,-0.10690823119474545,-6.3660424377489741E-2,-0.49904479711447797,6.5233177942523965E-2,-0.16494427310565363,-0.10157579443236113,-0.30668393134006544,-0.13679693623466868,-0.14567275519707618,0.23024000991244689,0.23400731336517419,0.148079916262533,0.23024000991244689,6.5281666666666668E-2,6.4475000000000005E-2,6.1083333333333337E-2,6.2166666666666676E-2,6.1524999999999996E-2,6.1975000000000009E-2,6.029166666666666E-2,6.2300000000000001E-2,5.9424999999999992E-2,5.8166666666666665E-2,5.8983333333333332E-2,6.4558333333333343E-2,6.5833333333333327E-2,7.6225000000000001E-2,8.3641666666666656E-2,7.6225000000000001E-2,5.7091666666666673E-2,8.0616250000000014E-2,3.2839856238174925E-2,0.10490706393169398,-1.4449325056213151E-2,3.3307198017768547E-2,6.3657851771977414E-2,-5.5973525582102709E-2,9.8482043156014956E-2,9.405203474269469E-2,6.6149457490185859E-2,0.10153196839478323,0.11577895942375663,0.11728551685610826,8.6259561501895191E-2,9.7449425595680303E-2,6.6010603609745089E-2,9.697379408660757E-2,0.11444645536562496,6.0397331201550442E-2,7.8925039640639599E-2,7.3436300384616515E-2,8.7473670904007372E-2,0.10055661739569653,7.6401579364453118E-2,9.7048473643627758E-2,0.12237073108793686,0.11329650726101244,0.12637028219961266,0.11206274392992507,0.10659384065852756,0.11687129880349018,3.9668568039108482E-2,4.2391144772828564E-2,7.6258374678576879E-2,0.10386694697273201,8.3102019448784148E-2,8.6599953055404771E-2,6.1891067421063595E-2,0.10216059827259039,7.783708850767565E-2,7.4349517432069648E-2,0.11677590449313693,9.8875839575714608E-2,9.0497535329593634E-2,7.113810003816029E-2,8.3149592524831104E-2,0.14575929844670782,6.3820578957684754E-2,0.18699087110027551,0.11731026658406081,6.979519749648655E-2,5.6605852097204368E-2,4.6693533002727383E-2,0.10888236834443732,9.9729516638853877E-2,5.3664876011253249E-2,4.4076035289979831E-2]
[2001,-0.13975285343533808,-7.3695633116226261E-2,-0.23639417505325025,-0.13730172250991796,-0.25632655161945134,-0.23864320361785465,-0.30394703665541656,-0.14613218486855542,-0.14187561108073815,0.14411784890348153,0.13043956810206137,0.57291527241851803,0.14411784890348153,3.6296666666666665E-2,3.6850000000000008E-2,3.4808333333333337E-2,4.0808333333333335E-2,4.5508333333333331E-2,4.8766666666666666E-2,5.0175000000000011E-2,5.6308333333333342E-2,5.4933333333333334E-2,3.3883333333333321E-2,3.3341666666666672E-2,3.6866666666666673E-2,3.6408333333333334E-2,7.0824999999999999E-2,7.947499999999999E-2,7.0824999999999999E-2,5.1524999999999987E-2,6.9710416666666677E-2,-0.17185829784241219,-0.17837028106997718,-5.4543546430738311E-2,1.5398080111121662E-2,-6.1313184812723451E-2,7.4417259664912713E-3,9.3878179524820957E-2,9.0156432153550653E-2,6.485714577800375E-2,0.11036362766564276,0.10192380161821381,0.11379202762292343,0.10052153092095949,9.0396302519662394E-2,4.3186642630422829E-2,0.1079995504357909,9.9152741980555084E-2,5.5540078755616291E-2,7.6132813685190148E-2,7.8267045441185595E-2,8.1024920685957583E-2,9.3890723407481724E-2,0.10210488699820967,6.366534157102767E-2,0.1069640068349941,0.10903911731957228,0.11196219167032836,9.9723169422205257E-2,0.10352737173991457,9.9237399976769752E-2,6.2701186269554718E-2,4.060007200808162E-2,7.2350518867254063E-2,0.10419816544230917,8.322629225989675E-2,8.2749569135560974E-2,6.1824644660912628E-2,9.8233017749057808E-2,7.3116717835318729E-2,7.1677892829961815E-2,0.12209407629967721,7.0251333046295064E-2,9.9717732522937988E-2,9.9097993223482644E-2,7.7606284711370321E-2,0.14692376010632829,6.082479982947929E-2,0.16296246523305655,9.2984757584413186E-2,2.013451434850122E-2,3.5761137656652897E-2,-3.50457251676356E-2,-1.9700642155162429E-2,7.0849841149438264E-2,5.2755788281922955E-2,-5.2457817539932172E-2]
[2002,-0.26612891976724418,-0.18348013124213911,-0.37872123837275273,-0.22823252694660193,-0.19257341540446568,-0.22447760832352825,-0.11015862374493446,-0.26943944619981547,-0.27403704714832477,5.084111280478857E-2,3.7496045586108175E-2,0.27060315814762376,5.084111280478857E-2,1.7869999999999997E-2,1.7258333333333337E-2,2.0016666666666665E-2,3.0999999999999993E-2,3.8149999999999996E-2,4.3041666666666673E-2,4.6108333333333328E-2,5.4299999999999994E-2,5.4250000000000007E-2,1.6041666666666666E-2,1.675833333333333E-2,1.7258333333333337E-2,1.8058333333333332E-2,6.4916666666666664E-2,7.8016666666666665E-2,6.4916666666666664E-2,5.0375000000000003E-2,6.536708333333334E-2,0.14997087432366879,0.20731141635503278,0.14138004913406982,2.3491013075598737E-2,3.6785756816511125E-2,0.22769016182380564,9.1020370884313556E-2,8.7920901318919026E-2,5.6406629186407056E-2,0.13633123632741143,9.8907939617137119E-2,0.10923732043902068,9.6653471753165396E-2,9.718214135281629E-2,4.9988001764883758E-2,9.9599358983846517E-2,8.703831926913641E-2,6.8106239024780191E-2,8.1207358666256099E-2,8.7512539149481455E-2,7.917911043286488E-2,7.564941468253833E-2,9.0615711435661717E-2,6.0914808810627399E-2,9.8826288904467208E-2,0.11752421374181884,9.7014014178449057E-2,0.1014505026813786,9.8078922730958154E-2,9.7334128311319504E-2,5.9757771630857888E-2,3.875494094882663E-2,7.1771752736191616E-2,9.2249304349162758E-2,8.3253571270390056E-2,7.4477300141921859E-2,7.4561296382528938E-2,9.8321200631930103E-2,8.4672276910269767E-2,6.785530455839299E-2,0.1171418499380239,6.7563759814051105E-2,8.6147239578402771E-2,8.362881733562598E-2,7.2045047441582868E-2,0.17798532850995441,5.7925460727239267E-2,0.12213245564005293,8.9754604085848066E-2,6.8631552975656485E-2,8.7870620204049343E-2,6.2651023700690311E-2,8.3098181515192548E-2,6.5314699752539784E-2,5.2946052871421623E-2,1.8822738985699861E-2]
[2003,0.23412618868107046,0.22571838676915318,0.40581697167856828,0.29689096651551977,0.3021959792073351,0.29855137080617289,0.31003161783600081,0.24508206913716768,0.23729026615472701,0.32545711109477432,0.31578622949971968,0.45355499906219354,0.32545711109477432,1.2155666666666665E-2,1.1416666666666665E-2,1.2441666666666669E-2,2.1066666666666668E-2,2.9683333333333336E-2,3.5225000000000006E-2,4.0149999999999998E-2,4.9575000000000008E-2,5.42740905471817E-2,1.0108333333333332E-2,1.0541666666666664E-2,1.1508333333333332E-2,1.1674999999999998E-2,5.6666666666666671E-2,6.765833333333332E-2,5.6666666666666671E-2,4.7483333333333343E-2,5.8195416666666666E-2,0.19466541556625178,8.4859281779887843E-2,0.14905635960470526,1.8620472274528281E-2,4.8467635542220604E-2,0.18138505850845857,8.8323152175722397E-2,8.4388327604297861E-2,5.3592101362815836E-2,9.0518462236071587E-2,0.10387377867209613,0.10238242697948222,9.4826608723940164E-2,8.9995509859812389E-2,6.8458973354558444E-2,9.208937345465501E-2,8.4500498531489068E-2,7.4761492862245191E-2,7.8807445125212955E-2,9.630800945115453E-2,8.0400514008340501E-2,6.7633009562659843E-2,8.7634230807175029E-2,4.5888177708048018E-2,9.8625903833390274E-2,0.11261430894268176,0.10126854856321435,0.10354908818733109,9.4270003843035521E-2,8.6605189239411143E-2,5.6027376498938741E-2,3.7324724266321788E-2,6.8838786556935455E-2,8.1011165533225349E-2,9.1405533604204545E-2,7.3616881059246575E-2,7.2201955921035371E-2,9.645881835011455E-2,6.4044625253099785E-2,8.9162818694129162E-2,0.12276099683516518,6.5209549663939298E-2,6.8446627661267412E-2,7.5131352188618772E-2,7.4521038587069946E-2,0.17528856522776559,6.2319092877678235E-2,9.0334819865158511E-2,8.7213047823476594E-2,9.6822545457439402E-2,0.10705717902212464,0.10604738600280639,9.7113948134761818E-2,8.3148304388961813E-2,5.1107417079068185E-2,7.6648970131812266E-2]
[2004,8.6117628073565614E-2,3.0994719596933645E-2,8.2100729880883197E-2,7.8947518033661568E-2,0.16204394532165037,0.16424292236655,0.15860042775947319,8.9465731747476171E-2,8.4362178520455647E-2,0.26550935803678327,0.27442581799320231,0.16917750804674445,0.26550935803678327,1.6721083333333334E-2,1.5449999999999998E-2,1.8866666666666667E-2,2.7799999999999998E-2,3.4291666666666672E-2,3.8683333333333333E-2,4.2741666666666671E-2,5.0466666666666667E-2,4.9981564051324728E-2,1.3716666666666669E-2,1.575E-2,1.5633333333333336E-2,1.7358333333333337E-2,5.6283333333333331E-2,6.3933333333333342E-2,5.6283333333333331E-2,4.6775000000000011E-2,5.8384999999999999E-2,-5.7028487285994904E-2,0.10622190960302333,3.25759443870378E-2,3.2036909626326174E-2,7.3903138068613872E-2,4.5438349764151793E-2,9.3628167288854452E-2,0.10328867181124969,6.6862225250792884E-2,8.7024079849692376E-2,0.1584355972926495,0.10305748243455011,0.10107394302275559,0.43069600034063393,1.215584031007284E-2,7.8979054453160072E-2,9.20370691821642E-2,9.2955622696658385E-2,0.10114172060490494,0.13737106041256769,7.3514837497310886E-2,7.0624156989517461E-2,8.0897645403636129E-2,0.30680821306349471,9.6562327042110332E-2,0.15623922985560221,9.2089656236576362E-2,0.10143827189930685,6.9717821397189864E-2,0.11064734717645699,0.17043880942240852,-1.928583916083916E-3,5.5564023502125449E-2,6.0915060753495606E-2,0.1445420775840234,8.1791923368095307E-2,0.10029428242270394,0.10695523472595654,3.0166637516556179E-2,5.5190854970857933E-2,0.11767263422475759,5.3136485807692514E-2,6.276559288882351E-2,9.8569283963104229E-3,0.14712213187559442,0.14565282388604422,8.0159605493685435E-2,9.3721535529490363E-2,0.10048828339689445,0.20495172553929319,0.21566151687500357,0.23510595672969248,0.26080120159973608,0.12487268145682595,5.0171646412399351E-2,0.11199742785961297]
[2005,2.9568735880032684E-2,-6.0938277952099018E-3,1.3641680154220783E-2,0.13401097899906469,0.1031389509098551,6.3365348752055684E-2,0.18719566092762652,4.8756962394909793E-2,3.7285332840058361E-2,7.9625648727419659E-2,0.11478151325192043,-0.26380437918488908,7.9625648727419659E-2,3.6346500000000004E-2,3.5016666666666675E-2,3.6183333333333338E-2,3.925E-2,4.0458333333333332E-2,4.1516666666666667E-2,4.2900000000000001E-2,4.6458333333333331E-2,4.2200315328826676E-2,3.1466666666666671E-2,3.3925000000000004E-2,3.5116666666666671E-2,3.7233333333333334E-2,5.2350000000000001E-2,6.0641666666666677E-2,5.2350000000000001E-2,4.3975E-2,5.8648750000000006E-2,0.13251785387460246,0.21216415998694035,3.4553283137626227E-2,3.3586210316049248E-2,8.1782461476728088E-2,0.16355145411196409,0.19252910279687629,0.19990381690929473,0.12004556204234501,0.39336111901856891,0.16988776886517398,0.32206452774397248,0.22552370410609895,0.33812455448671641,0.49754483813728095,0.3165999878701084,0.2760122158602224,0.26032932198369796,0.11808193627374602,0.22290329548099219,0.18987185615993682,0.23967820608925886,0.13388967915738423,0.29738818116146321,7.2964764407463883E-2,0.17987231135925821,0.16107654094717969,0.15407854233652879,0.22030483834915093,0.17411951847523485,0.14423898791087497,0.23642812999436277,8.421844986234632E-2,0.17323191556409967,0.16330617675116954,9.6014439654966158E-2,0.21265026216513488,0.14234124875080265,0.1201842495173145,0.11293619939016263,0.23459770583279421,0.14378536102627193,0.19875084245316854,0.17424590091298323,0.21062382244759059,0.18442209776762772,0.24258278391218357,0.14195530206171969,9.5819346993728571E-2,0.33899027354349154,0.20262560003500996,0.43148220043311558,0.55696660261713471,0.12404087114532669,4.5504500685813465E-2,0.1934822937055698]
[2006,0.1276843565704609,0.15089837090726838,9.0946739625117054E-2,0.1324624700326156,0.21083934849319499,0.26407773974620213,9.9249289168561169E-2,0.12526624198844105,0.12384793647695851,0.2952882035704007,0.30055391430329564,0.17667255960741374,0.29281382159986713,5.2285583333333337E-2,5.1849999999999993E-2,4.9324999999999994E-2,4.769166666666666E-2,4.7449999999999999E-2,4.7550000000000002E-2,4.791666666666667E-2,4.9924999999999997E-2,4.8981818181818182E-2,4.7266666666666672E-2,4.8025000000000005E-2,5.1533333333333334E-2,5.2333333333333336E-2,5.5874999999999994E-2,6.4791666666666664E-2,5.5874999999999994E-2,4.4008333333333337E-2,6.4108333333333337E-2,0.21708408937679743,0.11782102163956019,0.17798709772121471,2.5089123301355518E-2,1.5825041144396892E-2,0.20861354897608783,0.14123977885577144,0.14713830593346541,3.9036095790101068E-2,0.28561900664019285,0.1233784423913709,9.2864706909265404E-2,0.17237613389298828,0.20685276482300199,9.0751708041351048E-2,0.20453383330878117,0.32770245902333739,0.14256308779693794,0.10847576910874543,0.13355717497158728,0.11491735795684341,0.11058850312705333,8.9201380591459933E-2,0.11757123743086016,0.10819861302817455,0.16297738596550493,0.11550119552175885,0.12247488860696944,0.4388689671481254,0.17692054314807523,0.13903977152657646,0.21508085971691762,6.8709248694398206E-2,7.1357175533537681E-2,0.18216286654066174,0.10431579307550008,0.10242281849312614,0.10818851621806537,9.7383255636441138E-2,8.3902049001401691E-2,0.18493179973192575,8.2284014901020219E-2,0.19304345698446182,0.20989218081080285,0.15844472848659003,0.16863974830069003,5.7658509034015128E-2,0.12290125445983584,0.1973812409036268,0.21148821687842223,0.10202052813624007,0.27367473726259472,0.24615019386906245,0.22936040157708004,4.230109319750297E-2,0.13678631296792876]
[2007,3.4687160417172881E-2,6.2339127556459768E-2,9.3600284733276237E-2,-1.3989791086459763E-2,8.271191576927249E-2,0.10397027579553875,3.4587393491898558E-2,5.5227517487371251E-2,4.0053608389698771E-2,-0.19639557446480219,-0.17069038135858902,-0.55076266802134077,-0.19640165021723199,5.2972833333333337E-2,5.3175E-2,4.5216666666666662E-2,4.3375000000000004E-2,4.4250000000000018E-2,4.5041666666666667E-2,4.6291666666666662E-2,4.9083333333333333E-2,4.8341666666666672E-2,4.3533333333333341E-2,4.4299999999999999E-2,5.2683333333333332E-2,5.2266666666666663E-2,5.5558333333333321E-2,6.4825000000000021E-2,5.5558333333333321E-2,4.3958333333333328E-2,6.3404583333333348E-2,0.1515963196745489,0.18697866223117052,0.13180505169237738,4.0001836677190108E-2,7.5573426491239271E-2,0.27704420308297606,0.1349366208262443,0.12862894674706091,6.156053099255112E-2,6.2767907724036273E-2,0.15360170260744863,0.13564443800168904,0.12619153579258396,3.3993002207101122E-2,5.199061140231654E-2,0.14561766100731863,0.14898505976776005,0.14235705172916077,0.14013994161825957,0.18168233200561526,0.16022189079953003,5.0307897257715811E-2,0.12739718050240645,1.5907420035841828E-2,0.12539901272616807,0.17585998296679464,0.14252076106132774,0.15673681460217204,0.16764642437655078,0.1483342542273684,8.3391129038165479E-2,0.1128348793016955,8.1834754464551518E-2,7.3024928259775163E-2,0.16530312991480467,9.7530435710638505E-2,0.13147266206026656,0.19264456845865516,0.1280857726423284,0.10934553639743605,0.16493757954906549,0.1068882218487162,0.1651252060755605,0.15480279160931387,0.10587696648659636,0.18800146200672252,0.14539609827018407,0.17505109551739886,0.23737618560590534,0.15903460497635069,0.18562406308073465,0.15024259312628852,0.12820368787176761,0.15511101992005827,4.2823896135035566E-2,0.18433679757021171]
[2008,-0.48589096961924627,-0.41305025658806666,-0.51987631618195529,-0.56329634197715772,-0.59939386872987555,-0.65775517383121551,-0.4766637862700232,-0.49828269991861451,-0.48737254228243149,-0.46737887011410051,-0.47365246120573795,-0.37555795327224217,-0.4754556674796751,2.9106166666666673E-2,3.2991666666666662E-2,1.8225000000000002E-2,2.2358333333333334E-2,2.7983333333333339E-2,3.1699999999999999E-2,3.6666666666666667E-2,4.3624999999999997E-2,4.2791666666666665E-2,1.3650000000000004E-2,1.6183333333333334E-2,2.9650000000000003E-2,3.1358333333333328E-2,5.6316666666666668E-2,7.4466666666666681E-2,5.6316666666666668E-2,4.860833333333333E-2,6.0361250000000012E-2,-0.39515170377100595,-0.27101779747431143,-0.27158907241254437,9.1371144498648027E-4,-4.4070078320853384E-2,4.227221680221796E-2,9.7931953750283088E-2,8.7738476143563671E-2,5.8476028178119192E-2,8.8727646830889559E-2,0.11926178540802074,0.10160049948293631,4.3145924310103979E-2,-3.2510383184915545E-2,3.80225885029985E-2,-9.873536831843813E-4,3.9067647473661767E-2,0.15313129928401659,0.14571180796148211,0.19324710630914829,7.8276597664374017E-2,6.0867966755591585E-2,8.5758021201077519E-2,-5.6314468595671879E-2,5.2562855545061543E-2,0.12981419236096906,9.3258721618398002E-2,8.7194459130861823E-2,0.10795843826532164,0.20284242527235058,-2.963848571625894E-2,0.11091626822659371,7.8550460151595392E-2,3.5505115463653425E-2,0.21270825719512165,0.1022769963800769,8.5846670362190861E-2,0.13809729762329392,2.9620835314856687E-2,5.4590155393264145E-2,0.21775107644443045,7.5524158170810513E-2,0.1328445877415857,8.0467697684012948E-2,2.4070400775463394E-2,0.13825067731411839,8.8254029991682581E-2,7.3564976030552967E-2,0.15896254124745454,0.15836714793033346,0.17653749642322203,0.16046472581931837,0.12502305779439671,0.13972432671049684,4.1883058403905604E-2,9.5213012563670096E-2]
[2009,0.21069132880745073,0.17243412947737938,0.36386198076821707,0.28131919864861554,0.24488350319220417,0.27185917522796887,0.19184404568907268,0.23335531539539148,0.21674871113295788,0.24253343160917268,0.24678362762175293,0.22017814019833645,0.24530358985955028,6.9214166666666677E-3,1.0366666666666665E-2,4.7083333333333335E-3,1.4266666666666667E-2,2.1908333333333339E-2,2.8058333333333338E-2,3.256666666666666E-2,4.1075000000000007E-2,4.0691666666666668E-2,1.5E-3,2.7916666666666667E-3,5.5583333333333327E-3,8.7500000000000008E-3,5.3133333333333324E-2,7.2958333333333347E-2,5.3133333333333324E-2,4.6208333333333337E-2,5.0413749999999993E-2,0.28461844426806171,0.28838418915589531,0.29011499978044558,2.6849612652751799E-2,4.12666001740708E-2,0.22343094893078772,-1.2049924662179702E-2,-1.9610937420983982E-2,-5.7788952826886581E-3,1.5127784405069278E-2,7.9270196495156448E-3,4.567712497898313E-2,-1.7762336269342557E-3,-0.13853725243434245,-5.2495071703780503E-2,-4.9860639911823407E-2,-8.228174081008327E-2,8.8251642356176069E-3,-4.5987749598307877E-3,-5.6831129312236101E-3,2.8725171428602196E-2,9.1254865981384523E-3,-1.6518359401850192E-3,-7.506067014532708E-2,-4.3322757330775286E-2,-1.7529854607945296E-2,1.0377362324075972E-2,-2.9144377574929509E-2,-0.21889654959291199,4.0771078018947207E-2,-0.10606031456511342,-4.0950067148551227E-2,2.7447599338677332E-2,-4.5087868475760129E-2,4.475816368666953E-2,-3.2594246821304386E-2,2.2822305522433216E-2,-1.577209913986365E-2,1.5677232923326685E-3,3.8000193380134171E-3,7.3630215002545157E-6,-3.8020891620165677E-2,5.8881311704516428E-3,-1.0893484594671059E-2,-4.5834616379398882E-2,7.3247001923315611E-2,-5.1776453811825246E-2,-2.2434717669406481E-2,-1.4100406113845039E-2,6.3246360537620339E-2,5.8435221643388324E-2,6.0500594162824495E-2,5.5857540384947724E-2,9.4785436029175996E-2,4.2963648923073139E-2,-4.7599945586919934E-2]
[2010,0.12029045787895962,0.10456513227369264,0.15623676079376786,0.16751911131105277,4.7880911139322663E-2,1.0148589146478591E-2,0.12290437459503321,0.12794863670481327,0.12382016505274331,0.24357482922842852,0.2464456724238232,0.2037277838514811,0.24344665060059878,3.4322500000000004E-3,4.5500000000000002E-3,3.1833333333333332E-3,1.1049999999999999E-2,1.9275E-2,2.6166666666666668E-2,3.2141666666666666E-2,4.0300000000000002E-2,4.2508333333333335E-2,1.3666666666666669E-3,1.9416666666666662E-3,3.116666666666666E-3,4.4083333333333327E-3,4.9433333333333322E-2,6.0383333333333331E-2,4.9433333333333322E-2,4.293333333333333E-2,4.6905833333333334E-2,null,null,null,1.484647887032238E-2,6.3098686645352606E-2,0.25651162738374744,4.983252085865348E-2,3.6585581141516312E-2,3.8168499204114935E-2,5.1132316228098039E-3,6.7029326627364397E-2,3.5904805867859067E-2,2.4456029290459792E-2,-8.5259004891848275E-2,-2.8788077979261414E-2,-4.7080084861617313E-2,6.873537609935634E-3,9.0346019341437364E-2,7.9373011231769153E-2,0.17492809781526775,8.3753334804621854E-2,2.2820713820617899E-2,7.7292516187605756E-2,-5.0422978525061057E-2,-3.2256887776426858E-2,5.9493067164189672E-2,6.8946208576283544E-2,8.341207868689525E-2,3.5929285511533002E-2,0.15262097955492743,-5.5350762347958618E-2,5.1461189625667345E-3,4.2187793427230034E-3,-9.5479505359341715E-3,0.11418803611939131,3.1076381170672952E-2,6.5025559349215098E-2,8.9095096325314163E-2,-1.2265139842134617E-2,1.6755144568515332E-2,0.11314923545196254,7.9243497806465821E-2,6.3696026392368793E-2,2.1685168853176139E-2,-4.7832552954027441E-2,0.10629500084976726,-5.5296197219288044E-3,5.0762373235502109E-3,5.323086080498602E-2,8.8059882167749182E-2,0.14320939336844041,8.3749815258033156E-2,0.11956124449337024,9.5162285723200624E-2,4.3239890664450442E-2,-1.5824314605248357E-3]
[2011,-3.1806109956569349E-5,5.3809838021721658E-2,-1.8151817702741109E-2,-3.7642064289874815E-2,-0.16039639959587118,-0.14869708337515586,-0.17716404645836703,-1.5736505286652436E-2,-1.1246955135531423E-3,7.0248555238169919E-2,7.9584616508334732E-2,-2.4453035510574154E-2,7.0502388367206126E-2,3.3703333333333328E-3,4.1250000000000002E-3,1.8166666666666667E-3,7.4999999999999997E-3,1.5224999999999999E-2,2.1625000000000002E-2,2.7858333333333329E-2,3.6208333333333328E-2,3.9108333333333328E-2,5.2500000000000008E-4,9.5833333333333339E-4,3.0333333333333341E-3,4.2166666666666663E-3,4.6391666666666664E-2,5.6641666666666667E-2,4.6391666666666664E-2,4.5099999999999987E-2,4.4558333333333339E-2,null,null,null,2.9193870078125943E-2,5.187298927348475E-2,8.5528005311097166E-2,8.6910621088710435E-2,7.3939469202844846E-2,3.3885265170787091E-2,1.5780192247917915E-3,5.6725548229869568E-2,2.4978117535524143E-2,6.1128753253497967E-2,8.4128891215556334E-3,1.6273859203227218E-2,-2.2425448966168177E-2,2.7063363483221619E-2,0.16238406137498451,0.22040574222389159,0.24859747063240625,0.18747984685811442,1.8964749816154567E-2,0.10384332356500967,-1.0508089027999629E-2,5.027864625728995E-2,0.13441795636400009,9.506538308934534E-2,9.804108828087825E-2,4.7460679722491239E-2,0.26355367221535364,-2.7134186724202376E-2,5.8050951211990484E-2,2.3638730050297173E-2,6.4761142680558548E-2,0.16820160237113105,9.8821071737135627E-2,7.1179027741203618E-2,9.2781962573650914E-2,4.4574603172229145E-3,2.0047422487628686E-2,0.18046415446049896,3.4204035771269882E-2,6.2136744253834225E-2,1.4065970914234819E-2,-2.7851117136853194E-2,9.9274487702474448E-2,0.10923031144535034,8.0948494006431199E-2,7.663507382455445E-2,0.1515721656959883,0.24874723268577159,0.15526690054729131,0.16124347094263136,0.17021418905788144,4.2904751691486887E-2,1.575403663142505E-2]
[2012,0.12580141025535829,7.0053949675876095E-2,0.14760431144545397,0.12641177815287272,0.12711016219680901,0.1410693759326512,0.10406792209061479,0.12137716415196967,0.12683625053461747,0.18352638270681021,0.17982519287253565,0.18137911518261135,0.18004728840850881,4.3031666666666661E-3,4.15E-3,1.7499999999999996E-3,3.8166666666666666E-3,7.6083333333333324E-3,1.219166666666667E-2,1.8024999999999999E-2,2.5441666666666661E-2,2.9208333333333329E-2,8.5833333333333313E-4,1.3416666666666668E-3,2.8250000000000003E-3,4.3666666666666671E-3,3.6733333333333333E-2,4.9349999999999998E-2,3.6733333333333333E-2,3.729166666666666E-2,3.6559166666666663E-2,null,null,null,1.7260402193737968E-2,8.4725151722843933E-3,7.9389326402333718E-2,0.10912844247275331,9.1308774523569294E-2,3.7975555502269165E-2,3.6019474180050637E-2,0.11104008652289819,5.3900049517101534E-2,0.10602173126453671,1.0177198676902538E-2,1.717576377565946E-2,-7.5702753589914712E-2,8.8211019865612195E-2,0.1715407929990605,0.16690095211934761,0.21904502176467466,0.22681425335830274,6.9010439850318323E-2,0.11931737969642055,-7.7224209683223154E-3,9.9454398039722822E-2,0.20348350361371614,6.3335363497318511E-2,0.14369097009358114,9.8887236538416773E-2,0.30950167914977517,-4.1655623848653761E-2,0.14680025855182097,8.3739845608343216E-2,1.0622693957738013E-2,0.25939183943979904,0.12945538802410531,0.1056562497160629,8.0455144754045471E-2,4.8960208657562711E-2,2.1368800243340882E-2,0.23521008638037352,2.7198751886116226E-2,3.0839920334285391E-2,1.9373727047425935E-2,-1.3948900630916933E-2,0.18454211709835719,-1.7835822407192371E-2,8.0383370323416137E-2,8.5024004862861796E-2,0.1857541377053038,0.24817025052988684,0.20795152730346467,0.1697771398998682,0.21044961181215016,4.3918149839135001E-2,7.7518731282240072E-2]
[2013,0.25929220649406615,0.23506747107240289,0.32440055755873926,0.11388817468001979,0.1775241456474633,0.1962240254009677,0.1419068042062176,0.24366702452275898,0.2612203944455348,3.1582084594545839E-2,2.8157193162819436E-2,-1.9795068780808337E-2,2.3135556260503023E-2,2.6739166666666669E-3,2.816666666666667E-3,1.3166666666666667E-3,5.4333333333333343E-3,1.1725000000000001E-2,1.7375000000000002E-2,2.3508333333333332E-2,3.1191666666666666E-2,3.4483333333333331E-2,5.8333333333333327E-4,8.833333333333333E-4,1.858733005875462E-3,2.0243503223579913E-3,4.2350000000000006E-2,5.1016666666666675E-2,4.2350000000000006E-2,4.2708333333333327E-2,3.9819166666666669E-2,null,null,null,1.4905712048226272E-2,2.4783160144670005E-3,-0.31924590000509157,9.3724386129422313E-2,8.086146291647614E-2,6.2879278085996193E-2,6.4109373294533867E-2,6.6920199162545324E-2,2.5642456868179835E-2,0.12624575027087467,1.1353009834680638E-2,1.7713398452741065E-2,3.945145445631535E-2,8.0988986093221166E-2,0.1621368932909342,0.11684285037776093,0.19368897974836313,0.17354956299541566,0.1016326711355003,9.2508372266921365E-2,3.4482699532880405E-2,0.12258666747813604,0.17454055115996425,4.6554441947790084E-2,8.1760048400210131E-2,7.0910751758134855E-2,0.17952508248966853,3.8495350367290217E-2,3.1338218839055902E-2,-1.0329962659557032E-2,1.664263051131247E-2,0.32059158907902569,0.11626047790752388,7.7225809473204954E-2,5.0596760631913623E-2,2.9490456194783153E-2,4.0910157932764861E-3,0.2707846834674667,3.83522635150901E-2,1.3415760243036055E-2,6.9901088424793104E-2,1.9704596936820827E-2,9.8328167727455354E-2,1.8554219307392304E-3,2.2038726674765367E-2,6.0513445416757766E-2,0.20910508605622269,0.13049918597467114,0.29770823097411525,0.32050091071826592,0.15401527821432515,4.1183586508215964E-2,9.6803807420464238E-2]
[2014,0.10787310015833211,7.2498003656670112E-2,0.12570833083274319,5.5568837003287533E-2,-7.6292440310257142E-2,-8.9774710270192903E-2,-5.3250621819913913E-2,9.7732301667074986E-2,0.10526833873575202,0.24017656768675213,0.24707562101444955,0.16451818857540565,0.24081678290251521,2.3376666666666658E-3,2.5000000000000001E-3,1.2083333333333334E-3,8.9583333333333355E-3,1.6408333333333334E-2,2.1425E-2,2.5408333333333335E-2,3.0741666666666667E-2,3.3399999999999999E-2,3.2500000000000009E-4,6.416666666666668E-4,1.858733005875462E-3,2.0243503223579913E-3,4.1625000000000002E-2,4.8541666666666664E-2,4.1625000000000002E-2,4.2325000000000008E-2,4.1728333333333339E-2,null,null,null,7.5364620885402635E-3,-2.2022912087437341E-2,1.2445552322047017E-3,9.6769327910949887E-2,8.7365752073086445E-2,6.988620441240849E-2,7.0761708207377441E-2,8.3890368689011355E-2,8.9832786696122546E-2,0.10993612297796224,6.0481273373381127E-3,2.9036971523523445E-2,3.0815266648245368E-2,0.11780040176977875,7.9188520531972853E-2,8.998883003169908E-2,0.10435586575303721,0.18565035089635737,9.7503700261315315E-2,7.4703875682565965E-2,2.3286777300143231E-2,0.11501335837153041,0.13846025309812615,8.5684521893070853E-2,9.9290760022791649E-2,0.1132883177298268,0.13458858589204689,1.2524477334576366E-2,0.11378737696811533,5.9728590389155664E-2,5.9104173738301416E-2,0.17327853055383868,0.11989213958513058,8.5249357547226109E-2,9.7822297468285233E-2,5.5449203302429292E-2,4.4162745152155784E-2,0.22287976867840453,3.9477112647129844E-2,9.4211164737167452E-2,0.10403844908442318,2.4032805817221857E-2,0.13767990907471211,2.1537704018592473E-2,7.8898376729999928E-2,8.9229976443426035E-2,0.12631347275819471,2.7485708536668652E-2,0.21121609025737409,0.22984527628965612,5.896963135102995E-2,3.773238643581367E-2,0.10480187202963198]
[2015,-7.2925418973831596E-3,-2.2586047578282538E-2,5.5715391551301688E-2,-8.9750144711321631E-2,-3.3579291257922507E-2,-5.4632212071808711E-2,4.351626383995384E-3,-2.4019489056244351E-2,-7.6793167139218889E-3,2.2638503178311259E-2,2.7860574060171745E-2,-9.2950009063997696E-2,2.02983610484113E-2,3.005922619047619E-3,2.058333333333333E-3,3.2166666666666672E-3,1.0258333333333331E-2,1.5291666666666665E-2,1.8891666666666664E-2,2.1358333333333337E-2,2.5466666666666669E-2,2.8408333333333338E-2,5.2499999999999997E-4,1.6333333333333336E-3,null,null,3.8866666666666674E-2,4.9991666666666677E-2,3.8866666666666674E-2,3.6575000000000003E-2,3.8490000000000003E-2,null,null,null,7.2687166171179962E-3,-7.4030117819142496E-2,-0.12904019018101792,6.0621097289307424E-2,5.4688984312514288E-2,4.4127036171322111E-2,1.5081325557842208E-2,0.10211981963060514,8.5478570388035538E-2,0.11546929604526178,6.5264016608971385E-3,4.7272014856700524E-2,2.0834841630873641E-2,0.10050993863207473,2.1127726288379233E-2,3.7712114805144137E-2,-5.2266100508004912E-2,1.8031595662032406E-2,8.291384145188932E-2,7.68252496870689E-2,4.4238836640619492E-2,6.8379245256907251E-2,2.775765136083946E-2,8.7127469517400358E-2,8.9051576013553957E-2,6.3230770175052395E-2,3.7669943658575743E-3,1.9418453176197642E-2,5.3257127958600992E-2,0.12792978215675863,1.9562678710224123E-2,7.1022750904057602E-2,6.9942686521335187E-2,6.9061227118184507E-2,8.6976285471869613E-2,4.8758895015673012E-3,3.3882790557358065E-2,0.13624847309339749,4.400159491841589E-2,4.5404644234102481E-2,4.6248452520447653E-2,2.20516270082338E-2,0.13032038007474228,2.9030871170771053E-2,7.3007442113955226E-2,null,0.10354030630917022,1.4328494635091893E-3,0.16997280328038156,0.18469707339464803,3.192650992705226E-2,3.7240340671262251E-2,4.9732446829385157E-2]
[2016,9.1074090277842745E-2,0.12588362464622282,7.2349285222645235E-2,0.15279809585537268,-1.8987242098002562E-2,-3.4455413003646719E-2,1.4812989036254552E-2,9.3857640502311671E-2,8.8145950501490336E-2,8.8768871590968634E-2,8.2770284182020024E-2,0.20579150589627887,8.961122226394308E-2,4.9612405429292931E-3,7.0999999999999995E-3,6.1416666666666668E-3,1.0058333333333334E-2,1.3383333333333332E-2,1.6366666666666668E-2,1.8416666666666668E-2,2.2250000000000002E-2,2.5975000000000002E-2,3.1750000000000007E-3,4.5583333333333335E-3,null,null,3.6658333333333334E-2,4.7175000000000002E-2,3.6658333333333334E-2,3.1444444444444442E-2,3.6477083333333341E-2,null,null,null,2.0533949353894038E-2,2.5290559656654343E-2,7.7921446326289695E-2,3.0014017579558669E-2,3.0399683602858364E-2,5.5612227139449466E-2,1.365069672790332E-2,2.8779884894426653E-2,5.4917068436257356E-2,3.0990811168382808E-2,3.3393563167570132E-2,1.5750500576376031E-2,6.856607022566602E-2,6.7991191823076391E-2,1.0570874432885154E-2,9.8770234493890836E-3,-1.0909715337142379E-2,-4.6289342347427612E-2,8.0994986520099135E-2,6.0704271417853367E-2,3.7254306206588886E-2,6.9223031566519704E-3,3.6212452689832766E-2,7.1648440204642908E-2,2.885162713713545E-2,3.9858514752353448E-2,-7.0556327878362893E-3,-3.1578142730731241E-3,9.5694643034151011E-2,1.3790085192077101E-2,1.2051445141623924E-2,-3.6131534825001969E-2,2.6439988564196389E-2,5.3858575529701261E-2,8.8183667505849689E-2,2.2688217748231543E-2,3.0687966293839016E-2,-8.9696716821116365E-3,4.3946533003316905E-2,6.7147047667467687E-3,3.1053257329858339E-2,1.4965555412562538E-2,0.10198010732034445,6.3107248061366143E-3,1.6937331316268706E-2,4.1051121878341465E-2,7.0885585761407466E-2,-4.5562423155405152E-2,0.10128736747262979,0.10936179171559801,2.7662777567572405E-2,3.5899704842594193E-2,2.5899999999999999E-2]
[2017,0.1774762111462605,0.22378984452168138,0.24874448341354208,0.17489911970763491,0.19705316894949082,0.19992142892932555,0.19530950760178498,0.17530753397015358,0.17814414182631055,8.8626841940454754E-2,8.3181535277241564E-2,0.18055983419129717,8.8871300527647759E-2,1.1130250854528451E-2,0,1.2008333333333334E-2,1.5775000000000004E-2,1.9099999999999999E-2,2.1591666666666665E-2,2.3299999999999998E-2,2.6525000000000003E-2,2.895E-2,9.3083333333333351E-3,1.0491666666666668E-2,null,null,3.7433333333333339E-2,4.4400000000000002E-2,3.7433333333333339E-2,0,3.9910000000000001E-2,null,null,null,2.0871491882029952E-2,4.2138874131136143E-2,0.11922675741423988,4.7366586873546314E-2,4.5419739527444429E-2,4.6968606205499662E-2,8.5993715451305644E-2,7.1121173725515574E-2,0.1269505623516029,5.6383398626665242E-2,6.6999389810487205E-3,7.4684027526619484E-2,7.3006110639133773E-2,9.290801419457205E-2,9.4246281744229093E-3,-1.0496310335252177E-2,2.6453236261789408E-2,1.5144750979364494E-2,6.9582825301862716E-2,5.9696695309545335E-2,2.9473921490435182E-2,2.8518724834079301E-2,4.5207116939460334E-2,6.2728782631748303E-2,2.0113633167382836E-4,4.9217444995721796E-2,1.1891017164739772E-2,4.4214382759688343E-3,8.4037178179091093E-2,2.3507684837995257E-2,2.1728807424169539E-2,2.3712024445866196E-2,2.6477505764891399E-2,5.2535363902417385E-2,9.734352670249595E-2,3.903457679389926E-2,3.3388155354461636E-2,-8.3025782566789226E-3,4.0865581682721516E-2,6.0568984067631913E-2,4.6586132322272614E-2,3.4857555443864569E-2,9.6376111686004254E-2,1.824509305363272E-2,9.7433693599438834E-2,3.763296756352319E-2,6.1925208680139177E-2,2.1326001456030586E-2,8.1356195724438196E-2,8.0373997873762093E-2,4.1147483133998408E-2,3.6247320875853362E-2,3.6299999999999999E-2]
[2018,-6.4402595117360809E-2,-5.7949859512723384E-2,-3.9611780202543939E-2,-8.3340376474093314E-2,-0.17597056381998566,-0.18956116476465443,-0.1540246245518532,-7.3197643445146496E-2,-6.5374633917341898E-2,-4.1870173391162106E-2,-4.1286080745918954E-2,-2.5555456370449189E-2,-4.0145937663215787E-2,2.0216888272224533E-2,0,2.3316666666666666E-2,2.6275E-2,2.7483333333333335E-2,2.8508333333333337E-2,2.9099999999999997E-2,3.0183333333333329E-2,3.1125000000000003E-2,1.9391666666666668E-2,2.0958333333333332E-2,null,null,3.9299999999999995E-2,4.8000000000000001E-2,3.9299999999999995E-2,0,4.5390416666666669E-2,null,null,null,1.8921443566155969E-2,2.3660806776660274E-2,-9.3385892677997628E-3,4.2703536778866763E-2,4.0489884041733711E-2,3.960085940306507E-2,3.4998929350257516E-2,5.2116470458729261E-2,6.3930217985191759E-2,4.2892610622537408E-2,3.0843429203349784E-2,1.8467209214806043E-2,1.4554786785551881E-2,8.8254064480811717E-2,4.6204815015329657E-2,2.7853920387698492E-2,1.9290122746376391E-2,4.8731213345237952E-3,5.491500866567979E-2,5.4803930240862546E-2,4.1432511104532721E-2,2.4940451085672811E-2,2.4623906762901777E-2,6.4683745610987844E-2,0.1136359819835147,2.748826477093164E-2,1.2256407285042677E-2,4.1210640823514371E-3,null,2.9595964642393512E-2,2.7438211076016437E-2,1.2880931238301328E-2,5.0338074051482953E-2,4.6021519780255725E-2,7.5202541204600751E-2,3.8759829007544079E-2,3.6299148507465781E-2,2.0673270347833606E-2,4.2260702362183232E-2,8.4179640793997229E-2,4.9533401253545092E-2,1.5353238075585886E-2,9.828034351997178E-2,1.5363817202376033E-2,3.0143015983354778E-2,null,6.7377864090770734E-2,2.6447742547565545E-2,8.2349285114198034E-2,8.6638891541074958E-2,6.9966585880796517E-2,3.5132064737898094E-2,3.2099999999999997E-2]
[2019,0.25369657911584897,0.20162068364120431,0.30177461062283656,0.10158557198144264,-0.17597056381998566,-0.18956116476465443,0.1476793134793879,0.2533517983736,0.25519803870365104,0.24739587135009461,0.25202540602970508,0.19335108842314072,0.24848140288953516,2.0216888272224533E-2,0,2.0533333333333334E-2,1.9408333333333333E-2,1.9575000000000002E-2,2.0491666666666668E-2,2.1441666666666664E-2,2.403333333333333E-2,2.5825000000000004E-2,2.0608333333333329E-2,2.0533333333333334E-2,null,null,3.3875000000000009E-2,4.374999999999999E-2,3.3875000000000009E-2,0,3.9337499999999997E-2,null,null,null,2.2594117069698962E-2,-1.0000083334583311E-2,0.16917188624625573,4.4346969877602331E-2,4.3883694221725195E-2,5.5124603369227816E-2,3.7147708652031257E-2,8.2430186212279433E-2,9.4670562078135359E-2,3.7662540342724565E-2,7.3910131392867451E-2,1.9020660147067919E-2,2.2578562977914579E-2,8.0237711111571186E-2,3.0035851079319702E-2,2.7338423463289917E-2,1.9586882072041515E-2,8.1755093152418287E-2,4.3906926265373979E-2,5.5033205414027918E-2,3.4734608822834849E-2,2.1944147219781086E-2,2.7131426346640078E-2,5.6674404934511466E-2,3.8896417387541203E-2,2.7479425039132501E-2,7.2351411207361285E-2,-3.2252978045466023E-3,5.8792193257863938E-2,1.4736503896675685E-2,2.3430496265662133E-2,4.9825542604686919E-2,3.3872086465810594E-2,5.5900554894338109E-2,7.0592950640294444E-2,3.9149116807013162E-2,4.1042768720506127E-2,3.5387012804535253E-2,4.0089473849297431E-2,5.1836065558457552E-2,6.3072608910587399E-2,1.4498089811395026E-2,6.187387061375578E-2,2.2123374909490921E-2,3.4052832050992583E-2,5.2530330145823298E-2,4.3675024761165471E-2,2.9044775042612603E-2,5.9864077005503225E-2,6.2388220454035581E-2,3.0459120626762815E-2,3.3730054329363712E-2,2.1000000000000001E-2]
[2020,0.15064961299832172,6.9959835307287471E-2,0.36214294689077148,9.4730432714072998E-2,0.16919465171257445,0.18259286910635886,8.8581750581473384E-2,0.16873051339279857,0.17583627747318201,-6.0393062961143537E-2,-5.2573790130777169E-2,-0.20785448319192079,-6.1616330316036284E-2,2.2256764592116826E-2,{"$error":"#N/A"},3.7916666666666667E-3,4.2833333333333343E-3,5.3999999999999994E-3,7.2666666666666669E-3,8.9416666666666655E-3,1.3533333333333335E-2,1.5616666666666668E-2,3.65E-3,3.7166666666666663E-3,null,null,2.4766666666666666E-2,3.6024999999999995E-2,2.4766666666666666E-2,{"$error":"#N/A"},3.1136666666666667E-2,null,null,null,1.2587100134394437E-2,-4.0282028286048868E-3,0.22005577202713397,2.883864333086724E-2,2.8835079932036847E-2,3.2499982066048358E-2,4.8130589423421861E-2,4.4035991539462443E-2,2.8513428133491791E-2,3.8897936756462186E-2,1.0862931274415722E-2,5.1562585967429827E-3,4.125546967295271E-2,7.3521158190357538E-2,4.6509870403158383E-2,3.0501952617288271E-2,1.4643631982325333E-2,-5.5530492095848122E-3,5.455956558260168E-2,4.1928575800941476E-2,1.1712606303716237E-2,2.0369800134368392E-2,2.9364454439747036E-2,4.2543786845942663E-2,3.2551093913106524E-2,3.044633427968858E-2,1.7284967060135801E-2,3.6541951617164725E-3,5.2094185950380602E-2,-2.2179055042392953E-2,1.2067812635638459E-2,2.1405292465818654E-2,2.8962566976250555E-2,2.8536922859077933E-2,5.5923372793556914E-2,2.3975922498902829E-2,4.3446718063686156E-2,8.0047799817621369E-3,4.8800076291311077E-2,4.079317295420562E-2,3.0605206239477011E-2,2.2232364170556278E-3,5.0313844964859487E-2,1.7137572050380072E-2,4.977431986468067E-3,4.1757686158564428E-2,3.082974717740905E-2,1.2730026635204839E-2,4.2040500551529858E-2,4.3616173592748275E-2,2.5733704004653468E-2,4.1115361850271981E-2,2.1000000000000001E-2]
[null,null,null,null,null,null,null,null,null,null,null,null,null,null,null,null,null,null,null,null,null,null,null,null,null,null,null,null,null,null,null,null,null,null,null,null,null,null,null,null,null,null,null,null,null,null,null,null,null,null,null,null,null,null,null,null,null,null,null,null,null,null,null,null,null,null,null,null,null,null,null,null,null,null,null,null,null,null,null,null,null,null,null,null,null,null,null,null,"Prelim - replace when available"]

{"sheet":"Farmland Correlation Periods ","index":1,"n_rows":137,"n_cols":66,"rows_kept":137,"cut":false,"hidden":false,"merged":[]}
[null,null,null,null,null,null,null,null,null,null,null,null,null,null,null,null,null,null,null,null,null,null,null,null,null,null,null,null,null,null,null,null,null,null,"Enter Holding period length"]
[null,null,null,null,null,null,null,null,null,null,null,null,null,null,null,null,null,null,null,null,null,null,null,null,null,null,null,null,null,null,null,null,null,null,3,{"$f":"IF(AI2=1,\"(year)\",\"(years)\")","v":"(years)"}]
[]
[null,null,null,null,null,null,null,null,null,null,null,null,null,null,null,null,null,null,null,null,null,null,null,null,null,null,null,null,null,null,null,null,null,null,"US Ag (32 states)  -- correlation with….",null,null,null,null,null,null,null,null,{"$f":"\"Rolling Geometric \"&AI2& \" year returns\"","v":"Rolling Geometric 3 year returns"},null,null,null,"US Ag (32 states) -- correlation with….",null,null,null,null,null,null,{"$f":"\"Non-overlapping \"&AI2& \" year returns\"","v":"Non-overlapping 3 year returns"}]
[]
[null,null,null,null,null,null,null,null,null,null,null,null,null,null,null,null,null,null,null,null,null,null,null,null,null,null,null,null,null,null,null,null,null,null,"Graph Summary Data",null,null,null,null,null,null,null,null,null,null,null,null,null,null,null,null,"Graph Summary Data"]
[null,null,{"$f":"MATCH(C$13,Data!$A$3:$CC$3,0)","v":39},null,null,null,null,null,null,null,null,null,null,null,null,null,null,null,null,null,null,null,null,null,null,null,null,null,null,null,null,null,null,null,null,1,2,3,4,5,6,7,8,9,10,11,12,13,14,null,null,null,1,2,3,4,5,6,7,8,9,10,11,12,13,14]
[null,null,null,null,null,null,null,null,null,null,null,null,null,null,null,null,null,null,null,null,null,null,null,null,null,null,null,null,null,null,null,null,null,null,null,{"$f":"RANK(AJ68,$AJ$68:$AW$68)","v":7},4,2,3,5,13,14,10,11,1,9,8,6,12,null,null,null,{"$f":"RANK(BA68,$BA$68:$BN$68)","v":6},7,2,3,4,13,14,10,11,1,9,8,5,12]
[null,null,null,null,null,null,null,null,null,null,null,null,null,null,null,null,null,null,null,null,null,null,null,null,null,null,null,null,null,null,null,null,null,null,null,{"$f":"OFFSET($AI$67,0,MATCH(AJ7,$AJ$8:$AW$8,0))","v":"US Ave Farm (all)"},"PPI","CPI","Gold","TBSM3M","TCM10Y","AAA","Mort30F","BAA","Equity REITS","Composite\nREITS","EAFE","S&P500","Dow Jones",null,null,null,{"$f":"OFFSET($AZ$67,0,MATCH(BA7,$BA$8:$BN$8,0))","v":"US Ave Farm (all)"},"PPI","CPI","TBSM3M","TCM10Y","AAA","Gold","Mort30F","BAA","Equity REITS","Composite\nREITS","EAFE","S&P500","Dow Jones"]
[null,null,null,null,null,null,null,null,null,null,null,null,null,null,null,null,null,null,null,null,null,null,null,null,null,null,null,null,null,null,null,null,null,null,null,{"$f":"OFFSET($AI$68,0,MATCH(AJ7,$AJ$8:$AW$8,0))","v":0.99544340218716199},0.75808592883150649,0.71488162539912747,0.37970759867877152,0.28941781142482964,0.17586132401619015,0.12555640398248125,0.12247546503760479,0.10588402956712571,3.070708688385292E-3,-0.10803880582250232,-0.15406197839625871,-0.28207182265651587,-0.42953422889393933,null,null,null,{"$f":"OFFSET($AZ$68,0,MATCH(BA7,$BA$8:$BN$8,0))","v":0.99645649647435008},{"$f":"OFFSET($AZ$68,0,MATCH(BB7,$BA$8:$BN$8,0))","v":0.74155671180562732},0.71196244626844907,0.3569535921724406,0.24036658172280972,0.19324146040936643,0.17899844097677908,0.1738328631602421,0.17328217536976165,-0.10358907309841515,-0.18973181719194282,-0.31851948619415954,-0.40210074931300704,-0.55439421386527266]
[null,null,"These are only place asset displayed are changeable ",null,null,null,null,null,null,null,null,null,null,null,null,null,null,null,null,null,null,null,null,null,null,null,null,null,null,null,null,null,null,null,null,"Time Interval for Holding period. "]
[null,null,null,null,null,null,null,null,null,null,null,null,null,null,null,null,null,null,"Simple ave rolling",null,null,null,null,null,null,null,null,null,null,null,null,null,null,null,"Geometric",null,null,null,null,null,null,null,null,null,null,null,null,null,null,null,null,{"$f":"\"Nonoverlapping \"&AI2&\" year holding periods\"","v":"Nonoverlapping 3 year holding periods"}]
[null,null,"US Ag 32 States","AAA","Gold","PPI","CPI","TBSM3M","S&P500","Dow Jones","Equity REITS","Composite\nREITS","US Ave Farm (all)","BAA","Mort30F","TCM10Y","EAFE",null,{"$f":"C13","v":"US Ag 32 States"},{"$f":"D13","v":"AAA"},"Gold","PPI","CPI","TBSM3M","S&P500","Dow Jones","Equity REITS","Composite\nREITS","US Ave Farm (all)","BAA","Mort30F","TCM10Y","EAFE",null,{"$f":"C13","v":"US Ag 32 States"},{"$f":"D13","v":"AAA"},"Gold","PPI","CPI","TBSM3M","S&P500","Dow Jones","Equity REITS","Composite\nREITS","US Ave Farm (all)","BAA","Mort30F","TCM10Y","EAFE",null,null,{"$f":"C13","v":"US Ag 32 States"},{"$f":"D13","v":"AAA"},"Gold","PPI","CPI","TBSM3M","S&P500","Dow Jones","Equity REITS","Composite\nREITS","US Ave Farm (all)","BAA","Mort30F","TCM10Y","EAFE"]
[null,1970,{"$f":"VLOOKUP($B14,retdat,MATCH(C$13,Data!$A$3:$CC$3,0),0)","v":0.10974882989913247},{"$f":"VLOOKUP($B14,retdat,MATCH(D$13,Data!$A$3:$CC$3,0),0)","v":8.0399999999999985E-2},{"$f":"VLOOKUP($B14,retdat,MATCH(E$13,Data!$A$3:$CC$3,0),0)","v":6.254620512350012E-2},{"$f":"VLOOKUP($B14,retdat,MATCH(F$13,Data!$A$3:$CC$3,0),0)","v":2.1799228342584579E-2},{"$f":"VLOOKUP($B14,retdat,MATCH(G$13,Data!$A$3:$CC$3,0),0)","v":5.4206817836426738E-2},{"$f":"VLOOKUP($B14,retdat,MATCH(H$13,Data!$A$3:$CC$3,0),0)","v":6.3916666666666677E-2},{"$f":"VLOOKUP($B14,retdat,MATCH(I$13,Data!$A$3:$CC$3,0),0)","v":9.7714572673684649E-4},{"$f":"VLOOKUP($B14,retdat,MATCH(J$13,Data!$A$3:$CC$3,0),0)","v":4.6979907142670543E-2},{"$f":"VLOOKUP($B14,retdat,MATCH(K$13,Data!$A$3:$CC$3,0),0)","v":0},{"$f":"VLOOKUP($B14,retdat,MATCH(L$13,Data!$A$3:$CC$3,0),0)","v":0},{"$f":"VLOOKUP($B14,retdat,MATCH(M$13,Data!$A$3:$CC$3,0),0)","v":0.10605213624462637},{"$f":"VLOOKUP($B14,retdat,MATCH(N$13,Data!$A$3:$CC$3,0),0)","v":9.1050000000000006E-2},{"$f":"VLOOKUP($B14,retdat,MATCH(O$13,Data!$A$3:$CC$3,0),0)","v":0},{"$f":"VLOOKUP($B14,retdat,MATCH(P$13,Data!$A$3:$CC$3,0),0)","v":7.3483333333333331E-2},{"$f":"VLOOKUP($B14,retdat,MATCH(Q$13,Data!$A$3:$CC$3,0),0)","v":-0.13843955611158673},null,null,null,null,null,null,null,null,null,null,null,null,null,null,null,null,null,null,null,null,null,null,null,null,null,null,null,null,null,null,null,null,null,1,{"$f":"IF(TRUNC($AY14/$AI$2)-$AY14/$AI$2 = 0,AI14,\"\")","v":""},{"$f":"IF(TRUNC($AY14/$AI$2)-$AY14/$AI$2 = 0,AJ14,\"\")","v":""},{"$f":"IF(TRUNC($AY14/$AI$2)-$AY14/$AI$2 = 0,AK14,\"\")","v":""},{"$f":"IF(TRUNC($AY14/$AI$2)-$AY14/$AI$2 = 0,AL14,\"\")","v":""},{"$f":"IF(TRUNC($AY14/$AI$2)-$AY14/$AI$2 = 0,AM14,\"\")","v":""},{"$f":"IF(TRUNC($AY14/$AI$2)-$AY14/$AI$2 = 0,AN14,\"\")","v":""},{"$f":"IF(TRUNC($AY14/$AI$2)-$AY14/$AI$2 = 0,AO14,\"\")","v":""},{"$f":"IF(TRUNC($AY14/$AI$2)-$AY14/$AI$2 = 0,AP14,\"\")","v":""},{"$f":"IF(TRUNC($AY14/$AI$2)-$AY14/$AI$2 = 0,AQ14,\"\")","v":""},{"$f":"IF(TRUNC($AY14/$AI$2)-$AY14/$AI$2 = 0,AR14,\"\")","v":""},{"$f":"IF(TRUNC($AY14/$AI$2)-$AY14/$AI$2 = 0,AS14,\"\")","v":""},{"$f":"IF(TRUNC($AY14/$AI$2)-$AY14/$AI$2 = 0,AT14,\"\")","v":""},{"$f":"IF(TRUNC($AY14/$AI$2)-$AY14/$AI$2 = 0,AU14,\"\")","v":""},{"$f":"IF(TRUNC($AY14/$AI$2)-$AY14/$AI$2 = 0,AV14,\"\")","v":""},{"$f":"IF(TRUNC($AY14/$AI$2)-$AY14/$AI$2 = 0,AW14,\"\")","v":""}]
[null,1971,{"$f":"VLOOKUP($B15,retdat,MATCH(C$13,Data!$A$3:$CC$3,0),0)","v":0.1091581116753202},{"$f":"VLOOKUP($B15,retdat,MATCH(D$13,Data!$A$3:$CC$3,0),0)","v":7.3866666666666664E-2},{"$f":"VLOOKUP($B15,retdat,MATCH(E$13,Data!$A$3:$CC$3,0),0)","v":0.14956141064361747},{"$f":"VLOOKUP($B15,retdat,MATCH(F$13,Data!$A$3:$CC$3,0),0)","v":3.963530685739565E-2},{"$f":"VLOOKUP($B15,retdat,MATCH(G$13,Data!$A$3:$CC$3,0),0)","v":3.2141209211796987E-2},{"$f":"VLOOKUP($B15,retdat,MATCH(H$13,Data!$A$3:$CC$3,0),0)","v":4.3324999999999995E-2},{"$f":"VLOOKUP($B15,retdat,MATCH(I$13,Data!$A$3:$CC$3,0),0)","v":0.1024370930650918},{"$f":"VLOOKUP($B15,retdat,MATCH(J$13,Data!$A$3:$CC$3,0),0)","v":5.9354646729505189E-2},{"$f":"VLOOKUP($B15,retdat,MATCH(K$13,Data!$A$3:$CC$3,0),0)","v":0},{"$f":"VLOOKUP($B15,retdat,MATCH(L$13,Data!$A$3:$CC$3,0),0)","v":0},{"$f":"VLOOKUP($B15,retdat,MATCH(M$13,Data!$A$3:$CC$3,0),0)","v":0.10878774829724244},{"$f":"VLOOKUP($B15,retdat,MATCH(N$13,Data!$A$3:$CC$3,0),0)","v":8.5633333333333339E-2},{"$f":"VLOOKUP($B15,retdat,MATCH(O$13,Data!$A$3:$CC$3,0),0)","v":7.5457777777777763E-2},{"$f":"VLOOKUP($B15,retdat,MATCH(P$13,Data!$A$3:$CC$3,0),0)","v":6.159166666666667E-2},{"$f":"VLOOKUP($B15,retdat,MATCH(Q$13,Data!$A$3:$CC$3,0),0)","v":0.23225528447957131},null,null,null,null,null,null,null,null,null,null,null,null,null,null,null,null,null,null,null,null,null,null,null,null,null,null,null,null,null,null,null,null,null,2,"","","","","","","","","","","","","","",""]
[null,1972,{"$f":"VLOOKUP($B16,retdat,MATCH(C$13,Data!$A$3:$CC$3,0),0)","v":0.13876013663365491},{"$f":"VLOOKUP($B16,retdat,MATCH(D$13,Data!$A$3:$CC$3,0),0)","v":7.2133333333333341E-2},{"$f":"VLOOKUP($B16,retdat,MATCH(E$13,Data!$A$3:$CC$3,0),0)","v":0.38517478140918171},{"$f":"VLOOKUP($B16,retdat,MATCH(F$13,Data!$A$3:$CC$3,0),0)","v":6.2755845031403759E-2},{"$f":"VLOOKUP($B16,retdat,MATCH(G$13,Data!$A$3:$CC$3,0),0)","v":3.3495954428182186E-2},{"$f":"VLOOKUP($B16,retdat,MATCH(H$13,Data!$A$3:$CC$3,0),0)","v":4.0725000000000004E-2},{"$f":"VLOOKUP($B16,retdat,MATCH(I$13,Data!$A$3:$CC$3,0),0)","v":0.14525348635059787},{"$f":"VLOOKUP($B16,retdat,MATCH(J$13,Data!$A$3:$CC$3,0),0)","v":0.1361117496965627},{"$f":"VLOOKUP($B16,retdat,MATCH(K$13,Data!$A$3:$CC$3,0),0)","v":7.7056056283294219E-2},{"$f":"VLOOKUP($B16,retdat,MATCH(L$13,Data!$A$3:$CC$3,0),0)","v":0.10609240440610015},{"$f":"VLOOKUP($B16,retdat,MATCH(M$13,Data!$A$3:$CC$3,0),0)","v":0.13704865126558397},{"$f":"VLOOKUP($B16,retdat,MATCH(N$13,Data!$A$3:$CC$3,0),0)","v":8.1550000000000011E-2},{"$f":"VLOOKUP($B16,retdat,MATCH(O$13,Data!$A$3:$CC$3,0),0)","v":7.3832916666666651E-2},{"$f":"VLOOKUP($B16,retdat,MATCH(P$13,Data!$A$3:$CC$3,0),0)","v":6.2100000000000002E-2},{"$f":"VLOOKUP($B16,retdat,MATCH(Q$13,Data!$A$3:$CC$3,0),0)","v":0.28728963947775837},null,{"$f":"AVERAGE(C14:C16)","v":0.11922235940270254},{"$f":"AVERAGE(D14:D16)","v":7.5466666666666668E-2},0.19909413239209975,4.1396793410461326E-2,3.9947993825468632E-2,4.9322222222222233E-2,8.2889241714142178E-2,8.0815434522912802E-2,2.5685352094431405E-2,3.5364134802033383E-2,0.11729617860248426,8.6077777777777795E-2,4.9763564814814809E-2,6.5724999999999992E-2,0.12703512261524766,null,{"$f":"GEOMEAN(C87:OFFSET(C87,$AI$2-1,0))-1","v":0.11913755707396945},{"$f":"GEOMEAN(D87:OFFSET(D87,$AI$2-1,0))-1","v":7.5460783923227526E-2},{"$f":"GEOMEAN(E87:OFFSET(E87,$AI$2-1,0))-1","v":0.19159368362201024},{"$f":"GEOMEAN(F87:OFFSET(F87,$AI$2-1,0))-1","v":4.1262027391697487E-2},{"$f":"GEOMEAN(G87:OFFSET(G87,$AI$2-1,0))-1","v":3.989918981374263E-2},{"$f":"GEOMEAN(H87:OFFSET(H87,$AI$2-1,0))-1","v":4.9271164164069958E-2},{"$f":"GEOMEAN(I87:OFFSET(I87,$AI$2-1,0))-1","v":8.1168043299665538E-2},{"$f":"GEOMEAN(J87:OFFSET(J87,$AI$2-1,0))-1","v":8.0107358400612005E-2},{"$f":"GEOMEAN(K87:OFFSET(K87,$AI$2-1,0))-1","v":2.5052483938248216E-2},{"$f":"GEOMEAN(L87:OFFSET(L87,$AI$2-1,0))-1","v":3.4182385985798147E-2},{"$f":"GEOMEAN(M87:OFFSET(M87,$AI$2-1,0))-1","v":0.11720881811893702},{"$f":"GEOMEAN(N87:OFFSET(N87,$AI$2-1,0))-1","v":8.6070810326815961E-2},{"$f":"GEOMEAN(O87:OFFSET(O87,$AI$2-1,0))-1","v":4.9163948920911693E-2},{"$f":"GEOMEAN(P87:OFFSET(P87,$AI$2-1,0))-1","v":6.5710893820921434E-2},{"$f":"GEOMEAN(Q87:OFFSET(Q87,$AI$2-1,0))-1","v":0.10973914300379395},null,3,0.11913755707396945,7.5460783923227526E-2,0.19159368362201024,4.1262027391697487E-2,3.989918981374263E-2,4.9271164164069958E-2,8.1168043299665538E-2,8.0107358400612005E-2,2.5052483938248216E-2,3.4182385985798147E-2,0.11720881811893702,8.6070810326815961E-2,4.9163948920911693E-2,6.5710893820921434E-2,0.10973914300379395]
[null,1973,{"$f":"VLOOKUP($B17,retdat,MATCH(C$13,Data!$A$3:$CC$3,0),0)","v":0.17963129192020053},{"$f":"VLOOKUP($B17,retdat,MATCH(D$13,Data!$A$3:$CC$3,0),0)","v":7.4408333333333326E-2},{"$f":"VLOOKUP($B17,retdat,MATCH(E$13,Data!$A$3:$CC$3,0),0)","v":0.5129862560622962},{"$f":"VLOOKUP($B17,retdat,MATCH(F$13,Data!$A$3:$CC$3,0),0)","v":0.14261410719884182},{"$f":"VLOOKUP($B17,retdat,MATCH(G$13,Data!$A$3:$CC$3,0),0)","v":8.3475722157322102E-2},{"$f":"VLOOKUP($B17,retdat,MATCH(H$13,Data!$A$3:$CC$3,0),0)","v":7.0316666666666666E-2},{"$f":"VLOOKUP($B17,retdat,MATCH(I$13,Data!$A$3:$CC$3,0),0)","v":-0.19074319646240165},{"$f":"VLOOKUP($B17,retdat,MATCH(J$13,Data!$A$3:$CC$3,0),0)","v":-0.18126329342280512},{"$f":"VLOOKUP($B17,retdat,MATCH(K$13,Data!$A$3:$CC$3,0),0)","v":-0.16864536577925257},{"$f":"VLOOKUP($B17,retdat,MATCH(L$13,Data!$A$3:$CC$3,0),0)","v":-0.3176831069919786},{"$f":"VLOOKUP($B17,retdat,MATCH(M$13,Data!$A$3:$CC$3,0),0)","v":0.17068711321768504},{"$f":"VLOOKUP($B17,retdat,MATCH(N$13,Data!$A$3:$CC$3,0),0)","v":8.2408333333333333E-2},{"$f":"VLOOKUP($B17,retdat,MATCH(O$13,Data!$A$3:$CC$3,0),0)","v":8.042916666666669E-2},{"$f":"VLOOKUP($B17,retdat,MATCH(P$13,Data!$A$3:$CC$3,0),0)","v":6.8425E-2},{"$f":"VLOOKUP($B17,retdat,MATCH(Q$13,Data!$A$3:$CC$3,0),0)","v":-0.18413798696913125},null,{"$f":"AVERAGE(C15:C17)","v":0.14251651340972524},{"$f":"AVERAGE(D15:D17)","v":7.3469444444444448E-2},0.34924081603836515,8.1668419695880415E-2,4.9704295265767091E-2,5.1455555555555553E-2,1.898246098442934E-2,4.7343676677542579E-3,-3.0529769831986117E-2,-7.0530234195292821E-2,0.13884117092683715,8.3197222222222228E-2,7.6573287037037044E-2,6.4038888888888881E-2,0.11180231232939947,null,{"$f":"GEOMEAN(C88:OFFSET(C88,$AI$2-1,0))-1","v":0.14215225099440687},{"$f":"GEOMEAN(D88:OFFSET(D88,$AI$2-1,0))-1","v":7.3469005770215423E-2},{"$f":"GEOMEAN(E88:OFFSET(E88,$AI$2-1,0))-1","v":0.34057334076451551},{"$f":"GEOMEAN(F88:OFFSET(F88,$AI$2-1,0))-1","v":8.0781829794701832E-2},{"$f":"GEOMEAN(G88:OFFSET(G88,$AI$2-1,0))-1","v":4.9435362607875177E-2},{"$f":"GEOMEAN(H88:OFFSET(H88,$AI$2-1,0))-1","v":5.1370926014234541E-2},{"$f":"GEOMEAN(I88:OFFSET(I88,$AI$2-1,0))-1","v":7.1958624269268245E-3},{"$f":"GEOMEAN(J88:OFFSET(J88,$AI$2-1,0))-1","v":-4.8950277299549816E-3},{"$f":"GEOMEAN(K88:OFFSET(K88,$AI$2-1,0))-1","v":-3.6152756413899811E-2},{"$f":"GEOMEAN(L88:OFFSET(L88,$AI$2-1,0))-1","v":-8.9543547933958356E-2},{"$f":"GEOMEAN(M88:OFFSET(M88,$AI$2-1,0))-1","v":0.13856046961844348},{"$f":"GEOMEAN(N88:OFFSET(N88,$AI$2-1,0))-1","v":8.3195796736780459E-2},{"$f":"GEOMEAN(O88:OFFSET(O88,$AI$2-1,0))-1","v":7.6569633472314713E-2},{"$f":"GEOMEAN(P88:OFFSET(P88,$AI$2-1,0))-1","v":6.4034354724630704E-2},{"$f":"GEOMEAN(Q88:OFFSET(Q88,$AI$2-1,0))-1","v":8.9760909201572314E-2},null,4,"","","","","","","","","","","","","","",""]
[null,1974,{"$f":"VLOOKUP($B18,retdat,MATCH(C$13,Data!$A$3:$CC$3,0),0)","v":0.27035189306436452},{"$f":"VLOOKUP($B18,retdat,MATCH(D$13,Data!$A$3:$CC$3,0),0)","v":8.5658333333333322E-2},{"$f":"VLOOKUP($B18,retdat,MATCH(E$13,Data!$A$3:$CC$3,0),0)","v":0.54297041505430876},{"$f":"VLOOKUP($B18,retdat,MATCH(F$13,Data!$A$3:$CC$3,0),0)","v":0.18967839501966308},{"$f":"VLOOKUP($B18,retdat,MATCH(G$13,Data!$A$3:$CC$3,0),0)","v":0.11633899208414977},{"$f":"VLOOKUP($B18,retdat,MATCH(H$13,Data!$A$3:$CC$3,0),0)","v":7.8299999999999995E-2},{"$f":"VLOOKUP($B18,retdat,MATCH(I$13,Data!$A$3:$CC$3,0),0)","v":-0.35265579277959586},{"$f":"VLOOKUP($B18,retdat,MATCH(J$13,Data!$A$3:$CC$3,0),0)","v":-0.322723026692944},{"$f":"VLOOKUP($B18,retdat,MATCH(K$13,Data!$A$3:$CC$3,0),0)","v":-0.24083700312635012},{"$f":"VLOOKUP($B18,retdat,MATCH(L$13,Data!$A$3:$CC$3,0),0)","v":-0.54872911220207643},{"$f":"VLOOKUP($B18,retdat,MATCH(M$13,Data!$A$3:$CC$3,0),0)","v":0.26276792225964579},{"$f":"VLOOKUP($B18,retdat,MATCH(N$13,Data!$A$3:$CC$3,0),0)","v":9.4966666666666658E-2},{"$f":"VLOOKUP($B18,retdat,MATCH(O$13,Data!$A$3:$CC$3,0),0)","v":9.1870416666666663E-2},{"$f":"VLOOKUP($B18,retdat,MATCH(P$13,Data!$A$3:$CC$3,0),0)","v":7.5575000000000017E-2},{"$f":"VLOOKUP($B18,retdat,MATCH(Q$13,Data!$A$3:$CC$3,0),0)","v":-0.295680220067155},null,0.19624777387273998,7.740000000000001E-2,0.48037715084192883,0.13168278241663622,7.777022288988468E-2,6.31138888888889E-2,-0.13271516763046654,-0.12262485680639547,-0.11080877087410283,-0.2534399382626516,0.19016789558097158,8.6308333333333334E-2,8.2044166666666682E-2,6.8699999999999997E-2,-6.4176189186175958E-2,null,{"$f":"GEOMEAN(C89:OFFSET(C89,$AI$2-1,0))-1","v":0.19499895770790521},{"$f":"GEOMEAN(D89:OFFSET(D89,$AI$2-1,0))-1","v":7.7383811653668255E-2},{"$f":"GEOMEAN(E89:OFFSET(E89,$AI$2-1,0))-1","v":0.47876462447649915},{"$f":"GEOMEAN(F89:OFFSET(F89,$AI$2-1,0))-1","v":0.13045744805224224},{"$f":"GEOMEAN(G89:OFFSET(G89,$AI$2-1,0))-1","v":7.7228958715338081E-2},{"$f":"GEOMEAN(H89:OFFSET(H89,$AI$2-1,0))-1","v":6.2990280446271418E-2},{"$f":"GEOMEAN(I89:OFFSET(I89,$AI$2-1,0))-1","v":-0.15658546218712865},{"$f":"GEOMEAN(J89:OFFSET(J89,$AI$2-1,0))-1","v":-0.14274398492147666},{"$f":"GEOMEAN(K89:OFFSET(K89,$AI$2-1,0))-1","v":-0.12073479571151535},{"$f":"GEOMEAN(L89:OFFSET(L89,$AI$2-1,0))-1","v":-0.30165244483070708},{"$f":"GEOMEAN(M89:OFFSET(M89,$AI$2-1,0))-1","v":0.18899804919651197},{"$f":"GEOMEAN(N89:OFFSET(N89,$AI$2-1,0))-1","v":8.6291069290992839E-2},{"$f":"GEOMEAN(O89:OFFSET(O89,$AI$2-1,0))-1","v":8.201854369449979E-2},{"$f":"GEOMEAN(P89:OFFSET(P89,$AI$2-1,0))-1","v":6.8685827157100254E-2},{"$f":"GEOMEAN(Q89:OFFSET(Q89,$AI$2-1,0))-1","v":-9.5613042549086757E-2},null,5,"","","","","","","","","","","","","","",""]
[null,1975,{"$f":"VLOOKUP($B19,retdat,MATCH(C$13,Data!$A$3:$CC$3,0),0)","v":0.18706235649236358},{"$f":"VLOOKUP($B19,retdat,MATCH(D$13,Data!$A$3:$CC$3,0),0)","v":8.8258333333333341E-2},{"$f":"VLOOKUP($B19,retdat,MATCH(E$13,Data!$A$3:$CC$3,0),0)","v":-0.27669873641713666},{"$f":"VLOOKUP($B19,retdat,MATCH(F$13,Data!$A$3:$CC$3,0),0)","v":4.1031396677862562E-2},{"$f":"VLOOKUP($B19,retdat,MATCH(G$13,Data!$A$3:$CC$3,0),0)","v":6.7064230580545836E-2},{"$f":"VLOOKUP($B19,retdat,MATCH(H$13,Data!$A$3:$CC$3,0),0)","v":5.7749999999999996E-2},{"$f":"VLOOKUP($B19,retdat,MATCH(I$13,Data!$A$3:$CC$3,0),0)","v":0.27420928188809235},{"$f":"VLOOKUP($B19,retdat,MATCH(J$13,Data!$A$3:$CC$3,0),0)","v":0.32448431406189437},{"$f":"VLOOKUP($B19,retdat,MATCH(K$13,Data!$A$3:$CC$3,0),0)","v":0.17646688430592811},{"$f":"VLOOKUP($B19,retdat,MATCH(L$13,Data!$A$3:$CC$3,0),0)","v":0.30995716756562858},{"$f":"VLOOKUP($B19,retdat,MATCH(M$13,Data!$A$3:$CC$3,0),0)","v":0.1742220482097529},{"$f":"VLOOKUP($B19,retdat,MATCH(N$13,Data!$A$3:$CC$3,0),0)","v":0.10610000000000001},{"$f":"VLOOKUP($B19,retdat,MATCH(O$13,Data!$A$3:$CC$3,0),0)","v":9.0405416666666655E-2},{"$f":"VLOOKUP($B19,retdat,MATCH(P$13,Data!$A$3:$CC$3,0),0)","v":7.9875000000000002E-2},{"$f":"VLOOKUP($B19,retdat,MATCH(Q$13,Data!$A$3:$CC$3,0),0)","v":0.27157657547829989},null,0.21234851382564288,8.2774999999999987E-2,0.2597526448998228,0.12444129963212248,8.895964827400589E-2,6.8788888888888886E-2,-8.9729902451301705E-2,-5.9834002017951561E-2,-7.7671828199891532E-2,-0.18548501720947552,0.20255902789569458,9.4491666666666682E-2,8.7568333333333317E-2,7.4625000000000011E-2,-6.9413877185995454E-2,null,{"$f":"GEOMEAN(C90:OFFSET(C90,$AI$2-1,0))-1","v":0.21166143573716023},{"$f":"GEOMEAN(D90:OFFSET(D90,$AI$2-1,0))-1","v":8.2758279432010307E-2},{"$f":"GEOMEAN(E90:OFFSET(E90,$AI$2-1,0))-1","v":0.1907957297091889},{"$f":"GEOMEAN(F90:OFFSET(F90,$AI$2-1,0))-1","v":0.12270156503144003},{"$f":"GEOMEAN(G90:OFFSET(G90,$AI$2-1,0))-1","v":8.8767830012511206E-2},{"$f":"GEOMEAN(H90:OFFSET(H90,$AI$2-1,0))-1","v":6.8755368188836652E-2},{"$f":"GEOMEAN(I90:OFFSET(I90,$AI$2-1,0))-1","v":-0.12604823613583704},{"$f":"GEOMEAN(J90:OFFSET(J90,$AI$2-1,0))-1","v":-9.7766121979406484E-2},{"$f":"GEOMEAN(K90:OFFSET(K90,$AI$2-1,0))-1","v":-9.4475190636477802E-2},{"$f":"GEOMEAN(L90:OFFSET(L90,$AI$2-1,0))-1","v":-0.26114336291710327},{"$f":"GEOMEAN(M90:OFFSET(M90,$AI$2-1,0))-1","v":0.20181661336771106},{"$f":"GEOMEAN(N90:OFFSET(N90,$AI$2-1,0))-1","v":9.444885855682128E-2},{"$f":"GEOMEAN(O90:OFFSET(O90,$AI$2-1,0))-1","v":8.7556428218670046E-2},{"$f":"GEOMEAN(P90:OFFSET(P90,$AI$2-1,0))-1","v":7.4614614486067321E-2},{"$f":"GEOMEAN(Q90:OFFSET(Q90,$AI$2-1,0))-1","v":-9.930786125362534E-2},null,6,0.21166143573716023,8.2758279432010307E-2,0.1907957297091889,0.12270156503144003,8.8767830012511206E-2,6.8755368188836652E-2,-0.12604823613583704,-9.7766121979406484E-2,-9.4475190636477802E-2,-0.26114336291710327,0.20181661336771106,9.444885855682128E-2,8.7556428218670046E-2,7.4614614486067321E-2,-9.930786125362534E-2]
[null,1976,{"$f":"VLOOKUP($B20,retdat,MATCH(C$13,Data!$A$3:$CC$3,0),0)","v":0.2111286836978076},{"$f":"VLOOKUP($B20,retdat,MATCH(D$13,Data!$A$3:$CC$3,0),0)","v":8.4341666666666662E-2},{"$f":"VLOOKUP($B20,retdat,MATCH(E$13,Data!$A$3:$CC$3,0),0)","v":-3.9267182371041008E-2},{"$f":"VLOOKUP($B20,retdat,MATCH(F$13,Data!$A$3:$CC$3,0),0)","v":4.5834536343799324E-2},{"$f":"VLOOKUP($B20,retdat,MATCH(G$13,Data!$A$3:$CC$3,0),0)","v":4.750233398500326E-2},{"$f":"VLOOKUP($B20,retdat,MATCH(H$13,Data!$A$3:$CC$3,0),0)","v":4.974166666666667E-2},{"$f":"VLOOKUP($B20,retdat,MATCH(I$13,Data!$A$3:$CC$3,0),0)","v":0.17520012912305855},{"$f":"VLOOKUP($B20,retdat,MATCH(J$13,Data!$A$3:$CC$3,0),0)","v":0.16438836824380657},{"$f":"VLOOKUP($B20,retdat,MATCH(K$13,Data!$A$3:$CC$3,0),0)","v":0.38925883998428595},{"$f":"VLOOKUP($B20,retdat,MATCH(L$13,Data!$A$3:$CC$3,0),0)","v":0.39859982532700089},{"$f":"VLOOKUP($B20,retdat,MATCH(M$13,Data!$A$3:$CC$3,0),0)","v":0.20489603048077326},{"$f":"VLOOKUP($B20,retdat,MATCH(N$13,Data!$A$3:$CC$3,0),0)","v":9.7466666666666674E-2},{"$f":"VLOOKUP($B20,retdat,MATCH(O$13,Data!$A$3:$CC$3,0),0)","v":8.8643333333333352E-2},{"$f":"VLOOKUP($B20,retdat,MATCH(P$13,Data!$A$3:$CC$3,0),0)","v":7.6116666666666666E-2},{"$f":"VLOOKUP($B20,retdat,MATCH(Q$13,Data!$A$3:$CC$3,0),0)","v":-3.5891339161321944E-3},null,0.22284764441817859,8.6086111111111099E-2,7.5668165422043701E-2,9.218144268044165E-2,7.6968518883232959E-2,6.1930555555555565E-2,3.2251206077185013E-2,5.5383218537585648E-2,0.10829624038795464,5.3275960230184348E-2,0.21396200031672397,9.9511111111111106E-2,9.030638888888888E-2,7.7188888888888904E-2,-9.2309261683291028E-3,null,{"$f":"GEOMEAN(C91:OFFSET(C91,$AI$2-1,0))-1","v":0.22235106151085748},{"$f":"GEOMEAN(D91:OFFSET(D91,$AI$2-1,0))-1","v":8.6084892414997949E-2},{"$f":"GEOMEAN(E91:OFFSET(E91,$AI$2-1,0))-1","v":2.3512496670070382E-2},{"$f":"GEOMEAN(F91:OFFSET(F91,$AI$2-1,0))-1","v":9.0064326779372816E-2},{"$f":"GEOMEAN(G91:OFFSET(G91,$AI$2-1,0))-1","v":7.6582258342759113E-2},{"$f":"GEOMEAN(H91:OFFSET(H91,$AI$2-1,0))-1","v":6.1862682089381948E-2},{"$f":"GEOMEAN(I91:OFFSET(I91,$AI$2-1,0))-1","v":-1.0317357147807127E-2},{"$f":"GEOMEAN(J91:OFFSET(J91,$AI$2-1,0))-1","v":1.4620569713804432E-2},{"$f":"GEOMEAN(K91:OFFSET(K91,$AI$2-1,0))-1","v":7.4564863663193259E-2},{"$f":"GEOMEAN(L91:OFFSET(L91,$AI$2-1,0))-1","v":-6.143873310529413E-2},{"$f":"GEOMEAN(M91:OFFSET(M91,$AI$2-1,0))-1","v":0.2134105925741252},{"$f":"GEOMEAN(N91:OFFSET(N91,$AI$2-1,0))-1","v":9.9500783115887614E-2},{"$f":"GEOMEAN(O91:OFFSET(O91,$AI$2-1,0))-1","v":9.0305590608770192E-2},{"$f":"GEOMEAN(P91:OFFSET(P91,$AI$2-1,0))-1","v":7.7187192981155173E-2},{"$f":"GEOMEAN(Q91:OFFSET(Q91,$AI$2-1,0))-1","v":-3.7242405784915333E-2},null,7,"","","","","","","","","","","","","","",""]
[null,1977,{"$f":"VLOOKUP($B21,retdat,MATCH(C$13,Data!$A$3:$CC$3,0),0)","v":0.22683381578219508},{"$f":"VLOOKUP($B21,retdat,MATCH(D$13,Data!$A$3:$CC$3,0),0)","v":8.0241666666666683E-2},{"$f":"VLOOKUP($B21,retdat,MATCH(E$13,Data!$A$3:$CC$3,0),0)","v":0.17976239758357249},{"$f":"VLOOKUP($B21,retdat,MATCH(F$13,Data!$A$3:$CC$3,0),0)","v":5.7513906200606847E-2},{"$f":"VLOOKUP($B21,retdat,MATCH(G$13,Data!$A$3:$CC$3,0),0)","v":6.4860634202040926E-2},{"$f":"VLOOKUP($B21,retdat,MATCH(H$13,Data!$A$3:$CC$3,0),0)","v":5.2691666666666671E-2},{"$f":"VLOOKUP($B21,retdat,MATCH(I$13,Data!$A$3:$CC$3,0),0)","v":-0.12218971574933084},{"$f":"VLOOKUP($B21,retdat,MATCH(J$13,Data!$A$3:$CC$3,0),0)","v":-0.18957382868325098},{"$f":"VLOOKUP($B21,retdat,MATCH(K$13,Data!$A$3:$CC$3,0),0)","v":0.20232213856971373},{"$f":"VLOOKUP($B21,retdat,MATCH(L$13,Data!$A$3:$CC$3,0),0)","v":0.17459583423786199},{"$f":"VLOOKUP($B21,retdat,MATCH(M$13,Data!$A$3:$CC$3,0),0)","v":0.20738777868455222},{"$f":"VLOOKUP($B21,retdat,MATCH(N$13,Data!$A$3:$CC$3,0),0)","v":8.969166666666667E-2},{"$f":"VLOOKUP($B21,retdat,MATCH(O$13,Data!$A$3:$CC$3,0),0)","v":8.8416666666666671E-2},{"$f":"VLOOKUP($B21,retdat,MATCH(P$13,Data!$A$3:$CC$3,0),0)","v":7.4191666666666656E-2},{"$f":"VLOOKUP($B21,retdat,MATCH(Q$13,Data!$A$3:$CC$3,0),0)","v":0.13639519317552098},null,0.2083416186574554,8.4280555555555567E-2,-4.5401173734868384E-2,4.812661307408958E-2,5.9809066255863332E-2,5.3394444444444446E-2,0.10907323175394001,9.9766284540816638E-2,0.25601595428664259,0.29438427571016379,0.19550195245835944,9.7752777777777786E-2,8.9155138888888888E-2,7.672777777777777E-2,0.13479421157922955,null,{"$f":"GEOMEAN(C92:OFFSET(C92,$AI$2-1,0))-1","v":0.20823066422091641},{"$f":"GEOMEAN(D92:OFFSET(D92,$AI$2-1,0))-1","v":8.4275615101210732E-2},{"$f":"GEOMEAN(E92:OFFSET(E92,$AI$2-1,0))-1","v":-6.407984502306352E-2},{"$f":"GEOMEAN(F92:OFFSET(F92,$AI$2-1,0))-1","v":4.8103805906275054E-2},{"$f":"GEOMEAN(G92:OFFSET(G92,$AI$2-1,0))-1","v":5.9772822233121303E-2},{"$f":"GEOMEAN(H92:OFFSET(H92,$AI$2-1,0))-1","v":5.3389257011378755E-2},{"$f":"GEOMEAN(I92:OFFSET(I92,$AI$2-1,0))-1","v":9.5429468462556066E-2},{"$f":"GEOMEAN(J92:OFFSET(J92,$AI$2-1,0))-1","v":7.7174453422807598E-2},{"$f":"GEOMEAN(K92:OFFSET(K92,$AI$2-1,0))-1","v":0.25254856364753464},{"$f":"GEOMEAN(L92:OFFSET(L92,$AI$2-1,0))-1","v":0.29105974607806262},{"$f":"GEOMEAN(M92:OFFSET(M92,$AI$2-1,0))-1","v":0.19540626241650161},{"$f":"GEOMEAN(N92:OFFSET(N92,$AI$2-1,0))-1","v":9.7732325855725666E-2},{"$f":"GEOMEAN(O92:OFFSET(O92,$AI$2-1,0))-1","v":8.91547762815732E-2},{"$f":"GEOMEAN(P92:OFFSET(P92,$AI$2-1,0))-1","v":7.6725192583346757E-2},{"$f":"GEOMEAN(Q92:OFFSET(Q92,$AI$2-1,0))-1","v":0.12919805296133768},null,8,"","","","","","","","","","","","","","",""]
[null,1978,{"$f":"VLOOKUP($B22,retdat,MATCH(C$13,Data!$A$3:$CC$3,0),0)","v":0.17589689777081968},{"$f":"VLOOKUP($B22,retdat,MATCH(D$13,Data!$A$3:$CC$3,0),0)","v":8.7249999999999994E-2},{"$f":"VLOOKUP($B22,retdat,MATCH(E$13,Data!$A$3:$CC$3,0),0)","v":0.25884567612109605},{"$f":"VLOOKUP($B22,retdat,MATCH(F$13,Data!$A$3:$CC$3,0),0)","v":9.3660921596511071E-2},{"$f":"VLOOKUP($B22,retdat,MATCH(G$13,Data!$A$3:$CC$3,0),0)","v":8.6340190978796194E-2},{"$f":"VLOOKUP($B22,retdat,MATCH(H$13,Data!$A$3:$CC$3,0),0)","v":7.1883333333333327E-2},{"$f":"VLOOKUP($B22,retdat,MATCH(I$13,Data!$A$3:$CC$3,0),0)","v":1.0564399283848343E-2},{"$f":"VLOOKUP($B22,retdat,MATCH(J$13,Data!$A$3:$CC$3,0),0)","v":-3.2028162366454289E-2},{"$f":"VLOOKUP($B22,retdat,MATCH(K$13,Data!$A$3:$CC$3,0),0)","v":9.8355757910794608E-2},{"$f":"VLOOKUP($B22,retdat,MATCH(L$13,Data!$A$3:$CC$3,0),0)","v":-1.6541295225341566E-2},{"$f":"VLOOKUP($B22,retdat,MATCH(M$13,Data!$A$3:$CC$3,0),0)","v":0.16409366884727103},{"$f":"VLOOKUP($B22,retdat,MATCH(N$13,Data!$A$3:$CC$3,0),0)","v":9.4883333333333333E-2},{"$f":"VLOOKUP($B22,retdat,MATCH(O$13,Data!$A$3:$CC$3,0),0)","v":9.6324583333333338E-2},{"$f":"VLOOKUP($B22,retdat,MATCH(P$13,Data!$A$3:$CC$3,0),0)","v":8.4100000000000022E-2},{"$f":"VLOOKUP($B22,retdat,MATCH(Q$13,Data!$A$3:$CC$3,0),0)","v":0.25397496320018598},null,0.20461979908360747,8.3944444444444447E-2,0.1331136304445425,6.5669788046972419E-2,6.6234386388613467E-2,5.8105555555555556E-2,2.1191604219192018E-2,-1.9071207601966237E-2,0.22997891215493146,0.18555145477984045,0.19212582600419884,9.4013888888888897E-2,9.1128194444444463E-2,7.8136111111111115E-2,0.12892700748652494,null,{"$f":"GEOMEAN(C93:OFFSET(C93,$AI$2-1,0))-1","v":0.20443053560359115},{"$f":"GEOMEAN(D93:OFFSET(D93,$AI$2-1,0))-1","v":8.3940630579806497E-2},{"$f":"GEOMEAN(E93:OFFSET(E93,$AI$2-1,0))-1","v":0.12578784707258572},{"$f":"GEOMEAN(F93:OFFSET(F93,$AI$2-1,0))-1","v":6.5476609901018223E-2},{"$f":"GEOMEAN(G93:OFFSET(G93,$AI$2-1,0))-1","v":6.6116192601135548E-2},{"$f":"GEOMEAN(H93:OFFSET(H93,$AI$2-1,0))-1","v":5.8060203258696097E-2},{"$f":"GEOMEAN(I93:OFFSET(I93,$AI$2-1,0))-1","v":1.3970912250103051E-2},{"$f":"GEOMEAN(J93:OFFSET(J93,$AI$2-1,0))-1","v":-2.9732809662608939E-2},{"$f":"GEOMEAN(K93:OFFSET(K93,$AI$2-1,0))-1","v":0.22419052730939071},{"$f":"GEOMEAN(L93:OFFSET(L93,$AI$2-1,0))-1","v":0.17339982256952347},{"$f":"GEOMEAN(M93:OFFSET(M93,$AI$2-1,0))-1","v":0.19195929724856331},{"$f":"GEOMEAN(N93:OFFSET(N93,$AI$2-1,0))-1","v":9.4009107860211216E-2},{"$f":"GEOMEAN(O93:OFFSET(O93,$AI$2-1,0))-1","v":9.1122013467629603E-2},{"$f":"GEOMEAN(P93:OFFSET(P93,$AI$2-1,0))-1","v":7.8127590684421655E-2},{"$f":"GEOMEAN(Q93:OFFSET(Q93,$AI$2-1,0))-1","v":0.12396357282000592},null,9,0.20443053560359115,8.3940630579806497E-2,0.12578784707258572,6.5476609901018223E-2,6.6116192601135548E-2,5.8060203258696097E-2,1.3970912250103051E-2,-2.9732809662608939E-2,0.22419052730939071,0.17339982256952347,0.19195929724856331,9.4009107860211216E-2,9.1122013467629603E-2,7.8127590684421655E-2,0.12396357282000592]
[null,1979,{"$f":"VLOOKUP($B23,retdat,MATCH(C$13,Data!$A$3:$CC$3,0),0)","v":0.21561905688916291},{"$f":"VLOOKUP($B23,retdat,MATCH(D$13,Data!$A$3:$CC$3,0),0)","v":9.6291666666666664E-2},{"$f":"VLOOKUP($B23,retdat,MATCH(E$13,Data!$A$3:$CC$3,0),0)","v":0.90224995534422159},{"$f":"VLOOKUP($B23,retdat,MATCH(F$13,Data!$A$3:$CC$3,0),0)","v":0.13730692482522749},{"$f":"VLOOKUP($B23,retdat,MATCH(G$13,Data!$A$3:$CC$3,0),0)","v":0.12481552845498117},{"$f":"VLOOKUP($B23,retdat,MATCH(H$13,Data!$A$3:$CC$3,0),0)","v":0.10069166666666667},{"$f":"VLOOKUP($B23,retdat,MATCH(I$13,Data!$A$3:$CC$3,0),0)","v":0.11608214835530381},{"$f":"VLOOKUP($B23,retdat,MATCH(J$13,Data!$A$3:$CC$3,0),0)","v":4.101079657180242E-2},{"$f":"VLOOKUP($B23,retdat,MATCH(K$13,Data!$A$3:$CC$3,0),0)","v":0.30643676358307709},{"$f":"VLOOKUP($B23,retdat,MATCH(L$13,Data!$A$3:$CC$3,0),0)","v":0.26640255835981969},{"$f":"VLOOKUP($B23,retdat,MATCH(M$13,Data!$A$3:$CC$3,0),0)","v":0.21506933851322343},{"$f":"VLOOKUP($B23,retdat,MATCH(N$13,Data!$A$3:$CC$3,0),0)","v":0.10689999999999998},{"$f":"VLOOKUP($B23,retdat,MATCH(O$13,Data!$A$3:$CC$3,0),0)","v":0.11191749999999999},{"$f":"VLOOKUP($B23,retdat,MATCH(P$13,Data!$A$3:$CC$3,0),0)","v":9.4425000000000009E-2},{"$f":"VLOOKUP($B23,retdat,MATCH(Q$13,Data!$A$3:$CC$3,0),0)","v":1.7972979564267088E-2},null,0.20611659014739256,8.7927777777777785E-2,0.44695267634963004,9.6160584207448482E-2,9.2005451211939426E-2,7.5088888888888886E-2,1.4856106299404408E-3,-6.0197064825967615E-2,0.2023715533545285,0.14148569912411338,0.19551692868168222,9.7158333333333333E-2,9.8886250000000009E-2,8.4238888888888905E-2,0.13611437864665801,null,{"$f":"GEOMEAN(C94:OFFSET(C94,$AI$2-1,0))-1","v":0.2059172128425022},{"$f":"GEOMEAN(D94:OFFSET(D94,$AI$2-1,0))-1","v":8.7907952230365405E-2},{"$f":"GEOMEAN(E94:OFFSET(E94,$AI$2-1,0))-1","v":0.41365969181542872},{"$f":"GEOMEAN(F94:OFFSET(F94,$AI$2-1,0))-1","v":9.5676015358718391E-2},{"$f":"GEOMEAN(G94:OFFSET(G94,$AI$2-1,0))-1","v":9.1725130898247409E-2},{"$f":"GEOMEAN(H94:OFFSET(H94,$AI$2-1,0))-1","v":7.4908409355473937E-2},{"$f":"GEOMEAN(I94:OFFSET(I94,$AI$2-1,0))-1","v":-3.3249032338251716E-3},{"$f":"GEOMEAN(J94:OFFSET(J94,$AI$2-1,0))-1","v":-6.5289464757916971E-2},{"$f":"GEOMEAN(K94:OFFSET(K94,$AI$2-1,0))-1","v":0.19936330151876613},{"$f":"GEOMEAN(L94:OFFSET(L94,$AI$2-1,0))-1","v":0.13519931762218707},{"$f":"GEOMEAN(M94:OFFSET(M94,$AI$2-1,0))-1","v":0.1953045927906043},{"$f":"GEOMEAN(N94:OFFSET(N94,$AI$2-1,0))-1","v":9.7134707374532558E-2},{"$f":"GEOMEAN(O94:OFFSET(O94,$AI$2-1,0))-1","v":9.88429693690136E-2},{"$f":"GEOMEAN(P94:OFFSET(P94,$AI$2-1,0))-1","v":8.4207422492312389E-2},{"$f":"GEOMEAN(Q94:OFFSET(Q94,$AI$2-1,0))-1","v":0.13201322687296435},null,10,"","","","","","","","","","","","","","",""]
[null,1980,{"$f":"VLOOKUP($B24,retdat,MATCH(C$13,Data!$A$3:$CC$3,0),0)","v":0.20356469876085781},{"$f":"VLOOKUP($B24,retdat,MATCH(D$13,Data!$A$3:$CC$3,0),0)","v":0.11938333333333334},{"$f":"VLOOKUP($B24,retdat,MATCH(E$13,Data!$A$3:$CC$3,0),0)","v":0.14137409324827663},{"$f":"VLOOKUP($B24,retdat,MATCH(F$13,Data!$A$3:$CC$3,0),0)","v":0.11751654664747782},{"$f":"VLOOKUP($B24,retdat,MATCH(G$13,Data!$A$3:$CC$3,0),0)","v":0.11792788971617164},{"$f":"VLOOKUP($B24,retdat,MATCH(H$13,Data!$A$3:$CC$3,0),0)","v":0.11434166666666667},{"$f":"VLOOKUP($B24,retdat,MATCH(I$13,Data!$A$3:$CC$3,0),0)","v":0.22931310373547412},{"$f":"VLOOKUP($B24,retdat,MATCH(J$13,Data!$A$3:$CC$3,0),0)","v":0.13923822062017965},{"$f":"VLOOKUP($B24,retdat,MATCH(K$13,Data!$A$3:$CC$3,0),0)","v":0.21808378792672162},{"$f":"VLOOKUP($B24,retdat,MATCH(L$13,Data!$A$3:$CC$3,0),0)","v":0.24701207626179683},{"$f":"VLOOKUP($B24,retdat,MATCH(M$13,Data!$A$3:$CC$3,0),0)","v":0.2051007110743629},{"$f":"VLOOKUP($B24,retdat,MATCH(N$13,Data!$A$3:$CC$3,0),0)","v":0.13668333333333332},{"$f":"VLOOKUP($B24,retdat,MATCH(O$13,Data!$A$3:$CC$3,0),0)","v":0.13769499999999998},{"$f":"VLOOKUP($B24,retdat,MATCH(P$13,Data!$A$3:$CC$3,0),0)","v":0.11460000000000001},{"$f":"VLOOKUP($B24,retdat,MATCH(Q$13,Data!$A$3:$CC$3,0),0)","v":0.17406424905883816},null,0.19836021780694679,0.100975,0.43415657490453136,0.11616146435640547,0.10969453638331633,9.5638888888888884E-2,0.11865321712487542,4.9406951608509254E-2,0.20762543647353113,0.16562444646542498,0.19475457281161912,0.11282222222222221,0.11531236111111109,9.7708333333333355E-2,0.14867073060776373,null,{"$f":"GEOMEAN(C95:OFFSET(C95,$AI$2-1,0))-1","v":0.19824436464687945},{"$f":"GEOMEAN(D95:OFFSET(D95,$AI$2-1,0))-1","v":0.10089218436889968},{"$f":"GEOMEAN(E95:OFFSET(E95,$AI$2-1,0))-1","v":0.39815728090045543},{"$f":"GEOMEAN(F95:OFFSET(F95,$AI$2-1,0))-1","v":0.11601863573440907},{"$f":"GEOMEAN(G95:OFFSET(G95,$AI$2-1,0))-1","v":0.10956729486025818},{"$f":"GEOMEAN(H95:OFFSET(H95,$AI$2-1,0))-1","v":9.5495308660493494E-2},{"$f":"GEOMEAN(I95:OFFSET(I95,$AI$2-1,0))-1","v":0.1150839266974184},{"$f":"GEOMEAN(J95:OFFSET(J95,$AI$2-1,0))-1","v":4.7074301698151633E-2},{"$f":"GEOMEAN(K95:OFFSET(K95,$AI$2-1,0))-1","v":0.20458151870645569},{"$f":"GEOMEAN(L95:OFFSET(L95,$AI$2-1,0))-1","v":0.15806478540945168},{"$f":"GEOMEAN(M95:OFFSET(M95,$AI$2-1,0))-1","v":0.19454938931305721},{"$f":"GEOMEAN(N95:OFFSET(N95,$AI$2-1,0))-1","v":0.11268416670038639},{"$f":"GEOMEAN(O95:OFFSET(O95,$AI$2-1,0))-1","v":0.11518226936655096},{"$f":"GEOMEAN(P95:OFFSET(P95,$AI$2-1,0))-1","v":9.763546149061697E-2},{"$f":"GEOMEAN(Q95:OFFSET(Q95,$AI$2-1,0))-1","v":0.14438544772001549},null,11,"","","","","","","","","","","","","","",""]
[null,1981,{"$f":"VLOOKUP($B25,retdat,MATCH(C$13,Data!$A$3:$CC$3,0),0)","v":0.15635096582721073},{"$f":"VLOOKUP($B25,retdat,MATCH(D$13,Data!$A$3:$CC$3,0),0)","v":0.14170833333333333},{"$f":"VLOOKUP($B25,retdat,MATCH(E$13,Data!$A$3:$CC$3,0),0)","v":-0.39450378419339788},{"$f":"VLOOKUP($B25,retdat,MATCH(F$13,Data!$A$3:$CC$3,0),0)","v":5.1932748741643046E-2},{"$f":"VLOOKUP($B25,retdat,MATCH(G$13,Data!$A$3:$CC$3,0),0)","v":8.5465184180621614E-2},{"$f":"VLOOKUP($B25,retdat,MATCH(H$13,Data!$A$3:$CC$3,0),0)","v":0.14024999999999999},{"$f":"VLOOKUP($B25,retdat,MATCH(I$13,Data!$A$3:$CC$3,0),0)","v":-0.1023695109518493},{"$f":"VLOOKUP($B25,retdat,MATCH(J$13,Data!$A$3:$CC$3,0),0)","v":-9.6867408252931192E-2},{"$f":"VLOOKUP($B25,retdat,MATCH(K$13,Data!$A$3:$CC$3,0),0)","v":5.8276544524166855E-2},{"$f":"VLOOKUP($B25,retdat,MATCH(L$13,Data!$A$3:$CC$3,0),0)","v":8.2276839440048058E-2},{"$f":"VLOOKUP($B25,retdat,MATCH(M$13,Data!$A$3:$CC$3,0),0)","v":0.14165315318282307},{"$f":"VLOOKUP($B25,retdat,MATCH(N$13,Data!$A$3:$CC$3,0),0)","v":0.1604416666666667},{"$f":"VLOOKUP($B25,retdat,MATCH(O$13,Data!$A$3:$CC$3,0),0)","v":0.16634624999999997},{"$f":"VLOOKUP($B25,retdat,MATCH(P$13,Data!$A$3:$CC$3,0),0)","v":0.13910833333333331},{"$f":"VLOOKUP($B25,retdat,MATCH(Q$13,Data!$A$3:$CC$3,0),0)","v":-4.9701495960842626E-2},null,0.19184490715907718,0.11912777777777778,0.21637342146636676,0.1022520734047828,0.10940286745059147,0.11842777777777778,8.1008580379642869E-2,2.7793869646350295E-2,0.19426569867798851,0.19856382468722153,0.18727440092346978,0.13467500000000002,0.13865291666666665,0.11604444444444444,4.7445244220754211E-2,null,{"$f":"GEOMEAN(C96:OFFSET(C96,$AI$2-1,0))-1","v":0.19156810398375534},{"$f":"GEOMEAN(D96:OFFSET(D96,$AI$2-1,0))-1","v":0.11897411466658081},{"$f":"GEOMEAN(E96:OFFSET(E96,$AI$2-1,0))-1","v":9.5474675344069393E-2},{"$f":"GEOMEAN(F96:OFFSET(F96,$AI$2-1,0))-1","v":0.10164044972529607},{"$f":"GEOMEAN(G96:OFFSET(G96,$AI$2-1,0))-1","v":0.1092693097171713},{"$f":"GEOMEAN(H96:OFFSET(H96,$AI$2-1,0))-1","v":0.11830785742232308},{"$f":"GEOMEAN(I96:OFFSET(I96,$AI$2-1,0))-1","v":7.189461564354338E-2},{"$f":"GEOMEAN(J96:OFFSET(J96,$AI$2-1,0))-1","v":2.3152646364632545E-2},{"$f":"GEOMEAN(K96:OFFSET(K96,$AI$2-1,0))-1","v":0.18974779587186341},{"$f":"GEOMEAN(L96:OFFSET(L96,$AI$2-1,0))-1","v":0.19562118346389856},{"$f":"GEOMEAN(M96:OFFSET(M96,$AI$2-1,0))-1","v":0.18682365832192804},{"$f":"GEOMEAN(N96:OFFSET(N96,$AI$2-1,0))-1","v":0.13446316139830095},{"$f":"GEOMEAN(O96:OFFSET(O96,$AI$2-1,0))-1","v":0.13843604383974273},{"$f":"GEOMEAN(P96:OFFSET(P96,$AI$2-1,0))-1","v":0.11589506674023342},{"$f":"GEOMEAN(Q96:OFFSET(Q96,$AI$2-1,0))-1","v":4.334847743571002E-2},null,12,0.19156810398375534,0.11897411466658081,9.5474675344069393E-2,0.10164044972529607,0.1092693097171713,0.11830785742232308,7.189461564354338E-2,2.3152646364632545E-2,0.18974779587186341,0.19562118346389856,0.18682365832192804,0.13446316139830095,0.13843604383974273,0.11589506674023342,4.334847743571002E-2]
[null,1982,{"$f":"VLOOKUP($B26,retdat,MATCH(C$13,Data!$A$3:$CC$3,0),0)","v":5.1932825150184554E-2},{"$f":"VLOOKUP($B26,retdat,MATCH(D$13,Data!$A$3:$CC$3,0),0)","v":0.13787500000000003},{"$f":"VLOOKUP($B26,retdat,MATCH(E$13,Data!$A$3:$CC$3,0),0)","v":0.13926961447483924},{"$f":"VLOOKUP($B26,retdat,MATCH(F$13,Data!$A$3:$CC$3,0),0)","v":1.7060122745308388E-2},{"$f":"VLOOKUP($B26,retdat,MATCH(G$13,Data!$A$3:$CC$3,0),0)","v":3.7582711149042852E-2},{"$f":"VLOOKUP($B26,retdat,MATCH(H$13,Data!$A$3:$CC$3,0),0)","v":0.10614166666666663},{"$f":"VLOOKUP($B26,retdat,MATCH(I$13,Data!$A$3:$CC$3,0),0)","v":0.13768432396274524},{"$f":"VLOOKUP($B26,retdat,MATCH(J$13,Data!$A$3:$CC$3,0),0)","v":0.17898265552843995},{"$f":"VLOOKUP($B26,retdat,MATCH(K$13,Data!$A$3:$CC$3,0),0)","v":0.19557419779782687},{"$f":"VLOOKUP($B26,retdat,MATCH(L$13,Data!$A$3:$CC$3,0),0)","v":0.27493085989666549},{"$f":"VLOOKUP($B26,retdat,MATCH(M$13,Data!$A$3:$CC$3,0),0)","v":4.9093687025488573E-2},{"$f":"VLOOKUP($B26,retdat,MATCH(N$13,Data!$A$3:$CC$3,0),0)","v":0.16113333333333332},{"$f":"VLOOKUP($B26,retdat,MATCH(O$13,Data!$A$3:$CC$3,0),0)","v":0.16090208333333333},{"$f":"VLOOKUP($B26,retdat,MATCH(P$13,Data!$A$3:$CC$3,0),0)","v":0.13001666666666667},{"$f":"VLOOKUP($B26,retdat,MATCH(Q$13,Data!$A$3:$CC$3,0),0)","v":-4.738906565996185E-2},null,0.13728282991275104,0.13298888888888891,-3.7953358823427347E-2,6.2169806044809754E-2,8.032526168194537E-2,0.12024444444444443,8.8209305582123365E-2,7.3784489298562808E-2,0.15731151008290511,0.20140659186617013,0.13194918376089151,0.15275277777777777,0.1549811111111111,0.12790833333333332,2.5657895812677894E-2,null,{"$f":"GEOMEAN(C97:OFFSET(C97,$AI$2-1,0))-1","v":0.13548753743677278},{"$f":"GEOMEAN(D97:OFFSET(D97,$AI$2-1,0))-1","v":0.13294681024916799},{"$f":"GEOMEAN(E97:OFFSET(E97,$AI$2-1,0))-1","v":-7.660258842340173E-2},{"$f":"GEOMEAN(F97:OFFSET(F97,$AI$2-1,0))-1","v":6.1360339155132282E-2},{"$f":"GEOMEAN(G97:OFFSET(G97,$AI$2-1,0))-1","v":7.9818603210637162E-2},{"$f":"GEOMEAN(H97:OFFSET(H97,$AI$2-1,0))-1","v":0.12015056121016587},{"$f":"GEOMEAN(I97:OFFSET(I97,$AI$2-1,0))-1","v":7.8766107715488642E-2},{"$f":"GEOMEAN(J97:OFFSET(J97,$AI$2-1,0))-1","v":6.6492549945543322E-2},{"$f":"GEOMEAN(K97:OFFSET(K97,$AI$2-1,0))-1","v":0.15509478324689807},{"$f":"GEOMEAN(L97:OFFSET(L97,$AI$2-1,0))-1","v":0.19829906136858022},{"$f":"GEOMEAN(M97:OFFSET(M97,$AI$2-1,0))-1","v":0.13011836447155112},{"$f":"GEOMEAN(N97:OFFSET(N97,$AI$2-1,0))-1","v":0.15269647844089929},{"$f":"GEOMEAN(O97:OFFSET(O97,$AI$2-1,0))-1","v":0.15491399958987717},{"$f":"GEOMEAN(P97:OFFSET(P97,$AI$2-1,0))-1","v":0.12786288542727031},{"$f":"GEOMEAN(Q97:OFFSET(Q97,$AI$2-1,0))-1","v":2.0522279629877849E-2},null,13,"","","","","","","","","","","","","","",""]
[null,1983,{"$f":"VLOOKUP($B27,retdat,MATCH(C$13,Data!$A$3:$CC$3,0),0)","v":1.3626366758921338E-2},{"$f":"VLOOKUP($B27,retdat,MATCH(D$13,Data!$A$3:$CC$3,0),0)","v":0.12041666666666666},{"$f":"VLOOKUP($B27,retdat,MATCH(E$13,Data!$A$3:$CC$3,0),0)","v":-0.17799736739197955},{"$f":"VLOOKUP($B27,retdat,MATCH(F$13,Data!$A$3:$CC$3,0),0)","v":1.7751945458450321E-2},{"$f":"VLOOKUP($B27,retdat,MATCH(G$13,Data!$A$3:$CC$3,0),0)","v":3.7208917835590972E-2},{"$f":"VLOOKUP($B27,retdat,MATCH(H$13,Data!$A$3:$CC$3,0),0)","v":8.6108333333333342E-2},{"$f":"VLOOKUP($B27,retdat,MATCH(I$13,Data!$A$3:$CC$3,0),0)","v":0.15931770752319407},{"$f":"VLOOKUP($B27,retdat,MATCH(J$13,Data!$A$3:$CC$3,0),0)","v":0.18454872920677864},{"$f":"VLOOKUP($B27,retdat,MATCH(K$13,Data!$A$3:$CC$3,0),0)","v":0.26724655559032495},{"$f":"VLOOKUP($B27,retdat,MATCH(L$13,Data!$A$3:$CC$3,0),0)","v":0.22688747185629388},{"$f":"VLOOKUP($B27,retdat,MATCH(M$13,Data!$A$3:$CC$3,0),0)","v":7.6027772489274583E-3},{"$f":"VLOOKUP($B27,retdat,MATCH(N$13,Data!$A$3:$CC$3,0),0)","v":0.13554166666666664},{"$f":"VLOOKUP($B27,retdat,MATCH(O$13,Data!$A$3:$CC$3,0),0)","v":0.13226874999999999},{"$f":"VLOOKUP($B27,retdat,MATCH(P$13,Data!$A$3:$CC$3,0),0)","v":0.11105000000000002},{"$f":"VLOOKUP($B27,retdat,MATCH(Q$13,Data!$A$3:$CC$3,0),0)","v":0.1899067954562719},null,7.3970052578772205E-2,0.13333333333333333,-0.14441051237017941,2.8914938981800586E-2,5.3418937721751818E-2,0.11083333333333333,6.4877506844696675E-2,8.8887992160762472E-2,0.17369909930410624,0.19469839039766912,6.6116539152413042E-2,0.15237222222222224,0.1531723611111111,0.126725,3.0938744611822472E-2,null,{"$f":"GEOMEAN(C98:OFFSET(C98,$AI$2-1,0))-1","v":7.2305477902282034E-2},{"$f":"GEOMEAN(D98:OFFSET(D98,$AI$2-1,0))-1","v":0.13329532108099706},{"$f":"GEOMEAN(E98:OFFSET(E98,$AI$2-1,0))-1","v":-0.17230489766874146},{"$f":"GEOMEAN(F98:OFFSET(F98,$AI$2-1,0))-1","v":2.8787110831070439E-2},{"$f":"GEOMEAN(G98:OFFSET(G98,$AI$2-1,0))-1","v":5.317762133151116E-2},{"$f":"GEOMEAN(H98:OFFSET(H98,$AI$2-1,0))-1","v":0.11060935211637912},{"$f":"GEOMEAN(I98:OFFSET(I98,$AI$2-1,0))-1","v":5.7890246255590583E-2},{"$f":"GEOMEAN(J98:OFFSET(J98,$AI$2-1,0))-1","v":8.0448209480997512E-2},{"$f":"GEOMEAN(K98:OFFSET(K98,$AI$2-1,0))-1","v":0.17043043934956592},{"$f":"GEOMEAN(L98:OFFSET(L98,$AI$2-1,0))-1","v":0.19181791680580629},{"$f":"GEOMEAN(M98:OFFSET(M98,$AI$2-1,0))-1","v":6.4664083430000296E-2},{"$f":"GEOMEAN(N98:OFFSET(N98,$AI$2-1,0))-1","v":0.15231043249423326},{"$f":"GEOMEAN(O98:OFFSET(O98,$AI$2-1,0))-1","v":0.15307494728089854},{"$f":"GEOMEAN(P98:OFFSET(P98,$AI$2-1,0))-1","v":0.12666419782607052},{"$f":"GEOMEAN(Q98:OFFSET(Q98,$AI$2-1,0))-1","v":2.5092015615869157E-2},null,14,"","","","","","","","","","","","","","",""]
[null,1984,{"$f":"VLOOKUP($B28,retdat,MATCH(C$13,Data!$A$3:$CC$3,0),0)","v":7.5850530859432566E-2},{"$f":"VLOOKUP($B28,retdat,MATCH(D$13,Data!$A$3:$CC$3,0),0)","v":0.12709166666666666},{"$f":"VLOOKUP($B28,retdat,MATCH(E$13,Data!$A$3:$CC$3,0),0)","v":-0.2153938462851416},{"$f":"VLOOKUP($B28,retdat,MATCH(F$13,Data!$A$3:$CC$3,0),0)","v":1.1661939747842957E-2},{"$f":"VLOOKUP($B28,retdat,MATCH(G$13,Data!$A$3:$CC$3,0),0)","v":3.8727007885292021E-2},{"$f":"VLOOKUP($B28,retdat,MATCH(H$13,Data!$A$3:$CC$3,0),0)","v":9.522499999999999E-2},{"$f":"VLOOKUP($B28,retdat,MATCH(I$13,Data!$A$3:$CC$3,0),0)","v":1.3908765028303472E-2},{"$f":"VLOOKUP($B28,retdat,MATCH(J$13,Data!$A$3:$CC$3,0),0)","v":-3.8058191939750942E-2},{"$f":"VLOOKUP($B28,retdat,MATCH(K$13,Data!$A$3:$CC$3,0),0)","v":0.19001915173552938},{"$f":"VLOOKUP($B28,retdat,MATCH(L$13,Data!$A$3:$CC$3,0),0)","v":0.13815473465501157},{"$f":"VLOOKUP($B28,retdat,MATCH(M$13,Data!$A$3:$CC$3,0),0)","v":7.4409676591803794E-2},{"$f":"VLOOKUP($B28,retdat,MATCH(N$13,Data!$A$3:$CC$3,0),0)","v":0.1419},{"$f":"VLOOKUP($B28,retdat,MATCH(O$13,Data!$A$3:$CC$3,0),0)","v":0.13869375},{"$f":"VLOOKUP($B28,retdat,MATCH(P$13,Data!$A$3:$CC$3,0),0)","v":0.12438333333333333},{"$f":"VLOOKUP($B28,retdat,MATCH(Q$13,Data!$A$3:$CC$3,0),0)","v":4.898313685194651E-2},null,4.7136574256179488E-2,0.12846111111111111,-8.4707199734093977E-2,1.5491335983867221E-2,3.7839545623308608E-2,9.5824999999999994E-2,0.10363693217141424,0.10849106426515588,0.21761330170789372,0.21332435546932368,4.3702046955406609E-2,0.14619166666666664,0.14395486111111111,0.12181666666666668,6.3833622216085517E-2,null,{"$f":"GEOMEAN(C99:OFFSET(C99,$AI$2-1,0))-1","v":4.6821454648882543E-2},{"$f":"GEOMEAN(D99:OFFSET(D99,$AI$2-1,0))-1","v":0.12843821427851099},{"$f":"GEOMEAN(E99:OFFSET(E99,$AI$2-1,0))-1","v":-9.7631740045290627E-2},{"$f":"GEOMEAN(F99:OFFSET(F99,$AI$2-1,0))-1","v":1.548768216151708E-2},{"$f":"GEOMEAN(G99:OFFSET(G99,$AI$2-1,0))-1","v":3.7839344730362212E-2},{"$f":"GEOMEAN(H99:OFFSET(H99,$AI$2-1,0))-1","v":9.5794413750374341E-2},{"$f":"GEOMEAN(I99:OFFSET(I99,$AI$2-1,0))-1","v":0.10172796604460776},{"$f":"GEOMEAN(J99:OFFSET(J99,$AI$2-1,0))-1","v":0.10340864583526743},{"$f":"GEOMEAN(K99:OFFSET(K99,$AI$2-1,0))-1","v":0.21711197298446105},{"$f":"GEOMEAN(L99:OFFSET(L99,$AI$2-1,0))-1","v":0.21198587437211192},{"$f":"GEOMEAN(M99:OFFSET(M99,$AI$2-1,0))-1","v":4.3336770447055528E-2},{"$f":"GEOMEAN(N99:OFFSET(N99,$AI$2-1,0))-1","v":0.14614020369878022},{"$f":"GEOMEAN(O99:OFFSET(O99,$AI$2-1,0))-1","v":0.14388934906882467},{"$f":"GEOMEAN(P99:OFFSET(P99,$AI$2-1,0))-1","v":0.12178841521891792},{"$f":"GEOMEAN(Q99:OFFSET(Q99,$AI$2-1,0))-1","v":5.9413910753109533E-2},null,15,4.6821454648882543E-2,0.12843821427851099,-9.7631740045290627E-2,1.548768216151708E-2,3.7839344730362212E-2,9.5794413750374341E-2,0.10172796604460776,0.10340864583526743,0.21711197298446105,0.21198587437211192,4.3336770447055528E-2,0.14614020369878022,0.14388934906882467,0.12178841521891792,5.9413910753109533E-2]
[null,1985,{"$f":"VLOOKUP($B29,retdat,MATCH(C$13,Data!$A$3:$CC$3,0),0)","v":-5.8476364205386301E-2},{"$f":"VLOOKUP($B29,retdat,MATCH(D$13,Data!$A$3:$CC$3,0),0)","v":0.11373333333333333},{"$f":"VLOOKUP($B29,retdat,MATCH(E$13,Data!$A$3:$CC$3,0),0)","v":5.8275028093743159E-2},{"$f":"VLOOKUP($B29,retdat,MATCH(F$13,Data!$A$3:$CC$3,0),0)","v":9.6571711995879132E-4},{"$f":"VLOOKUP($B29,retdat,MATCH(G$13,Data!$A$3:$CC$3,0),0)","v":3.7282976042563025E-2},{"$f":"VLOOKUP($B29,retdat,MATCH(H$13,Data!$A$3:$CC$3,0),0)","v":7.4791666666666645E-2},{"$f":"VLOOKUP($B29,retdat,MATCH(I$13,Data!$A$3:$CC$3,0),0)","v":0.23375436150051249},{"$f":"VLOOKUP($B29,retdat,MATCH(J$13,Data!$A$3:$CC$3,0),0)","v":0.24418182889101206},{"$f":"VLOOKUP($B29,retdat,MATCH(K$13,Data!$A$3:$CC$3,0),0)","v":0.17476267070881307},{"$f":"VLOOKUP($B29,retdat,MATCH(L$13,Data!$A$3:$CC$3,0),0)","v":5.7513210012705332E-2},{"$f":"VLOOKUP($B29,retdat,MATCH(M$13,Data!$A$3:$CC$3,0),0)","v":-5.063820459495199E-2},{"$f":"VLOOKUP($B29,retdat,MATCH(N$13,Data!$A$3:$CC$3,0),0)","v":0.12715000000000004},{"$f":"VLOOKUP($B29,retdat,MATCH(O$13,Data!$A$3:$CC$3,0),0)","v":0.12423250000000001},{"$f":"VLOOKUP($B29,retdat,MATCH(P$13,Data!$A$3:$CC$3,0),0)","v":0.10623333333333333},{"$f":"VLOOKUP($B29,retdat,MATCH(Q$13,Data!$A$3:$CC$3,0),0)","v":0.42506511921364076},null,1.0333511137655869E-2,0.12041388888888889,-0.11170539519445932,1.012653410875069E-2,3.7739633921148673E-2,8.5374999999999993E-2,0.13566027801733668,0.13022412205267994,0.2106761260115558,0.14085180550800361,1.0458083081926419E-2,0.13486388888888889,0.13173166666666666,0.11388888888888889,0.2213183505072864,null,{"$f":"GEOMEAN(C100:OFFSET(C100,$AI$2-1,0))-1","v":8.8354966362242937E-3},{"$f":"GEOMEAN(D100:OFFSET(D100,$AI$2-1,0))-1","v":0.1204006164388105},{"$f":"GEOMEAN(E100:OFFSET(E100,$AI$2-1,0))-1","v":-0.11954366573777009},{"$f":"GEOMEAN(F100:OFFSET(F100,$AI$2-1,0))-1","v":1.0102668993834163E-2},{"$f":"GEOMEAN(G100:OFFSET(G100,$AI$2-1,0))-1","v":3.7739398691548853E-2},{"$f":"GEOMEAN(H100:OFFSET(H100,$AI$2-1,0))-1","v":8.5342796950098609E-2},{"$f":"GEOMEAN(I100:OFFSET(I100,$AI$2-1,0))-1","v":0.13190509795808114},{"$f":"GEOMEAN(J100:OFFSET(J100,$AI$2-1,0))-1","v":0.12338476196314607},{"$f":"GEOMEAN(K100:OFFSET(K100,$AI$2-1,0))-1","v":0.21000844874575519},{"$f":"GEOMEAN(L100:OFFSET(L100,$AI$2-1,0))-1","v":0.1387558317533879},{"$f":"GEOMEAN(M100:OFFSET(M100,$AI$2-1,0))-1","v":9.1684686038437935E-3},{"$f":"GEOMEAN(N100:OFFSET(N100,$AI$2-1,0))-1","v":0.13484780227439863},{"$f":"GEOMEAN(O100:OFFSET(O100,$AI$2-1,0))-1","v":0.13171619663421463},{"$f":"GEOMEAN(P100:OFFSET(P100,$AI$2-1,0))-1","v":0.113862495644939},{"$f":"GEOMEAN(Q100:OFFSET(Q100,$AI$2-1,0))-1","v":0.21163567996506871},null,16,"","","","","","","","","","","","","","",""]
[null,1986,{"$f":"VLOOKUP($B30,retdat,MATCH(C$13,Data!$A$3:$CC$3,0),0)","v":-3.0706066205960288E-2},{"$f":"VLOOKUP($B30,retdat,MATCH(D$13,Data!$A$3:$CC$3,0),0)","v":9.0208333333333321E-2},{"$f":"VLOOKUP($B30,retdat,MATCH(E$13,Data!$A$3:$CC$3,0),0)","v":0.1735881005075961},{"$f":"VLOOKUP($B30,retdat,MATCH(F$13,Data!$A$3:$CC$3,0),0)","v":-3.8371652857589901E-2},{"$f":"VLOOKUP($B30,retdat,MATCH(G$13,Data!$A$3:$CC$3,0),0)","v":1.0919125775314564E-2},{"$f":"VLOOKUP($B30,retdat,MATCH(H$13,Data!$A$3:$CC$3,0),0)","v":5.9783333333333327E-2},{"$f":"VLOOKUP($B30,retdat,MATCH(I$13,Data!$A$3:$CC$3,0),0)","v":0.13645569088353351},{"$f":"VLOOKUP($B30,retdat,MATCH(J$13,Data!$A$3:$CC$3,0),0)","v":0.20362277477087298},{"$f":"VLOOKUP($B30,retdat,MATCH(K$13,Data!$A$3:$CC$3,0),0)","v":0.17527785604998034},{"$f":"VLOOKUP($B30,retdat,MATCH(L$13,Data!$A$3:$CC$3,0),0)","v":0.17542993908503066},{"$f":"VLOOKUP($B30,retdat,MATCH(M$13,Data!$A$3:$CC$3,0),0)","v":-2.445803510694626E-2},{"$f":"VLOOKUP($B30,retdat,MATCH(N$13,Data!$A$3:$CC$3,0),0)","v":0.10390833333333331},{"$f":"VLOOKUP($B30,retdat,MATCH(O$13,Data!$A$3:$CC$3,0),0)","v":0.10177833333333335},{"$f":"VLOOKUP($B30,retdat,MATCH(P$13,Data!$A$3:$CC$3,0),0)","v":7.6824999999999977E-2},{"$f":"VLOOKUP($B30,retdat,MATCH(Q$13,Data!$A$3:$CC$3,0),0)","v":0.51162283195275093},null,-4.4439665173046745E-3,0.11034444444444443,5.4897607720658841E-3,-8.5813319965960515E-3,2.8976369901056537E-2,7.6599999999999988E-2,0.12803960580411647,0.13658213724071136,0.18001989283144093,0.12369929458424918,-2.2885437003148518E-4,0.12431944444444444,0.12156819444444446,0.10248055555555553,0.32855702933944603,null,{"$f":"GEOMEAN(C101:OFFSET(C101,$AI$2-1,0))-1","v":-6.0919226623581402E-3},{"$f":"GEOMEAN(D101:OFFSET(D101,$AI$2-1,0))-1","v":0.1102394407474494},{"$f":"GEOMEAN(E101:OFFSET(E101,$AI$2-1,0))-1","v":-8.5853809873875919E-3},{"$f":"GEOMEAN(F101:OFFSET(F101,$AI$2-1,0))-1","v":-8.8167431932704154E-3},{"$f":"GEOMEAN(G101:OFFSET(G101,$AI$2-1,0))-1","v":2.8896513891002007E-2},{"$f":"GEOMEAN(H101:OFFSET(H101,$AI$2-1,0))-1","v":7.6502166354204704E-2},{"$f":"GEOMEAN(I101:OFFSET(I101,$AI$2-1,0))-1","v":0.12441516779961703},{"$f":"GEOMEAN(J101:OFFSET(J101,$AI$2-1,0))-1","v":0.12938240432806514},{"$f":"GEOMEAN(K101:OFFSET(K101,$AI$2-1,0))-1","v":0.17999875043998892},{"$f":"GEOMEAN(L101:OFFSET(L101,$AI$2-1,0))-1","v":0.12260753508600519},{"$f":"GEOMEAN(M101:OFFSET(M101,$AI$2-1,0))-1","v":-1.6506504249900189E-3},{"$f":"GEOMEAN(N101:OFFSET(N101,$AI$2-1,0))-1","v":0.12421040372942538},{"$f":"GEOMEAN(O101:OFFSET(O101,$AI$2-1,0))-1","v":0.12146511025029394},{"$f":"GEOMEAN(P101:OFFSET(P101,$AI$2-1,0))-1","v":0.10230579339161538},{"$f":"GEOMEAN(Q101:OFFSET(Q101,$AI$2-1,0))-1","v":0.31224689330706523},null,17,"","","","","","","","","","","","","","",""]
[null,1987,{"$f":"VLOOKUP($B31,retdat,MATCH(C$13,Data!$A$3:$CC$3,0),0)","v":1.8307446483157401E-3},{"$f":"VLOOKUP($B31,retdat,MATCH(D$13,Data!$A$3:$CC$3,0),0)","v":9.3758333333333346E-2},{"$f":"VLOOKUP($B31,retdat,MATCH(E$13,Data!$A$3:$CC$3,0),0)","v":0.21935503345220486},{"$f":"VLOOKUP($B31,retdat,MATCH(F$13,Data!$A$3:$CC$3,0),0)","v":4.4146452351473901E-2},{"$f":"VLOOKUP($B31,retdat,MATCH(G$13,Data!$A$3:$CC$3,0),0)","v":4.3388833116191738E-2},{"$f":"VLOOKUP($B31,retdat,MATCH(H$13,Data!$A$3:$CC$3,0),0)","v":5.7749999999999996E-2},{"$f":"VLOOKUP($B31,retdat,MATCH(I$13,Data!$A$3:$CC$3,0),0)","v":2.0072211955288202E-2},{"$f":"VLOOKUP($B31,retdat,MATCH(J$13,Data!$A$3:$CC$3,0),0)","v":2.2322821156253853E-2},{"$f":"VLOOKUP($B31,retdat,MATCH(K$13,Data!$A$3:$CC$3,0),0)","v":-3.7077292071575604E-2},{"$f":"VLOOKUP($B31,retdat,MATCH(L$13,Data!$A$3:$CC$3,0),0)","v":-0.11281665391448972},{"$f":"VLOOKUP($B31,retdat,MATCH(M$13,Data!$A$3:$CC$3,0),0)","v":1.4746600183479227E-2},{"$f":"VLOOKUP($B31,retdat,MATCH(N$13,Data!$A$3:$CC$3,0),0)","v":0.10575833333333334},{"$f":"VLOOKUP($B31,retdat,MATCH(O$13,Data!$A$3:$CC$3,0),0)","v":0.10194416666666667},{"$f":"VLOOKUP($B31,retdat,MATCH(P$13,Data!$A$3:$CC$3,0),0)","v":8.3841666666666634E-2},{"$f":"VLOOKUP($B31,retdat,MATCH(Q$13,Data!$A$3:$CC$3,0),0)","v":0.20851413858411008},null,-2.9117228587676947E-2,9.9233333333333326E-2,0.15040605401784804,2.2468388712809303E-3,3.0530311644689778E-2,6.4108333333333323E-2,0.13009408811311141,0.15670914160604629,0.10432107822907259,4.0042165061082095E-2,-2.0116546506139671E-2,0.11227222222222223,0.10931833333333334,8.8966666666666652E-2,0.38173402991683392,null,{"$f":"GEOMEAN(C102:OFFSET(C102,$AI$2-1,0))-1","v":-2.942963705373447E-2},{"$f":"GEOMEAN(D102:OFFSET(D102,$AI$2-1,0))-1","v":9.9184756018377396E-2},{"$f":"GEOMEAN(E102:OFFSET(E102,$AI$2-1,0))-1","v":0.14836903539483859},{"$f":"GEOMEAN(F102:OFFSET(F102,$AI$2-1,0))-1","v":1.6806688344894738E-3},{"$f":"GEOMEAN(G102:OFFSET(G102,$AI$2-1,0))-1","v":3.0433452176767295E-2},{"$f":"GEOMEAN(H102:OFFSET(H102,$AI$2-1,0))-1","v":6.4081280973335097E-2},{"$f":"GEOMEAN(I102:OFFSET(I102,$AI$2-1,0))-1","v":0.1266889679274299},{"$f":"GEOMEAN(J102:OFFSET(J102,$AI$2-1,0))-1","v":0.15253494523430122},{"$f":"GEOMEAN(K102:OFFSET(K102,$AI$2-1,0))-1","v":9.9581370590061224E-2},{"$f":"GEOMEAN(L102:OFFSET(L102,$AI$2-1,0))-1","v":3.3154591414013446E-2},{"$f":"GEOMEAN(M102:OFFSET(M102,$AI$2-1,0))-1","v":-2.0483467309799552E-2},{"$f":"GEOMEAN(N102:OFFSET(N102,$AI$2-1,0))-1","v":0.112222430598101},{"$f":"GEOMEAN(O102:OFFSET(O102,$AI$2-1,0))-1","v":0.10926842547833004},{"$f":"GEOMEAN(P102:OFFSET(P102,$AI$2-1,0))-1","v":8.8894751213328682E-2},{"$f":"GEOMEAN(Q102:OFFSET(Q102,$AI$2-1,0))-1","v":0.37565636814934789},null,18,-2.942963705373447E-2,9.9184756018377396E-2,0.14836903539483859,1.6806688344894738E-3,3.0433452176767295E-2,6.4081280973335097E-2,0.1266889679274299,0.15253494523430122,9.9581370590061224E-2,3.3154591414013446E-2,-2.0483467309799552E-2,0.112222430598101,0.10926842547833004,8.8894751213328682E-2,0.37565636814934789]
[null,1988,{"$f":"VLOOKUP($B32,retdat,MATCH(C$13,Data!$A$3:$CC$3,0),0)","v":0.11590957898349578},{"$f":"VLOOKUP($B32,retdat,MATCH(D$13,Data!$A$3:$CC$3,0),0)","v":9.7100000000000006E-2},{"$f":"VLOOKUP($B32,retdat,MATCH(E$13,Data!$A$3:$CC$3,0),0)","v":-0.16552476697544843},{"$f":"VLOOKUP($B32,retdat,MATCH(F$13,Data!$A$3:$CC$3,0),0)","v":4.5035752909877103E-2},{"$f":"VLOOKUP($B32,retdat,MATCH(G$13,Data!$A$3:$CC$3,0),0)","v":4.3245398856710353E-2},{"$f":"VLOOKUP($B32,retdat,MATCH(H$13,Data!$A$3:$CC$3,0),0)","v":6.6675000000000012E-2},{"$f":"VLOOKUP($B32,retdat,MATCH(I$13,Data!$A$3:$CC$3,0),0)","v":0.11690124105737434},{"$f":"VLOOKUP($B32,retdat,MATCH(J$13,Data!$A$3:$CC$3,0),0)","v":0.1120125730668607},{"$f":"VLOOKUP($B32,retdat,MATCH(K$13,Data!$A$3:$CC$3,0),0)","v":0.12650425963570852},{"$f":"VLOOKUP($B32,retdat,MATCH(L$13,Data!$A$3:$CC$3,0),0)","v":0.10755681110795254},{"$f":"VLOOKUP($B32,retdat,MATCH(M$13,Data!$A$3:$CC$3,0),0)","v":0.10940015415395753},{"$f":"VLOOKUP($B32,retdat,MATCH(N$13,Data!$A$3:$CC$3,0),0)","v":0.10829999999999998},{"$f":"VLOOKUP($B32,retdat,MATCH(O$13,Data!$A$3:$CC$3,0),0)","v":0.10334249999999999},{"$f":"VLOOKUP($B32,retdat,MATCH(P$13,Data!$A$3:$CC$3,0),0)","v":8.8458333333333347E-2},{"$f":"VLOOKUP($B32,retdat,MATCH(Q$13,Data!$A$3:$CC$3,0),0)","v":0.2363505604636309},null,2.901141914195041E-2,{"$f":"AVERAGE(D30:D32)","v":9.3688888888888891E-2},{"$f":"AVERAGE(E30:E32)","v":7.5806122328117509E-2},{"$f":"AVERAGE(F30:F32)","v":1.6936850801253702E-2},{"$f":"AVERAGE(G30:G32)","v":3.2517785916072219E-2},{"$f":"AVERAGE(H30:H32)","v":6.1402777777777778E-2},{"$f":"AVERAGE(I30:I32)","v":9.1143047965398696E-2},{"$f":"AVERAGE(J30:J32)","v":0.11265272299799585},{"$f":"AVERAGE(K30:K32)","v":8.8234941204704431E-2},{"$f":"AVERAGE(L30:L32)","v":5.672336542616449E-2},{"$f":"AVERAGE(M30:M32)","v":3.3229573076830166E-2},{"$f":"AVERAGE(N30:N32)","v":0.10598888888888887},{"$f":"AVERAGE(O30:O32)","v":0.10235500000000002},{"$f":"AVERAGE(P30:P32)","v":8.3041666666666666E-2},{"$f":"AVERAGE(Q30:Q32)","v":0.31882917700016394},null,{"$f":"GEOMEAN(C103:OFFSET(C103,$AI$2-1,0))-1","v":2.7132060307092365E-2},{"$f":"GEOMEAN(D103:OFFSET(D103,$AI$2-1,0))-1","v":9.3685268670636868E-2},{"$f":"GEOMEAN(E103:OFFSET(E103,$AI$2-1,0))-1","v":6.0929294592872107E-2},{"$f":"GEOMEAN(F103:OFFSET(F103,$AI$2-1,0))-1","v":1.61705579853062E-2},{"$f":"GEOMEAN(G103:OFFSET(G103,$AI$2-1,0))-1","v":3.2404031598489702E-2},{"$f":"GEOMEAN(H103:OFFSET(H103,$AI$2-1,0))-1","v":6.1395915282606239E-2},{"$f":"GEOMEAN(I103:OFFSET(I103,$AI$2-1,0))-1","v":8.9931989767743303E-2},{"$f":"GEOMEAN(J103:OFFSET(J103,$AI$2-1,0))-1","v":0.11018677624181095},{"$f":"GEOMEAN(K103:OFFSET(K103,$AI$2-1,0))-1","v":8.4313687714612229E-2},{"$f":"GEOMEAN(L103:OFFSET(L103,$AI$2-1,0))-1","v":4.9201043301584146E-2},{"$f":"GEOMEAN(M103:OFFSET(M103,$AI$2-1,0))-1","v":3.172493702782031E-2},{"$f":"GEOMEAN(N103:OFFSET(N103,$AI$2-1,0))-1","v":0.10598742396910832},{"$f":"GEOMEAN(O103:OFFSET(O103,$AI$2-1,0))-1","v":0.10235477683224214},{"$f":"GEOMEAN(P103:OFFSET(P103,$AI$2-1,0))-1","v":8.3031098030630357E-2},{"$f":"GEOMEAN(Q103:OFFSET(Q103,$AI$2-1,0))-1","v":0.3120355510790529},null,19,"","","","","","","","","","","","","","",""]
[null,1989,{"$f":"VLOOKUP($B33,retdat,MATCH(C$13,Data!$A$3:$CC$3,0),0)","v":0.12176196944682569},{"$f":"VLOOKUP($B33,retdat,MATCH(D$13,Data!$A$3:$CC$3,0),0)","v":9.2575000000000005E-2},{"$f":"VLOOKUP($B33,retdat,MATCH(E$13,Data!$A$3:$CC$3,0),0)","v":-2.880832219150592E-2},{"$f":"VLOOKUP($B33,retdat,MATCH(F$13,Data!$A$3:$CC$3,0),0)","v":3.6039936483196873E-2},{"$f":"VLOOKUP($B33,retdat,MATCH(G$13,Data!$A$3:$CC$3,0),0)","v":4.5425490040164246E-2},{"$f":"VLOOKUP($B33,retdat,MATCH(H$13,Data!$A$3:$CC$3,0),0)","v":8.111666666666667E-2},{"$f":"VLOOKUP($B33,retdat,MATCH(I$13,Data!$A$3:$CC$3,0),0)","v":0.24098714800052315},{"$f":"VLOOKUP($B33,retdat,MATCH(J$13,Data!$A$3:$CC$3,0),0)","v":0.23868207348612752},{"$f":"VLOOKUP($B33,retdat,MATCH(K$13,Data!$A$3:$CC$3,0),0)","v":8.4729129091344127E-2},{"$f":"VLOOKUP($B33,retdat,MATCH(L$13,Data!$A$3:$CC$3,0),0)","v":-1.830215167769959E-2},{"$f":"VLOOKUP($B33,retdat,MATCH(M$13,Data!$A$3:$CC$3,0),0)","v":0.12165433521611931},{"$f":"VLOOKUP($B33,retdat,MATCH(N$13,Data!$A$3:$CC$3,0),0)","v":0.101775},{"$f":"VLOOKUP($B33,retdat,MATCH(O$13,Data!$A$3:$CC$3,0),0)","v":0.10323166666666667},{"$f":"VLOOKUP($B33,retdat,MATCH(P$13,Data!$A$3:$CC$3,0),0)","v":8.4983333333333327E-2},{"$f":"VLOOKUP($B33,retdat,MATCH(Q$13,Data!$A$3:$CC$3,0),0)","v":8.8197179103121179E-2},null,7.9834097692879066E-2,9.4477777777777786E-2,8.3406480950835027E-3,4.1740713914849292E-2,4.4019907337688784E-2,6.8513888888888888E-2,0.12598686700439524,0.12433915590308069,5.8052032218492346E-2,-7.8539981614122577E-3,8.1933696517852025E-2,0.10527777777777776,0.10283944444444444,8.5761111111111107E-2,0.17768729271695405,null,{"$f":"GEOMEAN(C104:OFFSET(C104,$AI$2-1,0))-1","v":7.8387117424730812E-2},{"$f":"GEOMEAN(D104:OFFSET(D104,$AI$2-1,0))-1","v":9.4476101533874424E-2},{"$f":"GEOMEAN(E104:OFFSET(E104,$AI$2-1,0))-1","v":-3.9460554415062798E-3},{"$f":"GEOMEAN(F104:OFFSET(F104,$AI$2-1,0))-1","v":4.1732837538148049E-2},{"$f":"GEOMEAN(G104:OFFSET(G104,$AI$2-1,0))-1","v":4.4019432815118442E-2},{"$f":"GEOMEAN(H104:OFFSET(H104,$AI$2-1,0))-1","v":6.8470586198527306E-2},{"$f":"GEOMEAN(I104:OFFSET(I104,$AI$2-1,0))-1","v":0.12237415634086157},{"$f":"GEOMEAN(J104:OFFSET(J104,$AI$2-1,0))-1","v":0.1208630051777897},{"$f":"GEOMEAN(K104:OFFSET(K104,$AI$2-1,0))-1","v":5.5719450818029426E-2},{"$f":"GEOMEAN(L104:OFFSET(L104,$AI$2-1,0))-1","v":-1.1934480412082671E-2},{"$f":"GEOMEAN(M104:OFFSET(M104,$AI$2-1,0))-1","v":8.0857122307323115E-2},{"$f":"GEOMEAN(N104:OFFSET(N104,$AI$2-1,0))-1","v":0.105274514121245},{"$f":"GEOMEAN(O104:OFFSET(O104,$AI$2-1,0))-1","v":0.10283926177264235},{"$f":"GEOMEAN(P104:OFFSET(P104,$AI$2-1,0))-1","v":8.575933711520678E-2},{"$f":"GEOMEAN(Q104:OFFSET(Q104,$AI$2-1,0))-1","v":0.17589078546170378},null,20,"","","","","","","","","","","","","","",""]
[null,1990,{"$f":"VLOOKUP($B34,retdat,MATCH(C$13,Data!$A$3:$CC$3,0),0)","v":9.3184030988477676E-2},{"$f":"VLOOKUP($B34,retdat,MATCH(D$13,Data!$A$3:$CC$3,0),0)","v":9.3216666666666656E-2},{"$f":"VLOOKUP($B34,retdat,MATCH(E$13,Data!$A$3:$CC$3,0),0)","v":-3.1603037784280398E-2},{"$f":"VLOOKUP($B34,retdat,MATCH(F$13,Data!$A$3:$CC$3,0),0)","v":4.9211482903281714E-2},{"$f":"VLOOKUP($B34,retdat,MATCH(G$13,Data!$A$3:$CC$3,0),0)","v":5.9270904723254414E-2},{"$f":"VLOOKUP($B34,retdat,MATCH(H$13,Data!$A$3:$CC$3,0),0)","v":7.4933333333333338E-2},{"$f":"VLOOKUP($B34,retdat,MATCH(I$13,Data!$A$3:$CC$3,0),0)","v":-6.7841460881909427E-2},{"$f":"VLOOKUP($B34,retdat,MATCH(J$13,Data!$A$3:$CC$3,0),0)","v":-4.437416992393637E-2},{"$f":"VLOOKUP($B34,retdat,MATCH(K$13,Data!$A$3:$CC$3,0),0)","v":-0.16666553788031885},{"$f":"VLOOKUP($B34,retdat,MATCH(L$13,Data!$A$3:$CC$3,0),0)","v":-0.19049567780548024},{"$f":"VLOOKUP($B34,retdat,MATCH(M$13,Data!$A$3:$CC$3,0),0)","v":8.4346228884041502E-2},{"$f":"VLOOKUP($B34,retdat,MATCH(N$13,Data!$A$3:$CC$3,0),0)","v":0.10354999999999999},{"$f":"VLOOKUP($B34,retdat,MATCH(O$13,Data!$A$3:$CC$3,0),0)","v":0.10128833333333331},{"$f":"VLOOKUP($B34,retdat,MATCH(P$13,Data!$A$3:$CC$3,0),0)","v":8.5499999999999993E-2},{"$f":"VLOOKUP($B34,retdat,MATCH(Q$13,Data!$A$3:$CC$3,0),0)","v":-0.28376429618894905},null,0.11028519313959971,9.4297222222222213E-2,-7.5312042317078248E-2,4.3429057432118556E-2,4.9313931206709676E-2,7.4241666666666664E-2,9.6682309391996027E-2,0.10210682554301727,1.4855950282244604E-2,-3.3747006125075765E-2,0.10513357275137276,0.10454166666666666,0.10262083333333333,8.6313888888888871E-2,1.3594481125934347E-2,null,{"$f":"GEOMEAN(C105:OFFSET(C105,$AI$2-1,0))-1","v":0.11021646955791997},{"$f":"GEOMEAN(D105:OFFSET(D105,$AI$2-1,0))-1","v":9.4295397656965152E-2},{"$f":"GEOMEAN(E105:OFFSET(E105,$AI$2-1,0))-1","v":-7.7590131369323467E-2},{"$f":"GEOMEAN(F105:OFFSET(F105,$AI$2-1,0))-1","v":4.3414561978042387E-2},{"$f":"GEOMEAN(G105:OFFSET(G105,$AI$2-1,0))-1","v":4.929000382839388E-2},{"$f":"GEOMEAN(H105:OFFSET(H105,$AI$2-1,0))-1","v":7.4225365701592771E-2},{"$f":"GEOMEAN(I105:OFFSET(I105,$AI$2-1,0))-1","v":8.9157316491933258E-2},{"$f":"GEOMEAN(J105:OFFSET(J105,$AI$2-1,0))-1","v":9.5937556688867387E-2},{"$f":"GEOMEAN(K105:OFFSET(K105,$AI$2-1,0))-1","v":6.0614182142417761E-3},{"$f":"GEOMEAN(L105:OFFSET(L105,$AI$2-1,0))-1","v":-4.1656927722162895E-2},{"$f":"GEOMEAN(M105:OFFSET(M105,$AI$2-1,0))-1","v":0.10502408725386481},{"$f":"GEOMEAN(N105:OFFSET(N105,$AI$2-1,0))-1","v":0.10453823472786627},{"$f":"GEOMEAN(O105:OFFSET(O105,$AI$2-1,0))-1","v":0.10262042966739937},{"$f":"GEOMEAN(P105:OFFSET(P105,$AI$2-1,0))-1","v":8.6312810752583902E-2},{"$f":"GEOMEAN(Q105:OFFSET(Q105,$AI$2-1,0))-1","v":-1.2277233622848049E-2},null,21,0.11021646955791997,9.4295397656965152E-2,-7.7590131369323467E-2,4.3414561978042387E-2,4.929000382839388E-2,7.4225365701592771E-2,8.9157316491933258E-2,9.5937556688867387E-2,6.0614182142417761E-3,-4.1656927722162895E-2,0.10502408725386481,0.10453823472786627,0.10262042966739937,8.6312810752583902E-2,-1.2277233622848049E-2]
[null,1991,{"$f":"VLOOKUP($B35,retdat,MATCH(C$13,Data!$A$3:$CC$3,0),0)","v":8.6832391259628841E-2},{"$f":"VLOOKUP($B35,retdat,MATCH(D$13,Data!$A$3:$CC$3,0),0)","v":8.7691666666666668E-2},{"$f":"VLOOKUP($B35,retdat,MATCH(E$13,Data!$A$3:$CC$3,0),0)","v":-8.9462474139482689E-2},{"$f":"VLOOKUP($B35,retdat,MATCH(F$13,Data!$A$3:$CC$3,0),0)","v":-2.3871551269916337E-2},{"$f":"VLOOKUP($B35,retdat,MATCH(G$13,Data!$A$3:$CC$3,0),0)","v":3.0182637105128102E-2},{"$f":"VLOOKUP($B35,retdat,MATCH(H$13,Data!$A$3:$CC$3,0),0)","v":5.3749999999999999E-2},{"$f":"VLOOKUP($B35,retdat,MATCH(I$13,Data!$A$3:$CC$3,0),0)","v":0.23354292684587502},{"$f":"VLOOKUP($B35,retdat,MATCH(J$13,Data!$A$3:$CC$3,0),0)","v":0.18496326570743432},{"$f":"VLOOKUP($B35,retdat,MATCH(K$13,Data!$A$3:$CC$3,0),0)","v":0.30524835303270564},{"$f":"VLOOKUP($B35,retdat,MATCH(L$13,Data!$A$3:$CC$3,0),0)","v":0.3051221698579869},{"$f":"VLOOKUP($B35,retdat,MATCH(M$13,Data!$A$3:$CC$3,0),0)","v":8.9996674723432243E-2},{"$f":"VLOOKUP($B35,retdat,MATCH(N$13,Data!$A$3:$CC$3,0),0)","v":9.8016666666666682E-2},{"$f":"VLOOKUP($B35,retdat,MATCH(O$13,Data!$A$3:$CC$3,0),0)","v":9.2477500000000018E-2},{"$f":"VLOOKUP($B35,retdat,MATCH(P$13,Data!$A$3:$CC$3,0),0)","v":7.8583333333333338E-2},{"$f":"VLOOKUP($B35,retdat,MATCH(Q$13,Data!$A$3:$CC$3,0),0)","v":9.7004833991663167E-2},null,0.10059279723164406,9.1161111111111096E-2,-4.9957944705089664E-2,2.0459956038854085E-2,4.4959677289515589E-2,6.9933333333333333E-2,0.13556287132149625,0.12642372308987515,7.4437314747910308E-2,3.2108113458269028E-2,9.8665746274531022E-2,0.10111388888888889,9.899916666666668E-2,8.3022222222222219E-2,-3.2854094364721566E-2,null,{"$f":"GEOMEAN(C106:OFFSET(C106,$AI$2-1,0))-1","v":0.10048853283309955},{"$f":"GEOMEAN(D106:OFFSET(D106,$AI$2-1,0))-1","v":9.1158318983894704E-2},{"$f":"GEOMEAN(E106:OFFSET(E106,$AI$2-1,0))-1","v":-5.0375144706703234E-2},{"$f":"GEOMEAN(F106:OFFSET(F106,$AI$2-1,0))-1","v":1.9957714872267385E-2},{"$f":"GEOMEAN(G106:OFFSET(G106,$AI$2-1,0))-1","v":4.4892114067173194E-2},{"$f":"GEOMEAN(H106:OFFSET(H106,$AI$2-1,0))-1","v":6.9868892608307753E-2},{"$f":"GEOMEAN(I106:OFFSET(I106,$AI$2-1,0))-1","v":0.12582384945426051},{"$f":"GEOMEAN(J106:OFFSET(J106,$AI$2-1,0))-1","v":0.1193971750242091},{"$f":"GEOMEAN(K106:OFFSET(K106,$AI$2-1,0))-1","v":5.6682705864286254E-2},{"$f":"GEOMEAN(L106:OFFSET(L106,$AI$2-1,0))-1","v":1.2238207605279827E-2},{"$f":"GEOMEAN(M106:OFFSET(M106,$AI$2-1,0))-1","v":9.8543845254445595E-2},{"$f":"GEOMEAN(N106:OFFSET(N106,$AI$2-1,0))-1","v":0.101111471096891},{"$f":"GEOMEAN(O106:OFFSET(O106,$AI$2-1,0))-1","v":9.8989187577306348E-2},{"$f":"GEOMEAN(P106:OFFSET(P106,$AI$2-1,0))-1","v":8.3017647211204082E-2},{"$f":"GEOMEAN(Q106:OFFSET(Q106,$AI$2-1,0))-1","v":-5.0873641464350139E-2},null,22,"","","","","","","","","","","","","","",""]
[null,1992,{"$f":"VLOOKUP($B36,retdat,MATCH(C$13,Data!$A$3:$CC$3,0),0)","v":7.5868610388481583E-2},{"$f":"VLOOKUP($B36,retdat,MATCH(D$13,Data!$A$3:$CC$3,0),0)","v":8.1399999999999986E-2},{"$f":"VLOOKUP($B36,retdat,MATCH(E$13,Data!$A$3:$CC$3,0),0)","v":-5.9050751273952054E-2},{"$f":"VLOOKUP($B36,retdat,MATCH(F$13,Data!$A$3:$CC$3,0),0)","v":1.4561285118820376E-2},{"$f":"VLOOKUP($B36,retdat,MATCH(G$13,Data!$A$3:$CC$3,0),0)","v":2.8593799366740807E-2},{"$f":"VLOOKUP($B36,retdat,MATCH(H$13,Data!$A$3:$CC$3,0),0)","v":3.4316666666666669E-2},{"$f":"VLOOKUP($B36,retdat,MATCH(I$13,Data!$A$3:$CC$3,0),0)","v":4.3674858582634285E-2},{"$f":"VLOOKUP($B36,retdat,MATCH(J$13,Data!$A$3:$CC$3,0),0)","v":4.0902778936985087E-2},{"$f":"VLOOKUP($B36,retdat,MATCH(K$13,Data!$A$3:$CC$3,0),0)","v":0.13618700536460601},{"$f":"VLOOKUP($B36,retdat,MATCH(L$13,Data!$A$3:$CC$3,0),0)","v":0.11489360068768195},{"$f":"VLOOKUP($B36,retdat,MATCH(M$13,Data!$A$3:$CC$3,0),0)","v":7.6472992033884857E-2},{"$f":"VLOOKUP($B36,retdat,MATCH(N$13,Data!$A$3:$CC$3,0),0)","v":8.9766666666666689E-2},{"$f":"VLOOKUP($B36,retdat,MATCH(O$13,Data!$A$3:$CC$3,0),0)","v":8.3990416666666651E-2},{"$f":"VLOOKUP($B36,retdat,MATCH(P$13,Data!$A$3:$CC$3,0),0)","v":7.010000000000001E-2},{"$f":"VLOOKUP($B36,retdat,MATCH(Q$13,Data!$A$3:$CC$3,0),0)","v":-0.14951429432281374},null,8.5295010878862709E-2,8.7436111111111103E-2,-6.0038754399238371E-2,1.3300405584061918E-2,3.9349113731707776E-2,5.4333333333333338E-2,6.9792108182199955E-2,6.0497291573494351E-2,9.158994017233095E-2,7.6506697580062871E-2,8.3605298547119525E-2,9.7111111111111106E-2,9.2585416666666656E-2,7.8061111111111123E-2,-0.11209125217336653,null,{"$f":"GEOMEAN(C107:OFFSET(C107,$AI$2-1,0))-1","v":8.5271411883921733E-2},{"$f":"GEOMEAN(D107:OFFSET(D107,$AI$2-1,0))-1","v":8.7425392955370107E-2},{"$f":"GEOMEAN(E107:OFFSET(E107,$AI$2-1,0))-1","v":-6.0336215448663966E-2},{"$f":"GEOMEAN(F107:OFFSET(F107,$AI$2-1,0))-1","v":1.2860023644107876E-2},{"$f":"GEOMEAN(G107:OFFSET(G107,$AI$2-1,0))-1","v":3.9254045632723278E-2},{"$f":"GEOMEAN(H107:OFFSET(H107,$AI$2-1,0))-1","v":5.4202917115796501E-2},{"$f":"GEOMEAN(I107:OFFSET(I107,$AI$2-1,0))-1","v":6.268142751070549E-2},{"$f":"GEOMEAN(J107:OFFSET(J107,$AI$2-1,0))-1","v":5.6333318609338878E-2},{"$f":"GEOMEAN(K107:OFFSET(K107,$AI$2-1,0))-1","v":7.3134370351964018E-2},{"$f":"GEOMEAN(L107:OFFSET(L107,$AI$2-1,0))-1","v":5.6090786714542817E-2},{"$f":"GEOMEAN(M107:OFFSET(M107,$AI$2-1,0))-1","v":8.359109718728619E-2},{"$f":"GEOMEAN(N107:OFFSET(N107,$AI$2-1,0))-1","v":9.7096481852091188E-2},{"$f":"GEOMEAN(O107:OFFSET(O107,$AI$2-1,0))-1","v":9.2562593923489755E-2},{"$f":"GEOMEAN(P107:OFFSET(P107,$AI$2-1,0))-1","v":7.8042706390455185E-2},{"$f":"GEOMEAN(Q107:OFFSET(Q107,$AI$2-1,0))-1","v":-0.12573349057234329},null,23,"","","","","","","","","","","","","","",""]
[null,1993,{"$f":"VLOOKUP($B37,retdat,MATCH(C$13,Data!$A$3:$CC$3,0),0)","v":0.10146402075197805},{"$f":"VLOOKUP($B37,retdat,MATCH(D$13,Data!$A$3:$CC$3,0),0)","v":7.2191666666666696E-2},{"$f":"VLOOKUP($B37,retdat,MATCH(E$13,Data!$A$3:$CC$3,0),0)","v":0.1627817366551508},{"$f":"VLOOKUP($B37,retdat,MATCH(F$13,Data!$A$3:$CC$3,0),0)","v":8.4674510990985965E-3},{"$f":"VLOOKUP($B37,retdat,MATCH(G$13,Data!$A$3:$CC$3,0),0)","v":2.7113235408560886E-2},{"$f":"VLOOKUP($B37,retdat,MATCH(H$13,Data!$A$3:$CC$3,0),0)","v":2.9975000000000002E-2},{"$f":"VLOOKUP($B37,retdat,MATCH(I$13,Data!$A$3:$CC$3,0),0)","v":6.8173948974774176E-2},{"$f":"VLOOKUP($B37,retdat,MATCH(J$13,Data!$A$3:$CC$3,0),0)","v":0.1285928297995009},{"$f":"VLOOKUP($B37,retdat,MATCH(K$13,Data!$A$3:$CC$3,0),0)","v":0.17943848594327663},{"$f":"VLOOKUP($B37,retdat,MATCH(L$13,Data!$A$3:$CC$3,0),0)","v":0.17014066035474434},{"$f":"VLOOKUP($B37,retdat,MATCH(M$13,Data!$A$3:$CC$3,0),0)","v":9.7623686124282613E-2},{"$f":"VLOOKUP($B37,retdat,MATCH(N$13,Data!$A$3:$CC$3,0),0)","v":7.9299999999999995E-2},{"$f":"VLOOKUP($B37,retdat,MATCH(O$13,Data!$A$3:$CC$3,0),0)","v":7.3265833333333349E-2},{"$f":"VLOOKUP($B37,retdat,MATCH(P$13,Data!$A$3:$CC$3,0),0)","v":5.8733333333333325E-2},{"$f":"VLOOKUP($B37,retdat,MATCH(Q$13,Data!$A$3:$CC$3,0),0)","v":0.26615278100791184},null,8.8055007466696145E-2,8.0427777777777779E-2,4.7561704139053489E-3,-2.8093835066578834E-4,2.8629890626809928E-2,3.9347222222222221E-2,0.11513057813442783,0.11815295814797344,0.20695794811352941,0.19671881030013774,8.8031117627199909E-2,8.9027777777777775E-2,8.3244583333333344E-2,6.9138888888888889E-2,7.1214440225587095E-2,null,{"$f":"GEOMEAN(C108:OFFSET(C108,$AI$2-1,0))-1","v":8.8004542378917527E-2},{"$f":"GEOMEAN(D108:OFFSET(D108,$AI$2-1,0))-1","v":8.0409011660521168E-2},{"$f":"GEOMEAN(E108:OFFSET(E108,$AI$2-1,0))-1","v":-1.2562293037701178E-3},{"$f":"GEOMEAN(F108:OFFSET(F108,$AI$2-1,0))-1","v":-4.242443009594421E-4},{"$f":"GEOMEAN(G108:OFFSET(G108,$AI$2-1,0))-1","v":2.8629127085984196E-2},{"$f":"GEOMEAN(H108:OFFSET(H108,$AI$2-1,0))-1","v":3.929602116162334E-2},{"$f":"GEOMEAN(I108:OFFSET(I108,$AI$2-1,0))-1","v":0.11204020820280158},{"$f":"GEOMEAN(J108:OFFSET(J108,$AI$2-1,0))-1","v":0.11656526670696987},{"$f":"GEOMEAN(K108:OFFSET(K108,$AI$2-1,0))-1","v":0.20486786721712158},{"$f":"GEOMEAN(L108:OFFSET(L108,$AI$2-1,0))-1","v":0.19410051805888751},{"$f":"GEOMEAN(M108:OFFSET(M108,$AI$2-1,0))-1","v":8.7995904314641438E-2},{"$f":"GEOMEAN(N108:OFFSET(N108,$AI$2-1,0))-1","v":8.9000827324310139E-2},{"$f":"GEOMEAN(O108:OFFSET(O108,$AI$2-1,0))-1","v":8.3216040960060633E-2},{"$f":"GEOMEAN(P108:OFFSET(P108,$AI$2-1,0))-1","v":6.9107932622235024E-2},{"$f":"GEOMEAN(Q108:OFFSET(Q108,$AI$2-1,0))-1","v":5.7110916640709553E-2},null,24,8.8004542378917527E-2,8.0409011660521168E-2,-1.2562293037701178E-3,-4.242443009594421E-4,2.8629127085984196E-2,3.929602116162334E-2,0.11204020820280158,0.11656526670696987,0.20486786721712158,0.19410051805888751,8.7995904314641438E-2,8.9000827324310139E-2,8.3216040960060633E-2,6.9107932622235024E-2,5.7110916640709553E-2]
[null,1994,{"$f":"VLOOKUP($B38,retdat,MATCH(C$13,Data!$A$3:$CC$3,0),0)","v":0.11617006228960719},{"$f":"VLOOKUP($B38,retdat,MATCH(D$13,Data!$A$3:$CC$3,0),0)","v":7.9625000000000015E-2},{"$f":"VLOOKUP($B38,retdat,MATCH(E$13,Data!$A$3:$CC$3,0),0)","v":-2.1936363484206651E-2},{"$f":"VLOOKUP($B38,retdat,MATCH(F$13,Data!$A$3:$CC$3,0),0)","v":2.744454992360083E-2},{"$f":"VLOOKUP($B38,retdat,MATCH(G$13,Data!$A$3:$CC$3,0),0)","v":2.6397471851024725E-2},{"$f":"VLOOKUP($B38,retdat,MATCH(H$13,Data!$A$3:$CC$3,0),0)","v":4.2466666666666673E-2},{"$f":"VLOOKUP($B38,retdat,MATCH(I$13,Data!$A$3:$CC$3,0),0)","v":-1.5512560994870606E-2},{"$f":"VLOOKUP($B38,retdat,MATCH(J$13,Data!$A$3:$CC$3,0),0)","v":2.1164392801228678E-2},{"$f":"VLOOKUP($B38,retdat,MATCH(K$13,Data!$A$3:$CC$3,0),0)","v":3.1214861896355563E-2},{"$f":"VLOOKUP($B38,retdat,MATCH(L$13,Data!$A$3:$CC$3,0),0)","v":8.0231569679994896E-3},{"$f":"VLOOKUP($B38,retdat,MATCH(M$13,Data!$A$3:$CC$3,0),0)","v":0.13605177344187103},{"$f":"VLOOKUP($B38,retdat,MATCH(N$13,Data!$A$3:$CC$3,0),0)","v":8.622500000000001E-2},{"$f":"VLOOKUP($B38,retdat,MATCH(O$13,Data!$A$3:$CC$3,0),0)","v":8.3548333333333336E-2},{"$f":"VLOOKUP($B38,retdat,MATCH(P$13,Data!$A$3:$CC$3,0),0)","v":7.0799999999999988E-2},{"$f":"VLOOKUP($B38,retdat,MATCH(Q$13,Data!$A$3:$CC$3,0),0)","v":6.0531887211366563E-2},null,9.7834231143355613E-2,7.7738888888888899E-2,2.7264873965664033E-2,1.6824428713839934E-2,2.7368168875442137E-2,3.5586111111111117E-2,3.2112082187512617E-2,6.3553333845904891E-2,0.11561345106807941,9.7685806003475262E-2,0.10338281720001284,8.5097222222222227E-2,8.0268194444444441E-2,6.6544444444444448E-2,5.9056791298821555E-2,null,{"$f":"GEOMEAN(C109:OFFSET(C109,$AI$2-1,0))-1","v":9.7707523156919107E-2},{"$f":"GEOMEAN(D109:OFFSET(D109,$AI$2-1,0))-1","v":7.7731496214508145E-2},{"$f":"GEOMEAN(E109:OFFSET(E109,$AI$2-1,0))-1","v":2.2846597333536112E-2},{"$f":"GEOMEAN(F109:OFFSET(F109,$AI$2-1,0))-1","v":1.6793718978256766E-2},{"$f":"GEOMEAN(G109:OFFSET(G109,$AI$2-1,0))-1","v":2.7367761876841312E-2},{"$f":"GEOMEAN(H109:OFFSET(H109,$AI$2-1,0))-1","v":3.5573180518445824E-2},{"$f":"GEOMEAN(I109:OFFSET(I109,$AI$2-1,0))-1","v":3.1507668658271371E-2},{"$f":"GEOMEAN(J109:OFFSET(J109,$AI$2-1,0))-1","v":6.2545914791184432E-2},{"$f":"GEOMEAN(K109:OFFSET(K109,$AI$2-1,0))-1","v":0.1138449977804139},{"$f":"GEOMEAN(L109:OFFSET(L109,$AI$2-1,0))-1","v":9.5588169929546885E-2},{"$f":"GEOMEAN(M109:OFFSET(M109,$AI$2-1,0))-1","v":0.10310853324680758},{"$f":"GEOMEAN(N109:OFFSET(N109,$AI$2-1,0))-1","v":8.5088507165284044E-2},{"$f":"GEOMEAN(O109:OFFSET(O109,$AI$2-1,0))-1","v":8.0256807399842645E-2},{"$f":"GEOMEAN(P109:OFFSET(P109,$AI$2-1,0))-1","v":6.6530069663819136E-2},{"$f":"GEOMEAN(Q109:OFFSET(Q109,$AI$2-1,0))-1","v":4.5263104447297753E-2},null,25,"","","","","","","","","","","","","","",""]
[null,1995,{"$f":"VLOOKUP($B39,retdat,MATCH(C$13,Data!$A$3:$CC$3,0),0)","v":0.11043746181376674},{"$f":"VLOOKUP($B39,retdat,MATCH(D$13,Data!$A$3:$CC$3,0),0)","v":7.5899999999999995E-2},{"$f":"VLOOKUP($B39,retdat,MATCH(E$13,Data!$A$3:$CC$3,0),0)","v":9.737175277858244E-3},{"$f":"VLOOKUP($B39,retdat,MATCH(F$13,Data!$A$3:$CC$3,0),0)","v":3.0697079108975883E-2},{"$f":"VLOOKUP($B39,retdat,MATCH(G$13,Data!$A$3:$CC$3,0),0)","v":2.506727560166927E-2},{"$f":"VLOOKUP($B39,retdat,MATCH(H$13,Data!$A$3:$CC$3,0),0)","v":5.489999999999999E-2},{"$f":"VLOOKUP($B39,retdat,MATCH(I$13,Data!$A$3:$CC$3,0),0)","v":0.29349504830068318},{"$f":"VLOOKUP($B39,retdat,MATCH(J$13,Data!$A$3:$CC$3,0),0)","v":0.28857490346951542},{"$f":"VLOOKUP($B39,retdat,MATCH(K$13,Data!$A$3:$CC$3,0),0)","v":0.14207997870964587},{"$f":"VLOOKUP($B39,retdat,MATCH(L$13,Data!$A$3:$CC$3,0),0)","v":0.16812962469573212},{"$f":"VLOOKUP($B39,retdat,MATCH(M$13,Data!$A$3:$CC$3,0),0)","v":9.9907345749349119E-2},{"$f":"VLOOKUP($B39,retdat,MATCH(N$13,Data!$A$3:$CC$3,0),0)","v":8.2008333333333322E-2},{"$f":"VLOOKUP($B39,retdat,MATCH(O$13,Data!$A$3:$CC$3,0),0)","v":7.952833333333334E-2},{"$f":"VLOOKUP($B39,retdat,MATCH(P$13,Data!$A$3:$CC$3,0),0)","v":6.5799999999999997E-2},{"$f":"VLOOKUP($B39,retdat,MATCH(Q$13,Data!$A$3:$CC$3,0),0)","v":9.0026662132340063E-2},null,0.10935718161845065,7.5905555555555573E-2,5.0194182816267467E-2,2.2203026710558436E-2,2.6192660953751626E-2,4.2447222222222226E-2,0.11538547876019557,0.14611070869008166,0.11757777551642601,0.11543114733949199,0.11119426843850093,8.2511111111111105E-2,7.8780833333333342E-2,6.5111111111111106E-2,0.13890377678387281,null,{"$f":"GEOMEAN(C110:OFFSET(C110,$AI$2-1,0))-1","v":0.10934065692764006},{"$f":"GEOMEAN(D110:OFFSET(D110,$AI$2-1,0))-1","v":7.5901275868301532E-2},{"$f":"GEOMEAN(E110:OFFSET(E110,$AI$2-1,0))-1","v":4.7187750564072983E-2},{"$f":"GEOMEAN(F110:OFFSET(F110,$AI$2-1,0))-1","v":2.2155824998859375E-2},{"$f":"GEOMEAN(G110:OFFSET(G110,$AI$2-1,0))-1","v":2.6192310741525837E-2},{"$f":"GEOMEAN(H110:OFFSET(H110,$AI$2-1,0))-1","v":4.2397555603223669E-2},{"$f":"GEOMEAN(I110:OFFSET(I110,$AI$2-1,0))-1","v":0.10799800214065436},{"$f":"GEOMEAN(J110:OFFSET(J110,$AI$2-1,0))-1","v":0.14089989313276186},{"$f":"GEOMEAN(K110:OFFSET(K110,$AI$2-1,0))-1","v":0.11576737597793518},{"$f":"GEOMEAN(L110:OFFSET(L110,$AI$2-1,0))-1","v":0.11275581533245771},{"$f":"GEOMEAN(M110:OFFSET(M110,$AI$2-1,0))-1","v":0.11105587185463572},{"$f":"GEOMEAN(N110:OFFSET(N110,$AI$2-1,0))-1","v":8.2507362728164502E-2},{"$f":"GEOMEAN(O110:OFFSET(O110,$AI$2-1,0))-1","v":7.8772530768288718E-2},{"$f":"GEOMEAN(P110:OFFSET(P110,$AI$2-1,0))-1","v":6.5099600292881643E-2},{"$f":"GEOMEAN(Q110:OFFSET(Q110,$AI$2-1,0))-1","v":0.13540025756719931},null,26,"","","","","","","","","","","","","","",""]
[null,1996,{"$f":"VLOOKUP($B40,retdat,MATCH(C$13,Data!$A$3:$CC$3,0),0)","v":9.7209752287076151E-2},{"$f":"VLOOKUP($B40,retdat,MATCH(D$13,Data!$A$3:$CC$3,0),0)","v":7.3700000000000002E-2},{"$f":"VLOOKUP($B40,retdat,MATCH(E$13,Data!$A$3:$CC$3,0),0)","v":-4.6950771618292635E-2},{"$f":"VLOOKUP($B40,retdat,MATCH(F$13,Data!$A$3:$CC$3,0),0)","v":2.6689182256394977E-2},{"$f":"VLOOKUP($B40,retdat,MATCH(G$13,Data!$A$3:$CC$3,0),0)","v":3.2684742173495825E-2},{"$f":"VLOOKUP($B40,retdat,MATCH(H$13,Data!$A$3:$CC$3,0),0)","v":5.0058333333333344E-2},{"$f":"VLOOKUP($B40,retdat,MATCH(I$13,Data!$A$3:$CC$3,0),0)","v":0.1845163658185163},{"$f":"VLOOKUP($B40,retdat,MATCH(J$13,Data!$A$3:$CC$3,0),0)","v":0.23122865784381452},{"$f":"VLOOKUP($B40,retdat,MATCH(K$13,Data!$A$3:$CC$3,0),0)","v":0.30207795509061663},{"$f":"VLOOKUP($B40,retdat,MATCH(L$13,Data!$A$3:$CC$3,0),0)","v":0.30567093380749599},{"$f":"VLOOKUP($B40,retdat,MATCH(M$13,Data!$A$3:$CC$3,0),0)","v":8.7244739705398477E-2},{"$f":"VLOOKUP($B40,retdat,MATCH(N$13,Data!$A$3:$CC$3,0),0)","v":8.0541666666666678E-2},{"$f":"VLOOKUP($B40,retdat,MATCH(O$13,Data!$A$3:$CC$3,0),0)","v":7.804291666666667E-2},{"$f":"VLOOKUP($B40,retdat,MATCH(P$13,Data!$A$3:$CC$3,0),0)","v":6.438333333333332E-2},{"$f":"VLOOKUP($B40,retdat,MATCH(Q$13,Data!$A$3:$CC$3,0),0)","v":4.3036108575351797E-2},null,0.10793909213015003,7.6408333333333342E-2,-1.9716653274880345E-2,2.8276937096323895E-2,2.8049829875396604E-2,4.9141666666666667E-2,0.15416628437477631,0.18032265137151957,0.15845759856553934,0.16060790515707588,0.10773461963220621,8.2925000000000013E-2,8.0373194444444448E-2,6.699444444444444E-2,6.4531552639686143E-2,null,{"$f":"GEOMEAN(C111:OFFSET(C111,$AI$2-1,0))-1","v":0.10791058385176755},{"$f":"GEOMEAN(D111:OFFSET(D111,$AI$2-1,0))-1","v":7.6405556779418848E-2},{"$f":"GEOMEAN(E111:OFFSET(E111,$AI$2-1,0))-1","v":-1.9990548522492713E-2},{"$f":"GEOMEAN(F111:OFFSET(F111,$AI$2-1,0))-1","v":2.8275467856425429E-2},{"$f":"GEOMEAN(G111:OFFSET(G111,$AI$2-1,0))-1","v":2.8044469554174833E-2},{"$f":"GEOMEAN(H111:OFFSET(H111,$AI$2-1,0))-1","v":4.9129176709248101E-2},{"$f":"GEOMEAN(I111:OFFSET(I111,$AI$2-1,0))-1","v":0.14684661869002591},{"$f":"GEOMEAN(J111:OFFSET(J111,$AI$2-1,0))-1","v":0.17448646348552854},{"$f":"GEOMEAN(K111:OFFSET(K111,$AI$2-1,0))-1","v":0.15317235522157913},{"$f":"GEOMEAN(L111:OFFSET(L111,$AI$2-1,0))-1","v":0.15415754359542788},{"$f":"GEOMEAN(M111:OFFSET(M111,$AI$2-1,0))-1","v":0.10754278912628656},{"$f":"GEOMEAN(N111:OFFSET(N111,$AI$2-1,0))-1","v":8.2922322485621258E-2},{"$f":"GEOMEAN(O111:OFFSET(O111,$AI$2-1,0))-1","v":8.0370693154872885E-2},{"$f":"GEOMEAN(P111:OFFSET(P111,$AI$2-1,0))-1","v":6.699089792800561E-2},{"$f":"GEOMEAN(Q111:OFFSET(Q111,$AI$2-1,0))-1","v":6.4355556639839495E-2},null,27,0.10791058385176755,7.6405556779418848E-2,-1.9990548522492713E-2,2.8275467856425429E-2,2.8044469554174833E-2,4.9129176709248101E-2,0.14684661869002591,0.17448646348552854,0.15317235522157913,0.15415754359542788,0.10754278912628656,8.2922322485621258E-2,8.0370693154872885E-2,6.699089792800561E-2,6.4355556639839495E-2]
[null,1997,{"$f":"VLOOKUP($B41,retdat,MATCH(C$13,Data!$A$3:$CC$3,0),0)","v":8.4339083635399867E-2},{"$f":"VLOOKUP($B41,retdat,MATCH(D$13,Data!$A$3:$CC$3,0),0)","v":7.2616666666666677E-2},{"$f":"VLOOKUP($B41,retdat,MATCH(E$13,Data!$A$3:$CC$3,0),0)","v":-0.24090358096140177},{"$f":"VLOOKUP($B41,retdat,MATCH(F$13,Data!$A$3:$CC$3,0),0)","v":-1.7976255849471299E-2},{"$f":"VLOOKUP($B41,retdat,MATCH(G$13,Data!$A$3:$CC$3,0),0)","v":1.6880675930415711E-2},{"$f":"VLOOKUP($B41,retdat,MATCH(H$13,Data!$A$3:$CC$3,0),0)","v":5.0608333333333338E-2},{"$f":"VLOOKUP($B41,retdat,MATCH(I$13,Data!$A$3:$CC$3,0),0)","v":0.27008958570724206},{"$f":"VLOOKUP($B41,retdat,MATCH(J$13,Data!$A$3:$CC$3,0),0)","v":0.20409631067926537},{"$f":"VLOOKUP($B41,retdat,MATCH(K$13,Data!$A$3:$CC$3,0),0)","v":0.18448747058302817},{"$f":"VLOOKUP($B41,retdat,MATCH(L$13,Data!$A$3:$CC$3,0),0)","v":0.1727837401458486},{"$f":"VLOOKUP($B41,retdat,MATCH(M$13,Data!$A$3:$CC$3,0),0)","v":7.6325441065304603E-2},{"$f":"VLOOKUP($B41,retdat,MATCH(N$13,Data!$A$3:$CC$3,0),0)","v":7.8625000000000014E-2},{"$f":"VLOOKUP($B41,retdat,MATCH(O$13,Data!$A$3:$CC$3,0),0)","v":7.5957916666666667E-2},{"$f":"VLOOKUP($B41,retdat,MATCH(P$13,Data!$A$3:$CC$3,0),0)","v":6.3524999999999998E-2},{"$f":"VLOOKUP($B41,retdat,MATCH(Q$13,Data!$A$3:$CC$3,0),0)","v":2.3757782999004715E-3},null,9.7328765912080908E-2,7.407222222222222E-2,-9.2705725767278715E-2,1.3136668505299853E-2,2.4877564568526935E-2,5.1855555555555564E-2,0.24936699994214717,0.24129995733086509,0.20954846812776354,0.21552809954969224,8.7825842173350724E-2,8.0391666666666681E-2,7.7843055555555554E-2,6.4569444444444443E-2,4.5146183002530767E-2,null,{"$f":"GEOMEAN(C112:OFFSET(C112,$AI$2-1,0))-1","v":9.7277039840833357E-2},{"$f":"GEOMEAN(D112:OFFSET(D112,$AI$2-1,0))-1","v":7.407135385672925E-2},{"$f":"GEOMEAN(E112:OFFSET(E112,$AI$2-1,0))-1","v":-9.9382860803446937E-2},{"$f":"GEOMEAN(F112:OFFSET(F112,$AI$2-1,0))-1","v":1.2894018957836151E-2},{"$f":"GEOMEAN(G112:OFFSET(G112,$AI$2-1,0))-1","v":2.4857242818891345E-2},{"$f":"GEOMEAN(H112:OFFSET(H112,$AI$2-1,0))-1","v":5.1853330714735746E-2},{"$f":"GEOMEAN(I112:OFFSET(I112,$AI$2-1,0))-1","v":0.24847561343806768},{"$f":"GEOMEAN(J112:OFFSET(J112,$AI$2-1,0))-1","v":0.24080405272817695},{"$f":"GEOMEAN(K112:OFFSET(K112,$AI$2-1,0))-1","v":0.20768774265829637},{"$f":"GEOMEAN(L112:OFFSET(L112,$AI$2-1,0))-1","v":0.21389438760033319},{"$f":"GEOMEAN(M112:OFFSET(M112,$AI$2-1,0))-1","v":8.7783184899375977E-2},{"$f":"GEOMEAN(N112:OFFSET(N112,$AI$2-1,0))-1","v":8.039077840546005E-2},{"$f":"GEOMEAN(O112:OFFSET(O112,$AI$2-1,0))-1","v":7.7842060506788879E-2},{"$f":"GEOMEAN(P112:OFFSET(P112,$AI$2-1,0))-1","v":6.4569031238245644E-2},{"$f":"GEOMEAN(Q112:OFFSET(Q112,$AI$2-1,0))-1","v":4.4533426801117271E-2},null,28,"","","","","","","","","","","","","","",""]
[null,1998,{"$f":"VLOOKUP($B42,retdat,MATCH(C$13,Data!$A$3:$CC$3,0),0)","v":9.3137917875689896E-2},{"$f":"VLOOKUP($B42,retdat,MATCH(D$13,Data!$A$3:$CC$3,0),0)","v":6.5316666666666662E-2},{"$f":"VLOOKUP($B42,retdat,MATCH(E$13,Data!$A$3:$CC$3,0),0)","v":-8.3045459968199217E-3},{"$f":"VLOOKUP($B42,retdat,MATCH(F$13,Data!$A$3:$CC$3,0),0)","v":-3.2054026290083484E-2},{"$f":"VLOOKUP($B42,retdat,MATCH(G$13,Data!$A$3:$CC$3,0),0)","v":1.5990500618620819E-2},{"$f":"VLOOKUP($B42,retdat,MATCH(H$13,Data!$A$3:$CC$3,0),0)","v":4.7766666666666666E-2},{"$f":"VLOOKUP($B42,retdat,MATCH(I$13,Data!$A$3:$CC$3,0),0)","v":0.23640396383776424},{"$f":"VLOOKUP($B42,retdat,MATCH(J$13,Data!$A$3:$CC$3,0),0)","v":0.14927012506557916},{"$f":"VLOOKUP($B42,retdat,MATCH(K$13,Data!$A$3:$CC$3,0),0)","v":-0.19239850498860941},{"$f":"VLOOKUP($B42,retdat,MATCH(L$13,Data!$A$3:$CC$3,0),0)","v":-0.20853439853536512},{"$f":"VLOOKUP($B42,retdat,MATCH(M$13,Data!$A$3:$CC$3,0),0)","v":8.2871587599115684E-2},{"$f":"VLOOKUP($B42,retdat,MATCH(N$13,Data!$A$3:$CC$3,0),0)","v":7.2208333333333347E-2},{"$f":"VLOOKUP($B42,retdat,MATCH(O$13,Data!$A$3:$CC$3,0),0)","v":6.9462916666666666E-2},{"$f":"VLOOKUP($B42,retdat,MATCH(P$13,Data!$A$3:$CC$3,0),0)","v":5.2641666666666663E-2},{"$f":"VLOOKUP($B42,retdat,MATCH(Q$13,Data!$A$3:$CC$3,0),0)","v":0.16746632223562458},null,9.1562251266055286E-2,7.0544444444444451E-2,-9.8719632858838099E-2,-7.7803666277199354E-3,2.1851972907510786E-2,4.9477777777777787E-2,0.2303366384545075,0.19486503119621967,9.805564022834512E-2,8.9973425139326491E-2,8.2147256123272908E-2,7.7125000000000013E-2,7.4487916666666668E-2,6.0183333333333332E-2,7.0959403036958954E-2,null,{"$f":"GEOMEAN(C113:OFFSET(C113,$AI$2-1,0))-1","v":9.1549017944887456E-2},{"$f":"GEOMEAN(D113:OFFSET(D113,$AI$2-1,0))-1","v":7.0537960919091036E-2},{"$f":"GEOMEAN(E113:OFFSET(E113,$AI$2-1,0))-1","v":-0.10477912687889535},{"$f":"GEOMEAN(F113:OFFSET(F113,$AI$2-1,0))-1","v":-8.0935885195989599E-3},{"$f":"GEOMEAN(G113:OFFSET(G113,$AI$2-1,0))-1","v":2.1823298392231294E-2},{"$f":"GEOMEAN(H113:OFFSET(H113,$AI$2-1,0))-1","v":4.9477055951272941E-2},{"$f":"GEOMEAN(I113:OFFSET(I113,$AI$2-1,0))-1","v":0.22983052921614866},{"$f":"GEOMEAN(J113:OFFSET(J113,$AI$2-1,0))-1","v":0.19437495005927796},{"$f":"GEOMEAN(K113:OFFSET(K113,$AI$2-1,0))-1","v":7.5940339426544323E-2},{"$f":"GEOMEAN(L113:OFFSET(L113,$AI$2-1,0))-1","v":6.6173553360112436E-2},{"$f":"GEOMEAN(M113:OFFSET(M113,$AI$2-1,0))-1","v":8.2137947043108284E-2},{"$f":"GEOMEAN(N113:OFFSET(N113,$AI$2-1,0))-1","v":7.7119097834730921E-2},{"$f":"GEOMEAN(O113:OFFSET(O113,$AI$2-1,0))-1","v":7.448169685714956E-2},{"$f":"GEOMEAN(P113:OFFSET(P113,$AI$2-1,0))-1","v":6.016983185665592E-2},{"$f":"GEOMEAN(Q113:OFFSET(Q113,$AI$2-1,0))-1","v":6.8705610827468178E-2},null,29,"","","","","","","","","","","","","","",""]
[null,1999,{"$f":"VLOOKUP($B43,retdat,MATCH(C$13,Data!$A$3:$CC$3,0),0)","v":9.9178487304298818E-2},{"$f":"VLOOKUP($B43,retdat,MATCH(D$13,Data!$A$3:$CC$3,0),0)","v":7.0416666666666669E-2},{"$f":"VLOOKUP($B43,retdat,MATCH(E$13,Data!$A$3:$CC$3,0),0)","v":8.4768261247334178E-3},{"$f":"VLOOKUP($B43,retdat,MATCH(F$13,Data!$A$3:$CC$3,0),0)","v":3.9909526230392359E-2},{"$f":"VLOOKUP($B43,retdat,MATCH(G$13,Data!$A$3:$CC$3,0),0)","v":2.6491615446976285E-2},{"$f":"VLOOKUP($B43,retdat,MATCH(H$13,Data!$A$3:$CC$3,0),0)","v":4.6383333333333339E-2},{"$f":"VLOOKUP($B43,retdat,MATCH(I$13,Data!$A$3:$CC$3,0),0)","v":0.17836410941645447},{"$f":"VLOOKUP($B43,retdat,MATCH(J$13,Data!$A$3:$CC$3,0),0)","v":0.22491186373351438},{"$f":"VLOOKUP($B43,retdat,MATCH(K$13,Data!$A$3:$CC$3,0),0)","v":-4.7301090562876597E-2},{"$f":"VLOOKUP($B43,retdat,MATCH(L$13,Data!$A$3:$CC$3,0),0)","v":-6.6951510340938644E-2},{"$f":"VLOOKUP($B43,retdat,MATCH(M$13,Data!$A$3:$CC$3,0),0)","v":9.3178645617816774E-2},{"$f":"VLOOKUP($B43,retdat,MATCH(N$13,Data!$A$3:$CC$3,0),0)","v":7.8708333333333338E-2},{"$f":"VLOOKUP($B43,retdat,MATCH(O$13,Data!$A$3:$CC$3,0),0)","v":7.4285000000000004E-2},{"$f":"VLOOKUP($B43,retdat,MATCH(P$13,Data!$A$3:$CC$3,0),0)","v":5.6366666666666669E-2},{"$f":"VLOOKUP($B43,retdat,MATCH(Q$13,Data!$A$3:$CC$3,0),0)","v":0.22527076393318396},null,9.2218496271796194E-2,6.9450000000000012E-2,-8.02437669444961E-2,-3.3735853030541405E-3,1.9787597332004272E-2,4.8252777777777783E-2,0.22828588632048694,0.19275943315945296,-1.8404041656152614E-2,-3.4234056243485057E-2,8.4125224760745687E-2,7.6513888888888895E-2,7.3235277777777774E-2,5.7511111111111117E-2,0.13170428815623633,null,{"$f":"GEOMEAN(C114:OFFSET(C114,$AI$2-1,0))-1","v":9.220148715687837E-2},{"$f":"GEOMEAN(D114:OFFSET(D114,$AI$2-1,0))-1","v":6.9445625408175893E-2},{"$f":"GEOMEAN(E114:OFFSET(E114,$AI$2-1,0))-1","v":-8.7750299706262913E-2},{"$f":"GEOMEAN(F114:OFFSET(F114,$AI$2-1,0))-1","v":-3.8542471578694171E-3},{"$f":"GEOMEAN(G114:OFFSET(G114,$AI$2-1,0))-1","v":1.9776538231072838E-2},{"$f":"GEOMEAN(H114:OFFSET(H114,$AI$2-1,0))-1","v":4.8251302990783174E-2},{"$f":"GEOMEAN(I114:OFFSET(I114,$AI$2-1,0))-1","v":0.22769762774758306},{"$f":"GEOMEAN(J114:OFFSET(J114,$AI$2-1,0))-1","v":0.1923288746444487},{"$f":"GEOMEAN(K114:OFFSET(K114,$AI$2-1,0))-1","v":-3.0470373791445682E-2},{"$f":"GEOMEAN(L114:OFFSET(L114,$AI$2-1,0))-1","v":-4.6798468225299317E-2},{"$f":"GEOMEAN(M114:OFFSET(M114,$AI$2-1,0))-1","v":8.4103054459286009E-2},{"$f":"GEOMEAN(N114:OFFSET(N114,$AI$2-1,0))-1","v":7.6509577541179263E-2},{"$f":"GEOMEAN(O114:OFFSET(O114,$AI$2-1,0))-1","v":7.3231742430869717E-2},{"$f":"GEOMEAN(P114:OFFSET(P114,$AI$2-1,0))-1","v":5.7501477599183337E-2},{"$f":"GEOMEAN(Q114:OFFSET(Q114,$AI$2-1,0))-1","v":0.12763617221260271},null,30,9.220148715687837E-2,6.9445625408175893E-2,-8.7750299706262913E-2,-3.8542471578694171E-3,1.9776538231072838E-2,4.8251302990783174E-2,0.22769762774758306,0.1923288746444487,-3.0470373791445682E-2,-4.6798468225299317E-2,8.4103054459286009E-2,7.6509577541179263E-2,7.3231742430869717E-2,5.7501477599183337E-2,0.12763617221260271]
[null,2000,{"$f":"VLOOKUP($B44,retdat,MATCH(C$13,Data!$A$3:$CC$3,0),0)","v":9.8482043156014956E-2},{"$f":"VLOOKUP($B44,retdat,MATCH(D$13,Data!$A$3:$CC$3,0),0)","v":7.6225000000000001E-2},{"$f":"VLOOKUP($B44,retdat,MATCH(E$13,Data!$A$3:$CC$3,0),0)","v":-5.5973525582102709E-2},{"$f":"VLOOKUP($B44,retdat,MATCH(F$13,Data!$A$3:$CC$3,0),0)","v":6.3657851771977414E-2},{"$f":"VLOOKUP($B44,retdat,MATCH(G$13,Data!$A$3:$CC$3,0),0)","v":3.3307198017768547E-2},{"$f":"VLOOKUP($B44,retdat,MATCH(H$13,Data!$A$3:$CC$3,0),0)","v":5.8166666666666665E-2},{"$f":"VLOOKUP($B44,retdat,MATCH(I$13,Data!$A$3:$CC$3,0),0)","v":-0.10690823119474545},{"$f":"VLOOKUP($B44,retdat,MATCH(J$13,Data!$A$3:$CC$3,0),0)","v":-6.3660424377489741E-2},{"$f":"VLOOKUP($B44,retdat,MATCH(K$13,Data!$A$3:$CC$3,0),0)","v":0.23400731336517419},{"$f":"VLOOKUP($B44,retdat,MATCH(L$13,Data!$A$3:$CC$3,0),0)","v":0.23024000991244689},{"$f":"VLOOKUP($B44,retdat,MATCH(M$13,Data!$A$3:$CC$3,0),0)","v":9.405203474269469E-2},{"$f":"VLOOKUP($B44,retdat,MATCH(N$13,Data!$A$3:$CC$3,0),0)","v":8.3641666666666656E-2},{"$f":"VLOOKUP($B44,retdat,MATCH(O$13,Data!$A$3:$CC$3,0),0)","v":8.0616250000000014E-2},{"$f":"VLOOKUP($B44,retdat,MATCH(P$13,Data!$A$3:$CC$3,0),0)","v":6.029166666666666E-2},{"$f":"VLOOKUP($B44,retdat,MATCH(Q$13,Data!$A$3:$CC$3,0),0)","v":-0.16494427310565363},null,9.6932816112001219E-2,7.0652777777777773E-2,-1.8600415151396404E-2,2.3837783904095428E-2,2.5263104694455214E-2,5.0772222222222226E-2,0.10261994735315776,0.1035071881405346,-1.8974273954372733E-3,-1.508196632128562E-2,9.0034089319875721E-2,7.8186111111111123E-2,7.4788055555555566E-2,5.6433333333333335E-2,7.5930937687718303E-2,null,{"$f":"GEOMEAN(C115:OFFSET(C115,$AI$2-1,0))-1","v":9.6929493432915903E-2},{"$f":"GEOMEAN(D115:OFFSET(D115,$AI$2-1,0))-1","v":7.0643505102672366E-2},{"$f":"GEOMEAN(E115:OFFSET(E115,$AI$2-1,0))-1","v":-1.8983889002712528E-2},{"$f":"GEOMEAN(F115:OFFSET(F115,$AI$2-1,0))-1","v":2.301705703962087E-2},{"$f":"GEOMEAN(G115:OFFSET(G115,$AI$2-1,0))-1","v":2.5238333768841326E-2},{"$f":"GEOMEAN(H115:OFFSET(H115,$AI$2-1,0))-1","v":5.0759090784771255E-2},{"$f":"GEOMEAN(I115:OFFSET(I115,$AI$2-1,0))-1","v":9.1721828468376954E-2},{"$f":"GEOMEAN(J115:OFFSET(J115,$AI$2-1,0))-1","v":9.6444818200993154E-2},{"$f":"GEOMEAN(K115:OFFSET(K115,$AI$2-1,0))-1","v":-1.7143369210279924E-2},{"$f":"GEOMEAN(L115:OFFSET(L115,$AI$2-1,0))-1","v":-3.1479757973801759E-2},{"$f":"GEOMEAN(M115:OFFSET(M115,$AI$2-1,0))-1","v":9.0022239471028165E-2},{"$f":"GEOMEAN(N115:OFFSET(N115,$AI$2-1,0))-1","v":7.8175939422253649E-2},{"$f":"GEOMEAN(O115:OFFSET(O115,$AI$2-1,0))-1","v":7.4778356041480532E-2},{"$f":"GEOMEAN(P115:OFFSET(P115,$AI$2-1,0))-1","v":5.6428716194190542E-2},{"$f":"GEOMEAN(Q115:OFFSET(Q115,$AI$2-1,0))-1","v":6.103724847024794E-2},null,31,"","","","","","","","","","","","","","",""]
[null,2001,{"$f":"VLOOKUP($B45,retdat,MATCH(C$13,Data!$A$3:$CC$3,0),0)","v":9.3878179524820957E-2},{"$f":"VLOOKUP($B45,retdat,MATCH(D$13,Data!$A$3:$CC$3,0),0)","v":7.0824999999999999E-2},{"$f":"VLOOKUP($B45,retdat,MATCH(E$13,Data!$A$3:$CC$3,0),0)","v":7.4417259664912713E-3},{"$f":"VLOOKUP($B45,retdat,MATCH(F$13,Data!$A$3:$CC$3,0),0)","v":-6.1313184812723451E-2},{"$f":"VLOOKUP($B45,retdat,MATCH(G$13,Data!$A$3:$CC$3,0),0)","v":1.5398080111121662E-2},{"$f":"VLOOKUP($B45,retdat,MATCH(H$13,Data!$A$3:$CC$3,0),0)","v":3.3883333333333321E-2},{"$f":"VLOOKUP($B45,retdat,MATCH(I$13,Data!$A$3:$CC$3,0),0)","v":-0.13975285343533808},{"$f":"VLOOKUP($B45,retdat,MATCH(J$13,Data!$A$3:$CC$3,0),0)","v":-7.3695633116226261E-2},{"$f":"VLOOKUP($B45,retdat,MATCH(K$13,Data!$A$3:$CC$3,0),0)","v":0.13043956810206137},{"$f":"VLOOKUP($B45,retdat,MATCH(L$13,Data!$A$3:$CC$3,0),0)","v":0.14411784890348153},{"$f":"VLOOKUP($B45,retdat,MATCH(M$13,Data!$A$3:$CC$3,0),0)","v":9.0156432153550653E-2},{"$f":"VLOOKUP($B45,retdat,MATCH(N$13,Data!$A$3:$CC$3,0),0)","v":7.947499999999999E-2},{"$f":"VLOOKUP($B45,retdat,MATCH(O$13,Data!$A$3:$CC$3,0),0)","v":6.9710416666666677E-2},{"$f":"VLOOKUP($B45,retdat,MATCH(P$13,Data!$A$3:$CC$3,0),0)","v":5.0175000000000011E-2},{"$f":"VLOOKUP($B45,retdat,MATCH(Q$13,Data!$A$3:$CC$3,0),0)","v":-0.25632655161945134},null,9.7179569995044915E-2,7.2488888888888894E-2,-1.3351657830292673E-2,1.4084731063215441E-2,2.5065631191955498E-2,4.6144444444444439E-2,-2.2765658404543018E-2,2.9185268746599463E-2,0.10571526363478632,0.10246878282499661,9.246237083802071E-2,8.0608333333333324E-2,7.4870555555555565E-2,5.5611111111111111E-2,-6.5333353597307006E-2,null,{"$f":"GEOMEAN(C116:OFFSET(C116,$AI$2-1,0))-1","v":9.7177047315927467E-2},{"$f":"GEOMEAN(D116:OFFSET(D116,$AI$2-1,0))-1","v":7.2485625887124039E-2},{"$f":"GEOMEAN(E116:OFFSET(E116,$AI$2-1,0))-1","v":-1.3818895474961734E-2},{"$f":"GEOMEAN(F116:OFFSET(F116,$AI$2-1,0))-1","v":1.2603462916106478E-2},{"$f":"GEOMEAN(G116:OFFSET(G116,$AI$2-1,0))-1","v":2.5039024062667892E-2},{"$f":"GEOMEAN(H116:OFFSET(H116,$AI$2-1,0))-1","v":4.6097445467029319E-2},{"$f":"GEOMEAN(I116:OFFSET(I116,$AI$2-1,0))-1","v":-3.2614415966180754E-2},{"$f":"GEOMEAN(J116:OFFSET(J116,$AI$2-1,0))-1","v":2.0384792529433149E-2},{"$f":"GEOMEAN(K116:OFFSET(K116,$AI$2-1,0))-1","v":9.9445191073584738E-2},{"$f":"GEOMEAN(L116:OFFSET(L116,$AI$2-1,0))-1","v":9.510292945856702E-2},{"$f":"GEOMEAN(M116:OFFSET(M116,$AI$2-1,0))-1","v":9.2461095088408829E-2},{"$f":"GEOMEAN(N116:OFFSET(N116,$AI$2-1,0))-1","v":8.0606161178021107E-2},{"$f":"GEOMEAN(O116:OFFSET(O116,$AI$2-1,0))-1","v":7.4861259687593495E-2},{"$f":"GEOMEAN(P116:OFFSET(P116,$AI$2-1,0))-1","v":5.5602890502112423E-2},{"$f":"GEOMEAN(Q116:OFFSET(Q116,$AI$2-1,0))-1","v":-8.705782911407367E-2},null,32,"","","","","","","","","","","","","","",""]
[null,2002,{"$f":"VLOOKUP($B46,retdat,MATCH(C$13,Data!$A$3:$CC$3,0),0)","v":9.1020370884313556E-2},{"$f":"VLOOKUP($B46,retdat,MATCH(D$13,Data!$A$3:$CC$3,0),0)","v":6.4916666666666664E-2},{"$f":"VLOOKUP($B46,retdat,MATCH(E$13,Data!$A$3:$CC$3,0),0)","v":0.22769016182380564},{"$f":"VLOOKUP($B46,retdat,MATCH(F$13,Data!$A$3:$CC$3,0),0)","v":3.6785756816511125E-2},{"$f":"VLOOKUP($B46,retdat,MATCH(G$13,Data!$A$3:$CC$3,0),0)","v":2.3491013075598737E-2},{"$f":"VLOOKUP($B46,retdat,MATCH(H$13,Data!$A$3:$CC$3,0),0)","v":1.6041666666666666E-2},{"$f":"VLOOKUP($B46,retdat,MATCH(I$13,Data!$A$3:$CC$3,0),0)","v":-0.26612891976724418},{"$f":"VLOOKUP($B46,retdat,MATCH(J$13,Data!$A$3:$CC$3,0),0)","v":-0.18348013124213911},{"$f":"VLOOKUP($B46,retdat,MATCH(K$13,Data!$A$3:$CC$3,0),0)","v":3.7496045586108175E-2},{"$f":"VLOOKUP($B46,retdat,MATCH(L$13,Data!$A$3:$CC$3,0),0)","v":5.084111280478857E-2},{"$f":"VLOOKUP($B46,retdat,MATCH(M$13,Data!$A$3:$CC$3,0),0)","v":8.7920901318919026E-2},{"$f":"VLOOKUP($B46,retdat,MATCH(N$13,Data!$A$3:$CC$3,0),0)","v":7.8016666666666665E-2},{"$f":"VLOOKUP($B46,retdat,MATCH(O$13,Data!$A$3:$CC$3,0),0)","v":6.536708333333334E-2},{"$f":"VLOOKUP($B46,retdat,MATCH(P$13,Data!$A$3:$CC$3,0),0)","v":4.6108333333333328E-2},{"$f":"VLOOKUP($B46,retdat,MATCH(Q$13,Data!$A$3:$CC$3,0),0)","v":-0.19257341540446568},null,9.4460197855049818E-2,7.0655555555555569E-2,5.9719454069398069E-2,1.3043474591921697E-2,2.4065430401496318E-2,3.6030555555555552E-2,-0.17093000146577589,-0.10694539624528503,0.13398097568444792,0.141732990540239,9.0709789405054794E-2,8.037777777777777E-2,7.1897916666666672E-2,5.2191666666666664E-2,-0.20461474670985688,null,{"$f":"GEOMEAN(C117:OFFSET(C117,$AI$2-1,0))-1","v":9.445588343101341E-2},{"$f":"GEOMEAN(D117:OFFSET(D117,$AI$2-1,0))-1","v":7.0645593904726134E-2},{"$f":"GEOMEAN(E117:OFFSET(E117,$AI$2-1,0))-1","v":5.3006280059358257E-2},{"$f":"GEOMEAN(F117:OFFSET(F117,$AI$2-1,0))-1","v":1.1588530950410014E-2},{"$f":"GEOMEAN(G117:OFFSET(G117,$AI$2-1,0))-1","v":2.4039263871618477E-2},{"$f":"GEOMEAN(H117:OFFSET(H117,$AI$2-1,0))-1","v":3.588698462567419E-2},{"$f":"GEOMEAN(I117:OFFSET(I117,$AI$2-1,0))-1","v":-0.17387385451888115},{"$f":"GEOMEAN(J117:OFFSET(J117,$AI$2-1,0))-1","v":-0.10864381409597446},{"$f":"GEOMEAN(K117:OFFSET(K117,$AI$2-1,0))-1","v":0.13114212950467063},{"$f":"GEOMEAN(L117:OFFSET(L117,$AI$2-1,0))-1","v":0.13937290611200681},{"$f":"GEOMEAN(M117:OFFSET(M117,$AI$2-1,0))-1","v":9.0706848613798963E-2},{"$f":"GEOMEAN(N117:OFFSET(N117,$AI$2-1,0))-1","v":8.0375150612433055E-2},{"$f":"GEOMEAN(O117:OFFSET(O117,$AI$2-1,0))-1","v":7.1878758112821295E-2},{"$f":"GEOMEAN(P117:OFFSET(P117,$AI$2-1,0))-1","v":5.2174797637425829E-2},{"$f":"GEOMEAN(Q117:OFFSET(Q117,$AI$2-1,0))-1","v":-0.20554934683316795},null,33,9.445588343101341E-2,7.0645593904726134E-2,5.3006280059358257E-2,1.1588530950410014E-2,2.4039263871618477E-2,3.588698462567419E-2,-0.17387385451888115,-0.10864381409597446,0.13114212950467063,0.13937290611200681,9.0706848613798963E-2,8.0375150612433055E-2,7.1878758112821295E-2,5.2174797637425829E-2,-0.20554934683316795]
[null,2003,{"$f":"VLOOKUP($B47,retdat,MATCH(C$13,Data!$A$3:$CC$3,0),0)","v":8.8323152175722397E-2},{"$f":"VLOOKUP($B47,retdat,MATCH(D$13,Data!$A$3:$CC$3,0),0)","v":5.6666666666666671E-2},{"$f":"VLOOKUP($B47,retdat,MATCH(E$13,Data!$A$3:$CC$3,0),0)","v":0.18138505850845857},{"$f":"VLOOKUP($B47,retdat,MATCH(F$13,Data!$A$3:$CC$3,0),0)","v":4.8467635542220604E-2},{"$f":"VLOOKUP($B47,retdat,MATCH(G$13,Data!$A$3:$CC$3,0),0)","v":1.8620472274528281E-2},{"$f":"VLOOKUP($B47,retdat,MATCH(H$13,Data!$A$3:$CC$3,0),0)","v":1.0108333333333332E-2},{"$f":"VLOOKUP($B47,retdat,MATCH(I$13,Data!$A$3:$CC$3,0),0)","v":0.23412618868107046},{"$f":"VLOOKUP($B47,retdat,MATCH(J$13,Data!$A$3:$CC$3,0),0)","v":0.22571838676915318},{"$f":"VLOOKUP($B47,retdat,MATCH(K$13,Data!$A$3:$CC$3,0),0)","v":0.31578622949971968},{"$f":"VLOOKUP($B47,retdat,MATCH(L$13,Data!$A$3:$CC$3,0),0)","v":0.32545711109477432},{"$f":"VLOOKUP($B47,retdat,MATCH(M$13,Data!$A$3:$CC$3,0),0)","v":8.4388327604297861E-2},{"$f":"VLOOKUP($B47,retdat,MATCH(N$13,Data!$A$3:$CC$3,0),0)","v":6.765833333333332E-2},{"$f":"VLOOKUP($B47,retdat,MATCH(O$13,Data!$A$3:$CC$3,0),0)","v":5.8195416666666666E-2},{"$f":"VLOOKUP($B47,retdat,MATCH(P$13,Data!$A$3:$CC$3,0),0)","v":4.0149999999999998E-2},{"$f":"VLOOKUP($B47,retdat,MATCH(Q$13,Data!$A$3:$CC$3,0),0)","v":0.3021959792073351},null,9.107390086161897E-2,6.4136111111111102E-2,0.13883898209958515,7.9800691820027594E-3,1.9169855153749561E-2,2.0011111111111105E-2,-5.7251861507170591E-2,-1.0485792529737395E-2,0.16124061439596307,0.17347202426768149,8.7488553692255847E-2,7.5049999999999992E-2,6.4424305555555561E-2,4.5477777777777777E-2,-4.8901329272193962E-2,null,{"$f":"GEOMEAN(C118:OFFSET(C118,$AI$2-1,0))-1","v":9.1071543438192126E-2},{"$f":"GEOMEAN(D118:OFFSET(D118,$AI$2-1,0))-1","v":6.4120258204005465E-2},{"$f":"GEOMEAN(E118:OFFSET(E118,$AI$2-1,0))-1","v":0.13474965998235899},{"$f":"GEOMEAN(F118:OFFSET(F118,$AI$2-1,0))-1","v":6.7498874351044069E-3},{"$f":"GEOMEAN(G118:OFFSET(G118,$AI$2-1,0))-1","v":1.9164428658925425E-2},{"$f":"GEOMEAN(H118:OFFSET(H118,$AI$2-1,0))-1","v":1.9961241430404675E-2},{"$f":"GEOMEAN(I118:OFFSET(I118,$AI$2-1,0))-1","v":-7.983114922106116E-2},{"$f":"GEOMEAN(J118:OFFSET(J118,$AI$2-1,0))-1","v":-2.4927167045995291E-2},{"$f":"GEOMEAN(K118:OFFSET(K118,$AI$2-1,0))-1","v":0.15559692931498059},{"$f":"GEOMEAN(L118:OFFSET(L118,$AI$2-1,0))-1","v":0.1680403130338326},{"$f":"GEOMEAN(M118:OFFSET(M118,$AI$2-1,0))-1","v":8.7485960175509359E-2},{"$f":"GEOMEAN(N118:OFFSET(N118,$AI$2-1,0))-1","v":7.5037101376581816E-2},{"$f":"GEOMEAN(O118:OFFSET(O118,$AI$2-1,0))-1","v":6.441370673415503E-2},{"$f":"GEOMEAN(P118:OFFSET(P118,$AI$2-1,0))-1","v":4.5469667084889087E-2},{"$f":"GEOMEAN(Q118:OFFSET(Q118,$AI$2-1,0))-1","v":-7.8729375541274238E-2},null,34,"","","","","","","","","","","","","","",""]
[null,2004,{"$f":"VLOOKUP($B48,retdat,MATCH(C$13,Data!$A$3:$CC$3,0),0)","v":9.3628167288854452E-2},{"$f":"VLOOKUP($B48,retdat,MATCH(D$13,Data!$A$3:$CC$3,0),0)","v":5.6283333333333331E-2},{"$f":"VLOOKUP($B48,retdat,MATCH(E$13,Data!$A$3:$CC$3,0),0)","v":4.5438349764151793E-2},{"$f":"VLOOKUP($B48,retdat,MATCH(F$13,Data!$A$3:$CC$3,0),0)","v":7.3903138068613872E-2},{"$f":"VLOOKUP($B48,retdat,MATCH(G$13,Data!$A$3:$CC$3,0),0)","v":3.2036909626326174E-2},{"$f":"VLOOKUP($B48,retdat,MATCH(H$13,Data!$A$3:$CC$3,0),0)","v":1.3716666666666669E-2},{"$f":"VLOOKUP($B48,retdat,MATCH(I$13,Data!$A$3:$CC$3,0),0)","v":8.6117628073565614E-2},{"$f":"VLOOKUP($B48,retdat,MATCH(J$13,Data!$A$3:$CC$3,0),0)","v":3.0994719596933645E-2},{"$f":"VLOOKUP($B48,retdat,MATCH(K$13,Data!$A$3:$CC$3,0),0)","v":0.27442581799320231},{"$f":"VLOOKUP($B48,retdat,MATCH(L$13,Data!$A$3:$CC$3,0),0)","v":0.26550935803678327},{"$f":"VLOOKUP($B48,retdat,MATCH(M$13,Data!$A$3:$CC$3,0),0)","v":0.10328867181124969},{"$f":"VLOOKUP($B48,retdat,MATCH(N$13,Data!$A$3:$CC$3,0),0)","v":6.3933333333333342E-2},{"$f":"VLOOKUP($B48,retdat,MATCH(O$13,Data!$A$3:$CC$3,0),0)","v":5.8384999999999999E-2},{"$f":"VLOOKUP($B48,retdat,MATCH(P$13,Data!$A$3:$CC$3,0),0)","v":4.2741666666666671E-2},{"$f":"VLOOKUP($B48,retdat,MATCH(Q$13,Data!$A$3:$CC$3,0),0)","v":0.16204394532165037},null,9.0990563449630135E-2,5.9288888888888891E-2,0.15150452336547199,5.3052176809115198E-2,2.4716131658817728E-2,1.328888888888889E-2,1.80382989957973E-2,2.4410991707982572E-2,0.20923603102634339,0.21393586064544876,9.186596691148885E-2,6.9869444444444442E-2,6.0649166666666671E-2,4.3000000000000003E-2,9.0555503041506599E-2,null,{"$f":"GEOMEAN(C119:OFFSET(C119,$AI$2-1,0))-1","v":9.0988413516952971E-2},{"$f":"GEOMEAN(D119:OFFSET(D119,$AI$2-1,0))-1","v":5.9281415653899883E-2},{"$f":"GEOMEAN(E119:OFFSET(E119,$AI$2-1,0))-1","v":0.14884002802611618},{"$f":"GEOMEAN(F119:OFFSET(F119,$AI$2-1,0))-1","v":5.2938617829133783E-2},{"$f":"GEOMEAN(G119:OFFSET(G119,$AI$2-1,0))-1","v":2.4701144351707782E-2},{"$f":"GEOMEAN(H119:OFFSET(H119,$AI$2-1,0))-1","v":1.3285947286624022E-2},{"$f":"GEOMEAN(I119:OFFSET(I119,$AI$2-1,0))-1","v":-5.4680610612680702E-3},{"$f":"GEOMEAN(J119:OFFSET(J119,$AI$2-1,0))-1","v":1.0503835623519864E-2},{"$f":"GEOMEAN(K119:OFFSET(K119,$AI$2-1,0))-1","v":0.20271330678487298},{"$f":"GEOMEAN(L119:OFFSET(L119,$AI$2-1,0))-1","v":0.20796967552471357},{"$f":"GEOMEAN(M119:OFFSET(M119,$AI$2-1,0))-1","v":9.1835232788890497E-2},{"$f":"GEOMEAN(N119:OFFSET(N119,$AI$2-1,0))-1","v":6.985288395046596E-2},{"$f":"GEOMEAN(O119:OFFSET(O119,$AI$2-1,0))-1","v":6.0643925094136852E-2},{"$f":"GEOMEAN(P119:OFFSET(P119,$AI$2-1,0))-1","v":4.2997148189086509E-2},{"$f":"GEOMEAN(Q119:OFFSET(Q119,$AI$2-1,0))-1","v":6.9056476574697268E-2},null,35,"","","","","","","","","","","","","","",""]
[null,2005,{"$f":"VLOOKUP($B49,retdat,MATCH(C$13,Data!$A$3:$CC$3,0),0)","v":0.19252910279687629},{"$f":"VLOOKUP($B49,retdat,MATCH(D$13,Data!$A$3:$CC$3,0),0)","v":5.2350000000000001E-2},{"$f":"VLOOKUP($B49,retdat,MATCH(E$13,Data!$A$3:$CC$3,0),0)","v":0.16355145411196409},{"$f":"VLOOKUP($B49,retdat,MATCH(F$13,Data!$A$3:$CC$3,0),0)","v":8.1782461476728088E-2},{"$f":"VLOOKUP($B49,retdat,MATCH(G$13,Data!$A$3:$CC$3,0),0)","v":3.3586210316049248E-2},{"$f":"VLOOKUP($B49,retdat,MATCH(H$13,Data!$A$3:$CC$3,0),0)","v":3.1466666666666671E-2},{"$f":"VLOOKUP($B49,retdat,MATCH(I$13,Data!$A$3:$CC$3,0),0)","v":2.9568735880032684E-2},{"$f":"VLOOKUP($B49,retdat,MATCH(J$13,Data!$A$3:$CC$3,0),0)","v":-6.0938277952099018E-3},{"$f":"VLOOKUP($B49,retdat,MATCH(K$13,Data!$A$3:$CC$3,0),0)","v":0.11478151325192043},{"$f":"VLOOKUP($B49,retdat,MATCH(L$13,Data!$A$3:$CC$3,0),0)","v":7.9625648727419659E-2},{"$f":"VLOOKUP($B49,retdat,MATCH(M$13,Data!$A$3:$CC$3,0),0)","v":0.19990381690929473},{"$f":"VLOOKUP($B49,retdat,MATCH(N$13,Data!$A$3:$CC$3,0),0)","v":6.0641666666666677E-2},{"$f":"VLOOKUP($B49,retdat,MATCH(O$13,Data!$A$3:$CC$3,0),0)","v":5.8648750000000006E-2},{"$f":"VLOOKUP($B49,retdat,MATCH(P$13,Data!$A$3:$CC$3,0),0)","v":4.2900000000000001E-2},{"$f":"VLOOKUP($B49,retdat,MATCH(Q$13,Data!$A$3:$CC$3,0),0)","v":0.1031389509098551},null,0.1248268074204844,5.5100000000000003E-2,0.13012495412819147,6.8051078362520848E-2,2.8081197405634566E-2,1.8430555555555558E-2,0.11660418421155626,8.3539759523625634E-2,0.23499785358161415,0.2235307059529924,0.1291936054416141,6.4077777777777775E-2,5.8409722222222217E-2,4.1930555555555554E-2,0.18912629181294685,null,{"$f":"GEOMEAN(C120:OFFSET(C120,$AI$2-1,0))-1","v":0.12382540979289414},{"$f":"GEOMEAN(D120:OFFSET(D120,$AI$2-1,0))-1","v":5.5098194972723169E-2},{"$f":"GEOMEAN(E120:OFFSET(E120,$AI$2-1,0))-1","v":0.12847471209251693},{"$f":"GEOMEAN(F120:OFFSET(F120,$AI$2-1,0))-1","v":6.7955997117972844E-2},{"$f":"GEOMEAN(G120:OFFSET(G120,$AI$2-1,0))-1","v":2.805917225804655E-2},{"$f":"GEOMEAN(H120:OFFSET(H120,$AI$2-1,0))-1","v":1.8387936560970264E-2},{"$f":"GEOMEAN(I120:OFFSET(I120,$AI$2-1,0))-1","v":0.11334712594361984},{"$f":"GEOMEAN(J120:OFFSET(J120,$AI$2-1,0))-1","v":7.8940535757534347E-2},{"$f":"GEOMEAN(K120:OFFSET(K120,$AI$2-1,0))-1","v":0.23186529087707375},{"$f":"GEOMEAN(L120:OFFSET(L120,$AI$2-1,0))-1","v":0.21890000268980492},{"$f":"GEOMEAN(M120:OFFSET(M120,$AI$2-1,0))-1","v":0.12808063142783066},{"$f":"GEOMEAN(N120:OFFSET(N120,$AI$2-1,0))-1","v":6.407391765095416E-2},{"$f":"GEOMEAN(O120:OFFSET(O120,$AI$2-1,0))-1","v":5.8409705897424669E-2},{"$f":"GEOMEAN(P120:OFFSET(P120,$AI$2-1,0))-1","v":4.192979242202588E-2},{"$f":"GEOMEAN(Q120:OFFSET(Q120,$AI$2-1,0))-1","v":0.18625040549289862},null,36,0.12382540979289414,5.5098194972723169E-2,0.12847471209251693,6.7955997117972844E-2,2.805917225804655E-2,1.8387936560970264E-2,0.11334712594361984,7.8940535757534347E-2,0.23186529087707375,0.21890000268980492,0.12808063142783066,6.407391765095416E-2,5.8409705897424669E-2,4.192979242202588E-2,0.18625040549289862]
[null,2006,{"$f":"VLOOKUP($B50,retdat,MATCH(C$13,Data!$A$3:$CC$3,0),0)","v":0.14123977885577144},{"$f":"VLOOKUP($B50,retdat,MATCH(D$13,Data!$A$3:$CC$3,0),0)","v":5.5874999999999994E-2},{"$f":"VLOOKUP($B50,retdat,MATCH(E$13,Data!$A$3:$CC$3,0),0)","v":0.20861354897608783},{"$f":"VLOOKUP($B50,retdat,MATCH(F$13,Data!$A$3:$CC$3,0),0)","v":1.5825041144396892E-2},{"$f":"VLOOKUP($B50,retdat,MATCH(G$13,Data!$A$3:$CC$3,0),0)","v":2.5089123301355518E-2},{"$f":"VLOOKUP($B50,retdat,MATCH(H$13,Data!$A$3:$CC$3,0),0)","v":4.7266666666666672E-2},{"$f":"VLOOKUP($B50,retdat,MATCH(I$13,Data!$A$3:$CC$3,0),0)","v":0.1276843565704609},{"$f":"VLOOKUP($B50,retdat,MATCH(J$13,Data!$A$3:$CC$3,0),0)","v":0.15089837090726838},{"$f":"VLOOKUP($B50,retdat,MATCH(K$13,Data!$A$3:$CC$3,0),0)","v":0.30055391430329564},{"$f":"VLOOKUP($B50,retdat,MATCH(L$13,Data!$A$3:$CC$3,0),0)","v":0.29281382159986713},{"$f":"VLOOKUP($B50,retdat,MATCH(M$13,Data!$A$3:$CC$3,0),0)","v":0.14713830593346541},{"$f":"VLOOKUP($B50,retdat,MATCH(N$13,Data!$A$3:$CC$3,0),0)","v":6.4791666666666664E-2},{"$f":"VLOOKUP($B50,retdat,MATCH(O$13,Data!$A$3:$CC$3,0),0)","v":6.4108333333333337E-2},{"$f":"VLOOKUP($B50,retdat,MATCH(P$13,Data!$A$3:$CC$3,0),0)","v":4.791666666666667E-2},{"$f":"VLOOKUP($B50,retdat,MATCH(Q$13,Data!$A$3:$CC$3,0),0)","v":0.21083934849319499},null,0.14246568298050075,5.4836111111111106E-2,0.13920111761740125,5.717021356324628E-2,3.0237414414576978E-2,3.0816666666666669E-2,8.1123573508019728E-2,5.8599754236330709E-2,0.22992041518280612,0.21264960945469003,0.15011026488466994,6.3122222222222232E-2,6.0380694444444445E-2,4.4519444444444445E-2,0.15867408157490015,null,{"$f":"GEOMEAN(C121:OFFSET(C121,$AI$2-1,0))-1","v":0.14175220299505953},{"$f":"GEOMEAN(D121:OFFSET(D121,$AI$2-1,0))-1","v":5.4834631957004998E-2},{"$f":"GEOMEAN(E121:OFFSET(E121,$AI$2-1,0))-1","v":0.13707861804821642},{"$f":"GEOMEAN(F121:OFFSET(F121,$AI$2-1,0))-1","v":5.6755833736712225E-2},{"$f":"GEOMEAN(G121:OFFSET(G121,$AI$2-1,0))-1","v":3.0230778725631735E-2},{"$f":"GEOMEAN(H121:OFFSET(H121,$AI$2-1,0))-1","v":3.0725502765080348E-2},{"$f":"GEOMEAN(I121:OFFSET(I121,$AI$2-1,0))-1","v":8.037183783031554E-2},{"$f":"GEOMEAN(J121:OFFSET(J121,$AI$2-1,0))-1","v":5.6524570152110654E-2},{"$f":"GEOMEAN(K121:OFFSET(K121,$AI$2-1,0))-1","v":0.22709322947862831},{"$f":"GEOMEAN(L121:OFFSET(L121,$AI$2-1,0))-1","v":0.20881037929368795},{"$f":"GEOMEAN(M121:OFFSET(M121,$AI$2-1,0))-1","v":0.14943334548849196},{"$f":"GEOMEAN(N121:OFFSET(N121,$AI$2-1,0))-1","v":6.3120716526036347E-2},{"$f":"GEOMEAN(O121:OFFSET(O121,$AI$2-1,0))-1","v":6.0377416772126713E-2},{"$f":"GEOMEAN(P121:OFFSET(P121,$AI$2-1,0))-1","v":4.4516683121800682E-2},{"$f":"GEOMEAN(Q121:OFFSET(Q121,$AI$2-1,0))-1","v":0.15783435697562087},null,37,"","","","","","","","","","","","","","",""]
[null,2007,{"$f":"VLOOKUP($B51,retdat,MATCH(C$13,Data!$A$3:$CC$3,0),0)","v":0.1349366208262443},{"$f":"VLOOKUP($B51,retdat,MATCH(D$13,Data!$A$3:$CC$3,0),0)","v":5.5558333333333321E-2},{"$f":"VLOOKUP($B51,retdat,MATCH(E$13,Data!$A$3:$CC$3,0),0)","v":0.27704420308297606},{"$f":"VLOOKUP($B51,retdat,MATCH(F$13,Data!$A$3:$CC$3,0),0)","v":7.5573426491239271E-2},{"$f":"VLOOKUP($B51,retdat,MATCH(G$13,Data!$A$3:$CC$3,0),0)","v":4.0001836677190108E-2},{"$f":"VLOOKUP($B51,retdat,MATCH(H$13,Data!$A$3:$CC$3,0),0)","v":4.3533333333333341E-2},{"$f":"VLOOKUP($B51,retdat,MATCH(I$13,Data!$A$3:$CC$3,0),0)","v":3.4687160417172881E-2},{"$f":"VLOOKUP($B51,retdat,MATCH(J$13,Data!$A$3:$CC$3,0),0)","v":6.2339127556459768E-2},{"$f":"VLOOKUP($B51,retdat,MATCH(K$13,Data!$A$3:$CC$3,0),0)","v":-0.17069038135858902},{"$f":"VLOOKUP($B51,retdat,MATCH(L$13,Data!$A$3:$CC$3,0),0)","v":-0.19640165021723199},{"$f":"VLOOKUP($B51,retdat,MATCH(M$13,Data!$A$3:$CC$3,0),0)","v":0.12862894674706091},{"$f":"VLOOKUP($B51,retdat,MATCH(N$13,Data!$A$3:$CC$3,0),0)","v":6.4825000000000021E-2},{"$f":"VLOOKUP($B51,retdat,MATCH(O$13,Data!$A$3:$CC$3,0),0)","v":6.3404583333333348E-2},{"$f":"VLOOKUP($B51,retdat,MATCH(P$13,Data!$A$3:$CC$3,0),0)","v":4.6291666666666662E-2},{"$f":"VLOOKUP($B51,retdat,MATCH(Q$13,Data!$A$3:$CC$3,0),0)","v":8.271191576927249E-2},null,{"$f":"AVERAGE(C49:C51)","v":0.15623516749296401},5.4594444444444439E-2,0.21640306872367598,5.7726976370788087E-2,3.289239009819829E-2,4.0755555555555566E-2,6.3980084289222153E-2,6.9047890222839414E-2,8.1548348732209022E-2,5.867927337001827E-2,0.15855702319660703,6.3419444444444459E-2,6.2053888888888901E-2,4.570277777777778E-2,0.13223007172410753,null,{"$f":"GEOMEAN(C122:OFFSET(C122,$AI$2-1,0))-1","v":0.15595030966693546},{"$f":"GEOMEAN(D122:OFFSET(D122,$AI$2-1,0))-1","v":5.4593241502123524E-2},{"$f":"GEOMEAN(E122:OFFSET(E122,$AI$2-1,0))-1","v":0.21551314716732817},{"$f":"GEOMEAN(F122:OFFSET(F122,$AI$2-1,0))-1","v":5.7303422762315703E-2},{"$f":"GEOMEAN(G122:OFFSET(G122,$AI$2-1,0))-1","v":3.2874318986947371E-2},{"$f":"GEOMEAN(H122:OFFSET(H122,$AI$2-1,0))-1","v":4.0733661237665864E-2},{"$f":"GEOMEAN(I122:OFFSET(I122,$AI$2-1,0))-1","v":6.3042564150009639E-2},{"$f":"GEOMEAN(J122:OFFSET(J122,$AI$2-1,0))-1","v":6.7124719170022606E-2},{"$f":"GEOMEAN(K122:OFFSET(K122,$AI$2-1,0))-1","v":6.3354990691512514E-2},{"$f":"GEOMEAN(L122:OFFSET(L122,$AI$2-1,0))-1","v":3.9001254944866171E-2},{"$f":"GEOMEAN(M122:OFFSET(M122,$AI$2-1,0))-1","v":0.15816686036996153},{"$f":"GEOMEAN(N122:OFFSET(N122,$AI$2-1,0))-1","v":6.3417628803771331E-2},{"$f":"GEOMEAN(O122:OFFSET(O122,$AI$2-1,0))-1","v":6.205111785432238E-2},{"$f":"GEOMEAN(P122:OFFSET(P122,$AI$2-1,0))-1","v":4.5700688166746772E-2},{"$f":"GEOMEAN(Q122:OFFSET(Q122,$AI$2-1,0))-1","v":0.13086271956794593},null,38,"","","","","","","","","","","","","","",""]
[null,2008,{"$f":"VLOOKUP($B52,retdat,MATCH(C$13,Data!$A$3:$CC$3,0),0)","v":9.7931953750283088E-2},{"$f":"VLOOKUP($B52,retdat,MATCH(D$13,Data!$A$3:$CC$3,0),0)","v":5.6316666666666668E-2},{"$f":"VLOOKUP($B52,retdat,MATCH(E$13,Data!$A$3:$CC$3,0),0)","v":4.227221680221796E-2},{"$f":"VLOOKUP($B52,retdat,MATCH(F$13,Data!$A$3:$CC$3,0),0)","v":-4.4070078320853384E-2},{"$f":"VLOOKUP($B52,retdat,MATCH(G$13,Data!$A$3:$CC$3,0),0)","v":9.1371144498648027E-4},{"$f":"VLOOKUP($B52,retdat,MATCH(H$13,Data!$A$3:$CC$3,0),0)","v":1.3650000000000004E-2},{"$f":"VLOOKUP($B52,retdat,MATCH(I$13,Data!$A$3:$CC$3,0),0)","v":-0.48589096961924627},{"$f":"VLOOKUP($B52,retdat,MATCH(J$13,Data!$A$3:$CC$3,0),0)","v":-0.41305025658806666},{"$f":"VLOOKUP($B52,retdat,MATCH(K$13,Data!$A$3:$CC$3,0),0)","v":-0.47365246120573795},{"$f":"VLOOKUP($B52,retdat,MATCH(L$13,Data!$A$3:$CC$3,0),0)","v":-0.4754556674796751},{"$f":"VLOOKUP($B52,retdat,MATCH(M$13,Data!$A$3:$CC$3,0),0)","v":8.7738476143563671E-2},{"$f":"VLOOKUP($B52,retdat,MATCH(N$13,Data!$A$3:$CC$3,0),0)","v":7.4466666666666681E-2},{"$f":"VLOOKUP($B52,retdat,MATCH(O$13,Data!$A$3:$CC$3,0),0)","v":6.0361250000000012E-2},{"$f":"VLOOKUP($B52,retdat,MATCH(P$13,Data!$A$3:$CC$3,0),0)","v":3.6666666666666667E-2},{"$f":"VLOOKUP($B52,retdat,MATCH(Q$13,Data!$A$3:$CC$3,0),0)","v":-0.59939386872987555},null,0.12470278447743294,5.5916666666666663E-2,0.17597665628709394,1.5776129771594261E-2,2.2001557141177366E-2,3.4816666666666676E-2,-0.10783981754387084,-6.6604252708112835E-2,-0.11459630942034378,-0.12634783203234665,0.12116857627469667,6.8027777777777784E-2,6.2624722222222234E-2,4.3625000000000004E-2,-0.10194753482246936,null,{"$f":"GEOMEAN(C123:OFFSET(C123,$AI$2-1,0))-1","v":0.12453931938988339},{"$f":"GEOMEAN(D123:OFFSET(D123,$AI$2-1,0))-1","v":5.5916620872713541E-2},{"$f":"GEOMEAN(E123:OFFSET(E123,$AI$2-1,0))-1","v":0.17172271685126628},{"$f":"GEOMEAN(F123:OFFSET(F123,$AI$2-1,0))-1","v":1.4600358265901558E-2},{"$f":"GEOMEAN(G123:OFFSET(G123,$AI$2-1,0))-1","v":2.1874252844308772E-2},{"$f":"GEOMEAN(H123:OFFSET(H123,$AI$2-1,0))-1","v":3.4706579079894162E-2},{"$f":"GEOMEAN(I123:OFFSET(I123,$AI$2-1,0))-1","v":-0.15663168113734638},{"$f":"GEOMEAN(J123:OFFSET(J123,$AI$2-1,0))-1","v":-0.10470321838748509},{"$f":"GEOMEAN(K123:OFFSET(K123,$AI$2-1,0))-1","v":-0.17198306389669571},{"$f":"GEOMEAN(L123:OFFSET(L123,$AI$2-1,0))-1","v":-0.18319370913522137},{"$f":"GEOMEAN(M123:OFFSET(M123,$AI$2-1,0))-1","v":0.12089212842138997},{"$f":"GEOMEAN(N123:OFFSET(N123,$AI$2-1,0))-1","v":6.8018092467456936E-2},{"$f":"GEOMEAN(O123:OFFSET(O123,$AI$2-1,0))-1","v":6.2623477265597582E-2},{"$f":"GEOMEAN(P123:OFFSET(P123,$AI$2-1,0))-1","v":4.3613166029019101E-2},{"$f":"GEOMEAN(Q123:OFFSET(Q123,$AI$2-1,0))-1","v":-0.1931880080382643},null,39,0.12453931938988339,5.5916620872713541E-2,0.17172271685126628,1.4600358265901558E-2,2.1874252844308772E-2,3.4706579079894162E-2,-0.15663168113734638,-0.10470321838748509,-0.17198306389669571,-0.18319370913522137,0.12089212842138997,6.8018092467456936E-2,6.2623477265597582E-2,4.3613166029019101E-2,-0.1931880080382643]
[null,2009,{"$f":"VLOOKUP($B53,retdat,MATCH(C$13,Data!$A$3:$CC$3,0),0)","v":-1.2049924662179702E-2},{"$f":"VLOOKUP($B53,retdat,MATCH(D$13,Data!$A$3:$CC$3,0),0)","v":5.3133333333333324E-2},{"$f":"VLOOKUP($B53,retdat,MATCH(E$13,Data!$A$3:$CC$3,0),0)","v":0.22343094893078772},{"$f":"VLOOKUP($B53,retdat,MATCH(F$13,Data!$A$3:$CC$3,0),0)","v":4.12666001740708E-2},{"$f":"VLOOKUP($B53,retdat,MATCH(G$13,Data!$A$3:$CC$3,0),0)","v":2.6849612652751799E-2},{"$f":"VLOOKUP($B53,retdat,MATCH(H$13,Data!$A$3:$CC$3,0),0)","v":1.5E-3},{"$f":"VLOOKUP($B53,retdat,MATCH(I$13,Data!$A$3:$CC$3,0),0)","v":0.21069132880745073},{"$f":"VLOOKUP($B53,retdat,MATCH(J$13,Data!$A$3:$CC$3,0),0)","v":0.17243412947737938},{"$f":"VLOOKUP($B53,retdat,MATCH(K$13,Data!$A$3:$CC$3,0),0)","v":0.24678362762175293},{"$f":"VLOOKUP($B53,retdat,MATCH(L$13,Data!$A$3:$CC$3,0),0)","v":0.24530358985955028},{"$f":"VLOOKUP($B53,retdat,MATCH(M$13,Data!$A$3:$CC$3,0),0)","v":-1.9610937420983982E-2},{"$f":"VLOOKUP($B53,retdat,MATCH(N$13,Data!$A$3:$CC$3,0),0)","v":7.2958333333333347E-2},{"$f":"VLOOKUP($B53,retdat,MATCH(O$13,Data!$A$3:$CC$3,0),0)","v":5.0413749999999993E-2},{"$f":"VLOOKUP($B53,retdat,MATCH(P$13,Data!$A$3:$CC$3,0),0)","v":3.256666666666666E-2},{"$f":"VLOOKUP($B53,retdat,MATCH(Q$13,Data!$A$3:$CC$3,0),0)","v":0.24488350319220417},null,7.3606216638115896E-2,5.5002777777777768E-2,0.18091578960532725,2.4256649448152229E-2,2.2588386924976129E-2,1.9561111111111116E-2,-8.0170826798207542E-2,-5.9425666518075841E-2,-0.13251973831419134,-0.14218457594578562,6.5585495156546866E-2,7.0750000000000021E-2,5.8059861111111111E-2,3.8508333333333332E-2,-9.0599483256132943E-2,null,{"$f":"GEOMEAN(C124:OFFSET(C124,$AI$2-1,0))-1","v":7.1751280356527891E-2},{"$f":"GEOMEAN(D124:OFFSET(D124,$AI$2-1,0))-1","v":5.500190378956149E-2},{"$f":"GEOMEAN(E124:OFFSET(E124,$AI$2-1,0))-1","v":0.1764916556674021},{"$f":"GEOMEAN(F124:OFFSET(F124,$AI$2-1,0))-1","v":2.3000908104072293E-2},{"$f":"GEOMEAN(G124:OFFSET(G124,$AI$2-1,0))-1","v":2.2458907652574078E-2},{"$f":"GEOMEAN(H124:OFFSET(H124,$AI$2-1,0))-1","v":1.940893273152966E-2},{"$f":"GEOMEAN(I124:OFFSET(I124,$AI$2-1,0))-1","v":-0.13642663027819313},{"$f":"GEOMEAN(J124:OFFSET(J124,$AI$2-1,0))-1","v":-9.9153389245694945E-2},{"$f":"GEOMEAN(K124:OFFSET(K124,$AI$2-1,0))-1","v":-0.18355525785615712},{"$f":"GEOMEAN(L124:OFFSET(L124,$AI$2-1,0))-1","v":-0.19332457770737854},{"$f":"GEOMEAN(M124:OFFSET(M124,$AI$2-1,0))-1","v":6.3713597946363443E-2},{"$f":"GEOMEAN(N124:OFFSET(N124,$AI$2-1,0))-1","v":7.0741612230000195E-2},{"$f":"GEOMEAN(O124:OFFSET(O124,$AI$2-1,0))-1","v":5.8045289706111891E-2},{"$f":"GEOMEAN(P124:OFFSET(P124,$AI$2-1,0))-1","v":3.8492427039587662E-2},{"$f":"GEOMEAN(Q124:OFFSET(Q124,$AI$2-1,0))-1","v":-0.18569630264553838},null,40,"","","","","","","","","","","","","","",""]
[null,2010,{"$f":"VLOOKUP($B54,retdat,MATCH(C$13,Data!$A$3:$CC$3,0),0)","v":4.983252085865348E-2},{"$f":"VLOOKUP($B54,retdat,MATCH(D$13,Data!$A$3:$CC$3,0),0)","v":4.9433333333333322E-2},{"$f":"VLOOKUP($B54,retdat,MATCH(E$13,Data!$A$3:$CC$3,0),0)","v":0.25651162738374744},{"$f":"VLOOKUP($B54,retdat,MATCH(F$13,Data!$A$3:$CC$3,0),0)","v":6.3098686645352606E-2},{"$f":"VLOOKUP($B54,retdat,MATCH(G$13,Data!$A$3:$CC$3,0),0)","v":1.484647887032238E-2},{"$f":"VLOOKUP($B54,retdat,MATCH(H$13,Data!$A$3:$CC$3,0),0)","v":1.3666666666666669E-3},{"$f":"VLOOKUP($B54,retdat,MATCH(I$13,Data!$A$3:$CC$3,0),0)","v":0.12029045787895962},{"$f":"VLOOKUP($B54,retdat,MATCH(J$13,Data!$A$3:$CC$3,0),0)","v":0.10456513227369264},{"$f":"VLOOKUP($B54,retdat,MATCH(K$13,Data!$A$3:$CC$3,0),0)","v":0.2464456724238232},{"$f":"VLOOKUP($B54,retdat,MATCH(L$13,Data!$A$3:$CC$3,0),0)","v":0.24344665060059878},{"$f":"VLOOKUP($B54,retdat,MATCH(M$13,Data!$A$3:$CC$3,0),0)","v":3.6585581141516312E-2},{"$f":"VLOOKUP($B54,retdat,MATCH(N$13,Data!$A$3:$CC$3,0),0)","v":6.0383333333333331E-2},{"$f":"VLOOKUP($B54,retdat,MATCH(O$13,Data!$A$3:$CC$3,0),0)","v":4.6905833333333334E-2},{"$f":"VLOOKUP($B54,retdat,MATCH(P$13,Data!$A$3:$CC$3,0),0)","v":3.2141666666666666E-2},{"$f":"VLOOKUP($B54,retdat,MATCH(Q$13,Data!$A$3:$CC$3,0),0)","v":4.7880911139322663E-2},null,4.5238183315585621E-2,5.2961111111111105E-2,0.17407159770558436,2.0098402832856674E-2,1.4203267656020221E-2,5.5055555555555561E-3,-5.1636394310945306E-2,-4.535033161233154E-2,6.5256129466127284E-3,4.4315243268246525E-3,3.4904373288032003E-2,6.9269444444444453E-2,5.2560277777777782E-2,3.3791666666666664E-2,-0.10220981813278289,null,{"$f":"GEOMEAN(C125:OFFSET(C125,$AI$2-1,0))-1","v":4.4263620253429226E-2},{"$f":"GEOMEAN(D125:OFFSET(D125,$AI$2-1,0))-1","v":5.2957353677840269E-2},{"$f":"GEOMEAN(E125:OFFSET(E125,$AI$2-1,0))-1","v":0.17015226748415424},{"$f":"GEOMEAN(F125:OFFSET(F125,$AI$2-1,0))-1","v":1.903052113901138E-2},{"$f":"GEOMEAN(G125:OFFSET(G125,$AI$2-1,0))-1","v":1.4147856728496055E-2},{"$f":"GEOMEAN(H125:OFFSET(H125,$AI$2-1,0))-1","v":5.4891061341242331E-3},{"$f":"GEOMEAN(I125:OFFSET(I125,$AI$2-1,0))-1","v":-0.11323930780604086},{"$f":"GEOMEAN(J125:OFFSET(J125,$AI$2-1,0))-1","v":-8.7372467987866576E-2},{"$f":"GEOMEAN(K125:OFFSET(K125,$AI$2-1,0))-1","v":-6.4783098155068108E-2},{"$f":"GEOMEAN(L125:OFFSET(L125,$AI$2-1,0))-1","v":-6.6971595540674222E-2},{"$f":"GEOMEAN(M125:OFFSET(M125,$AI$2-1,0))-1","v":3.3973410526813241E-2},{"$f":"GEOMEAN(N125:OFFSET(N125,$AI$2-1,0))-1","v":6.9250755244607332E-2},{"$f":"GEOMEAN(O125:OFFSET(O125,$AI$2-1,0))-1","v":5.2544877709185478E-2},{"$f":"GEOMEAN(P125:OFFSET(P125,$AI$2-1,0))-1","v":3.3789655053755085E-2},{"$f":"GEOMEAN(Q125:OFFSET(Q125,$AI$2-1,0))-1","v":-0.19452374114947868},null,41,"","","","","","","","","","","","","","",""]
[null,2011,{"$f":"VLOOKUP($B55,retdat,MATCH(C$13,Data!$A$3:$CC$3,0),0)","v":8.6910621088710435E-2},{"$f":"VLOOKUP($B55,retdat,MATCH(D$13,Data!$A$3:$CC$3,0),0)","v":4.6391666666666664E-2},{"$f":"VLOOKUP($B55,retdat,MATCH(E$13,Data!$A$3:$CC$3,0),0)","v":8.5528005311097166E-2},{"$f":"VLOOKUP($B55,retdat,MATCH(F$13,Data!$A$3:$CC$3,0),0)","v":5.187298927348475E-2},{"$f":"VLOOKUP($B55,retdat,MATCH(G$13,Data!$A$3:$CC$3,0),0)","v":2.9193870078125943E-2},{"$f":"VLOOKUP($B55,retdat,MATCH(H$13,Data!$A$3:$CC$3,0),0)","v":5.2500000000000008E-4},{"$f":"VLOOKUP($B55,retdat,MATCH(I$13,Data!$A$3:$CC$3,0),0)","v":-3.1806109956569349E-5},{"$f":"VLOOKUP($B55,retdat,MATCH(J$13,Data!$A$3:$CC$3,0),0)","v":5.3809838021721658E-2},{"$f":"VLOOKUP($B55,retdat,MATCH(K$13,Data!$A$3:$CC$3,0),0)","v":7.9584616508334732E-2},{"$f":"VLOOKUP($B55,retdat,MATCH(L$13,Data!$A$3:$CC$3,0),0)","v":7.0502388367206126E-2},{"$f":"VLOOKUP($B55,retdat,MATCH(M$13,Data!$A$3:$CC$3,0),0)","v":7.3939469202844846E-2},{"$f":"VLOOKUP($B55,retdat,MATCH(N$13,Data!$A$3:$CC$3,0),0)","v":5.6641666666666667E-2},{"$f":"VLOOKUP($B55,retdat,MATCH(O$13,Data!$A$3:$CC$3,0),0)","v":4.4558333333333339E-2},{"$f":"VLOOKUP($B55,retdat,MATCH(P$13,Data!$A$3:$CC$3,0),0)","v":2.7858333333333329E-2},{"$f":"VLOOKUP($B55,retdat,MATCH(Q$13,Data!$A$3:$CC$3,0),0)","v":-0.16039639959587118},null,4.1564405761728068E-2,4.9652777777777768E-2,0.18849019387521079,5.2079425364302719E-2,2.3629987200400038E-2,1.1305555555555557E-3,0.11031666019215125,0.11026969992426457,0.19093797218463696,0.18641754294245172,3.0304704307792391E-2,6.3327777777777788E-2,4.7292638888888884E-2,3.0855555555555553E-2,4.4122671578551882E-2,null,{"$f":"GEOMEAN(C126:OFFSET(C126,$AI$2-1,0))-1","v":4.075766415553983E-2},{"$f":"GEOMEAN(D126:OFFSET(D126,$AI$2-1,0))-1","v":4.9649158707796071E-2},{"$f":"GEOMEAN(E126:OFFSET(E126,$AI$2-1,0))-1","v":0.18612101947112225},{"$f":"GEOMEAN(F126:OFFSET(F126,$AI$2-1,0))-1","v":5.204166748636041E-2},{"$f":"GEOMEAN(G126:OFFSET(G126,$AI$2-1,0))-1","v":2.3610647128071927E-2},{"$f":"GEOMEAN(H126:OFFSET(H126,$AI$2-1,0))-1","v":1.1304624873138547E-3},{"$f":"GEOMEAN(I126:OFFSET(I126,$AI$2-1,0))-1","v":0.10692131865917354},{"$f":"GEOMEAN(J126:OFFSET(J126,$AI$2-1,0))-1","v":0.10921059753067386},{"$f":"GEOMEAN(K126:OFFSET(K126,$AI$2-1,0))-1","v":0.1882478688809901},{"$f":"GEOMEAN(L126:OFFSET(L126,$AI$2-1,0))-1","v":0.18348660222507118},{"$f":"GEOMEAN(M126:OFFSET(M126,$AI$2-1,0))-1","v":2.9582474949225501E-2},{"$f":"GEOMEAN(N126:OFFSET(N126,$AI$2-1,0))-1","v":6.3304930015891214E-2},{"$f":"GEOMEAN(O126:OFFSET(O126,$AI$2-1,0))-1","v":4.7289876031401334E-2},{"$f":"GEOMEAN(P126:OFFSET(P126,$AI$2-1,0))-1","v":3.0853360267394825E-2},{"$f":"GEOMEAN(Q126:OFFSET(Q126,$AI$2-1,0))-1","v":3.079343610731633E-2},null,42,4.075766415553983E-2,4.9649158707796071E-2,0.18612101947112225,5.204166748636041E-2,2.3610647128071927E-2,1.1304624873138547E-3,0.10692131865917354,0.10921059753067386,0.1882478688809901,0.18348660222507118,2.9582474949225501E-2,6.3304930015891214E-2,4.7289876031401334E-2,3.0853360267394825E-2,3.079343610731633E-2]
[null,2012,{"$f":"VLOOKUP($B56,retdat,MATCH(C$13,Data!$A$3:$CC$3,0),0)","v":0.10912844247275331},{"$f":"VLOOKUP($B56,retdat,MATCH(D$13,Data!$A$3:$CC$3,0),0)","v":3.6733333333333333E-2},{"$f":"VLOOKUP($B56,retdat,MATCH(E$13,Data!$A$3:$CC$3,0),0)","v":7.9389326402333718E-2},{"$f":"VLOOKUP($B56,retdat,MATCH(F$13,Data!$A$3:$CC$3,0),0)","v":8.4725151722843933E-3},{"$f":"VLOOKUP($B56,retdat,MATCH(G$13,Data!$A$3:$CC$3,0),0)","v":1.7260402193737968E-2},{"$f":"VLOOKUP($B56,retdat,MATCH(H$13,Data!$A$3:$CC$3,0),0)","v":8.5833333333333313E-4},{"$f":"VLOOKUP($B56,retdat,MATCH(I$13,Data!$A$3:$CC$3,0),0)","v":0.12580141025535829},{"$f":"VLOOKUP($B56,retdat,MATCH(J$13,Data!$A$3:$CC$3,0),0)","v":7.0053949675876095E-2},{"$f":"VLOOKUP($B56,retdat,MATCH(K$13,Data!$A$3:$CC$3,0),0)","v":0.17982519287253565},{"$f":"VLOOKUP($B56,retdat,MATCH(L$13,Data!$A$3:$CC$3,0),0)","v":0.18004728840850881},{"$f":"VLOOKUP($B56,retdat,MATCH(M$13,Data!$A$3:$CC$3,0),0)","v":9.1308774523569294E-2},{"$f":"VLOOKUP($B56,retdat,MATCH(N$13,Data!$A$3:$CC$3,0),0)","v":4.9349999999999998E-2},{"$f":"VLOOKUP($B56,retdat,MATCH(O$13,Data!$A$3:$CC$3,0),0)","v":3.6559166666666663E-2},{"$f":"VLOOKUP($B56,retdat,MATCH(P$13,Data!$A$3:$CC$3,0),0)","v":1.8024999999999999E-2},{"$f":"VLOOKUP($B56,retdat,MATCH(Q$13,Data!$A$3:$CC$3,0),0)","v":0.12711016219680901},null,8.1957194806705755E-2,4.4186111111111114E-2,0.14047631969905944,4.1148063697040584E-2,2.0433583714062096E-2,9.1666666666666665E-4,8.2020020674787114E-2,7.6142973323763463E-2,0.16861849393489783,0.16466544245877124,6.7277941622643486E-2,5.5458333333333332E-2,4.2674444444444452E-2,2.6008333333333331E-2,4.8648912467534984E-3,null,{"$f":"GEOMEAN(C127:OFFSET(C127,$AI$2-1,0))-1","v":8.1679416862547205E-2},{"$f":"GEOMEAN(D127:OFFSET(D127,$AI$2-1,0))-1","v":4.4172047829097449E-2},{"$f":"GEOMEAN(E127:OFFSET(E127,$AI$2-1,0))-1","v":0.13761476754897495},{"$f":"GEOMEAN(F127:OFFSET(F127,$AI$2-1,0))-1","v":4.0879168869298876E-2},{"$f":"GEOMEAN(G127:OFFSET(G127,$AI$2-1,0))-1","v":2.0414355734508449E-2},{"$f":"GEOMEAN(H127:OFFSET(H127,$AI$2-1,0))-1","v":9.1660684066852127E-4},{"$f":"GEOMEAN(I127:OFFSET(I127,$AI$2-1,0))-1","v":8.0420635969814525E-2},{"$f":"GEOMEAN(J127:OFFSET(J127,$AI$2-1,0))-1","v":7.5935947198290332E-2},{"$f":"GEOMEAN(K127:OFFSET(K127,$AI$2-1,0))-1","v":0.16658369555758701},{"$f":"GEOMEAN(L127:OFFSET(L127,$AI$2-1,0))-1","v":0.16244229416048439},{"$f":"GEOMEAN(M127:OFFSET(M127,$AI$2-1,0))-1","v":6.7032231300819145E-2},{"$f":"GEOMEAN(N127:OFFSET(N127,$AI$2-1,0))-1","v":5.5448379412832649E-2},{"$f":"GEOMEAN(O127:OFFSET(O127,$AI$2-1,0))-1","v":4.2665022463992841E-2},{"$f":"GEOMEAN(P127:OFFSET(P127,$AI$2-1,0))-1","v":2.5991284704941719E-2},{"$f":"GEOMEAN(Q127:OFFSET(Q127,$AI$2-1,0))-1","v":-2.7955781785452549E-3},null,43,"","","","","","","","","","","","","","",""]
[null,2013,{"$f":"VLOOKUP($B57,retdat,MATCH(C$13,Data!$A$3:$CC$3,0),0)","v":9.3724386129422313E-2},{"$f":"VLOOKUP($B57,retdat,MATCH(D$13,Data!$A$3:$CC$3,0),0)","v":4.2350000000000006E-2},{"$f":"VLOOKUP($B57,retdat,MATCH(E$13,Data!$A$3:$CC$3,0),0)","v":-0.31924590000509157},{"$f":"VLOOKUP($B57,retdat,MATCH(F$13,Data!$A$3:$CC$3,0),0)","v":2.4783160144670005E-3},{"$f":"VLOOKUP($B57,retdat,MATCH(G$13,Data!$A$3:$CC$3,0),0)","v":1.4905712048226272E-2},{"$f":"VLOOKUP($B57,retdat,MATCH(H$13,Data!$A$3:$CC$3,0),0)","v":5.8333333333333327E-4},{"$f":"VLOOKUP($B57,retdat,MATCH(I$13,Data!$A$3:$CC$3,0),0)","v":0.25929220649406615},{"$f":"VLOOKUP($B57,retdat,MATCH(J$13,Data!$A$3:$CC$3,0),0)","v":0.23506747107240289},{"$f":"VLOOKUP($B57,retdat,MATCH(K$13,Data!$A$3:$CC$3,0),0)","v":2.8157193162819436E-2},{"$f":"VLOOKUP($B57,retdat,MATCH(L$13,Data!$A$3:$CC$3,0),0)","v":2.3135556260503023E-2},{"$f":"VLOOKUP($B57,retdat,MATCH(M$13,Data!$A$3:$CC$3,0),0)","v":8.086146291647614E-2},{"$f":"VLOOKUP($B57,retdat,MATCH(N$13,Data!$A$3:$CC$3,0),0)","v":5.1016666666666675E-2},{"$f":"VLOOKUP($B57,retdat,MATCH(O$13,Data!$A$3:$CC$3,0),0)","v":3.9819166666666669E-2},{"$f":"VLOOKUP($B57,retdat,MATCH(P$13,Data!$A$3:$CC$3,0),0)","v":2.3508333333333332E-2},{"$f":"VLOOKUP($B57,retdat,MATCH(Q$13,Data!$A$3:$CC$3,0),0)","v":0.1775241456474633},null,9.6587816563628692E-2,4.1825000000000001E-2,-5.1442856097220234E-2,2.094127348674538E-2,2.0453328106696728E-2,6.5555555555555549E-4,0.12835393687982263,0.11964375292333355,9.5855667514563273E-2,9.1228411012072644E-2,8.2036568880963431E-2,5.2336111111111111E-2,4.0312222222222228E-2,2.3130555555555554E-2,4.8079302749467041E-2,null,{"$f":"GEOMEAN(C128:OFFSET(C128,$AI$2-1,0))-1","v":9.6548529526126581E-2},{"$f":"GEOMEAN(D128:OFFSET(D128,$AI$2-1,0))-1","v":4.1817468518605017E-2},{"$f":"GEOMEAN(E128:OFFSET(E128,$AI$2-1,0))-1","v":-7.2594204180297162E-2},{"$f":"GEOMEAN(F128:OFFSET(F128,$AI$2-1,0))-1","v":2.0706277335859724E-2},{"$f":"GEOMEAN(G128:OFFSET(G128,$AI$2-1,0))-1","v":2.043420806699614E-2},{"$f":"GEOMEAN(H128:OFFSET(H128,$AI$2-1,0))-1","v":6.5554499984066261E-4},{"$f":"GEOMEAN(I128:OFFSET(I128,$AI$2-1,0))-1","v":0.12337519522824869},{"$f":"GEOMEAN(J128:OFFSET(J128,$AI$2-1,0))-1","v":0.11674204849011049},{"$f":"GEOMEAN(K128:OFFSET(K128,$AI$2-1,0))-1","v":9.4068775983035424E-2},{"$f":"GEOMEAN(L128:OFFSET(L128,$AI$2-1,0))-1","v":8.9281371369800633E-2},{"$f":"GEOMEAN(M128:OFFSET(M128,$AI$2-1,0))-1","v":8.2013039493644024E-2},{"$f":"GEOMEAN(N128:OFFSET(N128,$AI$2-1,0))-1","v":5.2331492262144952E-2},{"$f":"GEOMEAN(O128:OFFSET(O128,$AI$2-1,0))-1","v":4.0307040597555854E-2},{"$f":"GEOMEAN(P128:OFFSET(P128,$AI$2-1,0))-1","v":2.3122642017213701E-2},{"$f":"GEOMEAN(Q128:OFFSET(Q128,$AI$2-1,0))-1","v":3.6740727271429741E-2},null,44,{"$f":"IF(TRUNC($AY57/$AI$2)-$AY57/$AI$2 = 0,AI57,\"\")","v":""},{"$f":"IF(TRUNC($AY57/$AI$2)-$AY57/$AI$2 = 0,AJ57,\"\")","v":""},{"$f":"IF(TRUNC($AY57/$AI$2)-$AY57/$AI$2 = 0,AK57,\"\")","v":""},{"$f":"IF(TRUNC($AY57/$AI$2)-$AY57/$AI$2 = 0,AL57,\"\")","v":""},{"$f":"IF(TRUNC($AY57/$AI$2)-$AY57/$AI$2 = 0,AM57,\"\")","v":""},{"$f":"IF(TRUNC($AY57/$AI$2)-$AY57/$AI$2 = 0,AN57,\"\")","v":""},{"$f":"IF(TRUNC($AY57/$AI$2)-$AY57/$AI$2 = 0,AO57,\"\")","v":""},{"$f":"IF(TRUNC($AY57/$AI$2)-$AY57/$AI$2 = 0,AP57,\"\")","v":""},{"$f":"IF(TRUNC($AY57/$AI$2)-$AY57/$AI$2 = 0,AQ57,\"\")","v":""},{"$f":"IF(TRUNC($AY57/$AI$2)-$AY57/$AI$2 = 0,AR57,\"\")","v":""},{"$f":"IF(TRUNC($AY57/$AI$2)-$AY57/$AI$2 = 0,AS57,\"\")","v":""},{"$f":"IF(TRUNC($AY57/$AI$2)-$AY57/$AI$2 = 0,AT57,\"\")","v":""},{"$f":"IF(TRUNC($AY57/$AI$2)-$AY57/$AI$2 = 0,AU57,\"\")","v":""},{"$f":"IF(TRUNC($AY57/$AI$2)-$AY57/$AI$2 = 0,AV57,\"\")","v":""},{"$f":"IF(TRUNC($AY57/$AI$2)-$AY57/$AI$2 = 0,AW57,\"\")","v":""}]
[null,2014,{"$f":"VLOOKUP($B58,retdat,MATCH(C$13,Data!$A$3:$CC$3,0),0)","v":9.6769327910949887E-2},{"$f":"VLOOKUP($B58,retdat,MATCH(D$13,Data!$A$3:$CC$3,0),0)","v":4.1625000000000002E-2},{"$f":"VLOOKUP($B58,retdat,MATCH(E$13,Data!$A$3:$CC$3,0),0)","v":1.2445552322047017E-3},{"$f":"VLOOKUP($B58,retdat,MATCH(F$13,Data!$A$3:$CC$3,0),0)","v":-2.2022912087437341E-2},{"$f":"VLOOKUP($B58,retdat,MATCH(G$13,Data!$A$3:$CC$3,0),0)","v":7.5364620885402635E-3},{"$f":"VLOOKUP($B58,retdat,MATCH(H$13,Data!$A$3:$CC$3,0),0)","v":3.2500000000000009E-4},{"$f":"VLOOKUP($B58,retdat,MATCH(I$13,Data!$A$3:$CC$3,0),0)","v":0.10787310015833211},{"$f":"VLOOKUP($B58,retdat,MATCH(J$13,Data!$A$3:$CC$3,0),0)","v":7.2498003656670112E-2},{"$f":"VLOOKUP($B58,retdat,MATCH(K$13,Data!$A$3:$CC$3,0),0)","v":0.24707562101444955},{"$f":"VLOOKUP($B58,retdat,MATCH(L$13,Data!$A$3:$CC$3,0),0)","v":0.24081678290251521},{"$f":"VLOOKUP($B58,retdat,MATCH(M$13,Data!$A$3:$CC$3,0),0)","v":8.7365752073086445E-2},{"$f":"VLOOKUP($B58,retdat,MATCH(N$13,Data!$A$3:$CC$3,0),0)","v":4.8541666666666664E-2},{"$f":"VLOOKUP($B58,retdat,MATCH(O$13,Data!$A$3:$CC$3,0),0)","v":4.1728333333333339E-2},{"$f":"VLOOKUP($B58,retdat,MATCH(P$13,Data!$A$3:$CC$3,0),0)","v":2.5408333333333335E-2},{"$f":"VLOOKUP($B58,retdat,MATCH(Q$13,Data!$A$3:$CC$3,0),0)","v":-7.6292440310257142E-2},null,9.9874052171041838E-2,4.0236111111111111E-2,-7.9537339456851056E-2,-3.6906936335619825E-3,1.3234192110168167E-2,5.888888888888888E-4,0.16432223896925219,0.12587314146831638,0.15168600234993487,0.14799987585717567,8.6511996504377298E-2,4.963611111111111E-2,3.9368888888888891E-2,2.2313888888888887E-2,7.6113955844671718E-2,null,{"$f":"GEOMEAN(C129:OFFSET(C129,$AI$2-1,0))-1","v":9.985393129526221E-2},{"$f":"GEOMEAN(D129:OFFSET(D129,$AI$2-1,0))-1","v":4.0233117108632976E-2},{"$f":"GEOMEAN(E129:OFFSET(E129,$AI$2-1,0))-1","v":-9.7245800426339346E-2},{"$f":"GEOMEAN(F129:OFFSET(F129,$AI$2-1,0))-1","v":-3.7784973774425135E-3},{"$f":"GEOMEAN(G129:OFFSET(G129,$AI$2-1,0))-1","v":1.322571355141422E-2},{"$f":"GEOMEAN(H129:OFFSET(H129,$AI$2-1,0))-1","v":5.8886519155532113E-4},{"$f":"GEOMEAN(I129:OFFSET(I129,$AI$2-1,0))-1","v":0.16241027580393674},{"$f":"GEOMEAN(J129:OFFSET(J129,$AI$2-1,0))-1","v":0.12330480545970035},{"$f":"GEOMEAN(K129:OFFSET(K129,$AI$2-1,0))-1","v":0.14795093031320095},{"$f":"GEOMEAN(L129:OFFSET(L129,$AI$2-1,0))-1","v":0.14423022614170677},{"$f":"GEOMEAN(M129:OFFSET(M129,$AI$2-1,0))-1","v":8.6503450879779287E-2},{"$f":"GEOMEAN(N129:OFFSET(N129,$AI$2-1,0))-1","v":4.9635605415272899E-2},{"$f":"GEOMEAN(O129:OFFSET(O129,$AI$2-1,0))-1","v":3.9366696847144445E-2},{"$f":"GEOMEAN(P129:OFFSET(P129,$AI$2-1,0))-1","v":2.2309091275203308E-2},{"$f":"GEOMEAN(Q129:OFFSET(Q129,$AI$2-1,0))-1","v":7.0262301384515169E-2},null,45,9.985393129526221E-2,4.0233117108632976E-2,-9.7245800426339346E-2,-3.7784973774425135E-3,1.322571355141422E-2,5.8886519155532113E-4,0.16241027580393674,0.12330480545970035,0.14795093031320095,0.14423022614170677,8.6503450879779287E-2,4.9635605415272899E-2,3.9366696847144445E-2,2.2309091275203308E-2,7.0262301384515169E-2]
[null,2015,{"$f":"VLOOKUP($B59,retdat,MATCH(C$13,Data!$A$3:$CC$3,0),0)","v":6.0621097289307424E-2},{"$f":"VLOOKUP($B59,retdat,MATCH(D$13,Data!$A$3:$CC$3,0),0)","v":3.8866666666666674E-2},{"$f":"VLOOKUP($B59,retdat,MATCH(E$13,Data!$A$3:$CC$3,0),0)","v":-0.12904019018101792},{"$f":"VLOOKUP($B59,retdat,MATCH(F$13,Data!$A$3:$CC$3,0),0)","v":-7.4030117819142496E-2},{"$f":"VLOOKUP($B59,retdat,MATCH(G$13,Data!$A$3:$CC$3,0),0)","v":7.2687166171179962E-3},{"$f":"VLOOKUP($B59,retdat,MATCH(H$13,Data!$A$3:$CC$3,0),0)","v":5.2499999999999997E-4},{"$f":"VLOOKUP($B59,retdat,MATCH(I$13,Data!$A$3:$CC$3,0),0)","v":-7.2925418973831596E-3},{"$f":"VLOOKUP($B59,retdat,MATCH(J$13,Data!$A$3:$CC$3,0),0)","v":-2.2586047578282538E-2},{"$f":"VLOOKUP($B59,retdat,MATCH(K$13,Data!$A$3:$CC$3,0),0)","v":2.7860574060171745E-2},{"$f":"VLOOKUP($B59,retdat,MATCH(L$13,Data!$A$3:$CC$3,0),0)","v":2.02983610484113E-2},{"$f":"VLOOKUP($B59,retdat,MATCH(M$13,Data!$A$3:$CC$3,0),0)","v":5.4688984312514288E-2},{"$f":"VLOOKUP($B59,retdat,MATCH(N$13,Data!$A$3:$CC$3,0),0)","v":4.9991666666666677E-2},{"$f":"VLOOKUP($B59,retdat,MATCH(O$13,Data!$A$3:$CC$3,0),0)","v":3.8490000000000003E-2},{"$f":"VLOOKUP($B59,retdat,MATCH(P$13,Data!$A$3:$CC$3,0),0)","v":2.1358333333333337E-2},{"$f":"VLOOKUP($B59,retdat,MATCH(Q$13,Data!$A$3:$CC$3,0),0)","v":-3.3579291257922507E-2},null,{"$f":"AVERAGE(C57:C59)","v":8.3704937109893199E-2},{"$f":"AVERAGE(D57:D59)","v":4.0947222222222225E-2},{"$f":"AVERAGE(E57:E59)","v":-0.14901384498463494},{"$f":"AVERAGE(F57:F59)","v":-3.1191571297370945E-2},{"$f":"AVERAGE(G57:G59)","v":9.9036302512948444E-3},{"$f":"AVERAGE(H57:H59)","v":4.7777777777777776E-4},{"$f":"AVERAGE(I57:I59)","v":0.1199575882516717},{"$f":"AVERAGE(J57:J59)","v":9.4993142383596837E-2},{"$f":"AVERAGE(K57:K59)","v":0.10103112941248023},{"$f":"AVERAGE(L57:L59)","v":9.475023340380985E-2},{"$f":"AVERAGE(M57:M59)","v":7.4305399767358962E-2},{"$f":"AVERAGE(N57:N59)","v":4.9850000000000005E-2},{"$f":"AVERAGE(O57:O59)","v":4.0012500000000006E-2},{"$f":"AVERAGE(P57:P59)","v":2.3425000000000001E-2},{"$f":"AVERAGE(Q57:Q59)","v":2.2550804693094551E-2},null,{"$f":"GEOMEAN(C130:OFFSET(C130,$AI$2-1,0))-1","v":8.3580425847397111E-2},{"$f":"GEOMEAN(D130:OFFSET(D130,$AI$2-1,0))-1","v":4.0946139924747715E-2},{"$f":"GEOMEAN(E130:OFFSET(E130,$AI$2-1,0))-1","v":-0.15955457767453962},{"$f":"GEOMEAN(F130:OFFSET(F130,$AI$2-1,0))-1","v":-3.172175070241201E-2},{"$f":"GEOMEAN(G130:OFFSET(G130,$AI$2-1,0))-1","v":9.8974406309644269E-3},{"$f":"GEOMEAN(H130:OFFSET(H130,$AI$2-1,0))-1","v":4.7777166161910856E-4},{"$f":"GEOMEAN(I130:OFFSET(I130,$AI$2-1,0))-1","v":0.11466904140801026},{"$f":"GEOMEAN(J130:OFFSET(J130,$AI$2-1,0))-1","v":8.9904812104792065E-2},{"$f":"GEOMEAN(K130:OFFSET(K130,$AI$2-1,0))-1","v":9.6382694318354778E-2},{"$f":"GEOMEAN(L130:OFFSET(L130,$AI$2-1,0))-1","v":9.0074068760424009E-2},{"$f":"GEOMEAN(M130:OFFSET(M130,$AI$2-1,0))-1","v":7.4212077806830923E-2},{"$f":"GEOMEAN(N130:OFFSET(N130,$AI$2-1,0))-1","v":4.9849508925075892E-2},{"$f":"GEOMEAN(O130:OFFSET(O130,$AI$2-1,0))-1","v":4.0011650891434547E-2},{"$f":"GEOMEAN(P130:OFFSET(P130,$AI$2-1,0))-1","v":2.3423662604341589E-2},{"$f":"GEOMEAN(Q130:OFFSET(Q130,$AI$2-1,0))-1","v":1.6771853777987733E-2},null,46,"","","","","","","","","","","","","","",""]
[null,2016,{"$f":"VLOOKUP($B60,retdat,MATCH(C$13,Data!$A$3:$CC$3,0),0)","v":3.0014017579558669E-2},{"$f":"VLOOKUP($B60,retdat,MATCH(D$13,Data!$A$3:$CC$3,0),0)","v":3.6658333333333334E-2},{"$f":"VLOOKUP($B60,retdat,MATCH(E$13,Data!$A$3:$CC$3,0),0)","v":7.7921446326289695E-2},{"$f":"VLOOKUP($B60,retdat,MATCH(F$13,Data!$A$3:$CC$3,0),0)","v":2.5290559656654343E-2},{"$f":"VLOOKUP($B60,retdat,MATCH(G$13,Data!$A$3:$CC$3,0),0)","v":2.0533949353894038E-2},{"$f":"VLOOKUP($B60,retdat,MATCH(H$13,Data!$A$3:$CC$3,0),0)","v":3.1750000000000007E-3},{"$f":"VLOOKUP($B60,retdat,MATCH(I$13,Data!$A$3:$CC$3,0),0)","v":9.1074090277842745E-2},{"$f":"VLOOKUP($B60,retdat,MATCH(J$13,Data!$A$3:$CC$3,0),0)","v":0.12588362464622282},{"$f":"VLOOKUP($B60,retdat,MATCH(K$13,Data!$A$3:$CC$3,0),0)","v":8.2770284182020024E-2},{"$f":"VLOOKUP($B60,retdat,MATCH(L$13,Data!$A$3:$CC$3,0),0)","v":8.961122226394308E-2},{"$f":"VLOOKUP($B60,retdat,MATCH(M$13,Data!$A$3:$CC$3,0),0)","v":3.0399683602858364E-2},{"$f":"VLOOKUP($B60,retdat,MATCH(N$13,Data!$A$3:$CC$3,0),0)","v":4.7175000000000002E-2},{"$f":"VLOOKUP($B60,retdat,MATCH(O$13,Data!$A$3:$CC$3,0),0)","v":3.6477083333333341E-2},{"$f":"VLOOKUP($B60,retdat,MATCH(P$13,Data!$A$3:$CC$3,0),0)","v":1.8416666666666668E-2},{"$f":"VLOOKUP($B60,retdat,MATCH(Q$13,Data!$A$3:$CC$3,0),0)","v":-1.8987242098002562E-2},null,6.2468147593271996E-2,3.9050000000000008E-2,-1.6624729540841172E-2,-2.3587490083308498E-2,1.1779709353184099E-2,1.341666666666667E-3,6.388488284626391E-2,5.8598526908203469E-2,0.11923549308554711,0.11690878873828986,5.7484806662819694E-2,4.8569444444444443E-2,3.8898472222222223E-2,2.172777777777778E-2,-4.2952991222060734E-2,null,{"$f":"GEOMEAN(C131:OFFSET(C131,$AI$2-1,0))-1","v":6.2118314863292001E-2},{"$f":"GEOMEAN(D131:OFFSET(D131,$AI$2-1,0))-1","v":3.9048013865877751E-2},{"$f":"GEOMEAN(E131:OFFSET(E131,$AI$2-1,0))-1","v":-2.0415739640630703E-2},{"$f":"GEOMEAN(F131:OFFSET(F131,$AI$2-1,0))-1","v":-2.4432104206058125E-2},{"$f":"GEOMEAN(G131:OFFSET(G131,$AI$2-1,0))-1","v":1.1760821541320965E-2},{"$f":"GEOMEAN(H131:OFFSET(H131,$AI$2-1,0))-1","v":1.3408246912092192E-3},{"$f":"GEOMEAN(I131:OFFSET(I131,$AI$2-1,0))-1","v":6.2645763138469368E-2},{"$f":"GEOMEAN(J131:OFFSET(J131,$AI$2-1,0))-1","v":5.6791982449577949E-2},{"$f":"GEOMEAN(K131:OFFSET(K131,$AI$2-1,0))-1","v":0.11546113179155593},{"$f":"GEOMEAN(L131:OFFSET(L131,$AI$2-1,0))-1","v":0.11318874107867805},{"$f":"GEOMEAN(M131:OFFSET(M131,$AI$2-1,0))-1","v":5.7227843461911787E-2},{"$f":"GEOMEAN(N131:OFFSET(N131,$AI$2-1,0))-1","v":4.8568813766095786E-2},{"$f":"GEOMEAN(O131:OFFSET(O131,$AI$2-1,0))-1","v":3.8896221002920894E-2},{"$f":"GEOMEAN(P131:OFFSET(P131,$AI$2-1,0))-1","v":2.1723758814428784E-2},{"$f":"GEOMEAN(Q131:OFFSET(Q131,$AI$2-1,0))-1","v":-4.3264709929667022E-2},null,47,{"$f":"IF(TRUNC($AY60/$AI$2)-$AY60/$AI$2 = 0,AI60,\"\")","v":""},{"$f":"IF(TRUNC($AY60/$AI$2)-$AY60/$AI$2 = 0,AJ60,\"\")","v":""},{"$f":"IF(TRUNC($AY60/$AI$2)-$AY60/$AI$2 = 0,AK60,\"\")","v":""},{"$f":"IF(TRUNC($AY60/$AI$2)-$AY60/$AI$2 = 0,AL60,\"\")","v":""},{"$f":"IF(TRUNC($AY60/$AI$2)-$AY60/$AI$2 = 0,AM60,\"\")","v":""},{"$f":"IF(TRUNC($AY60/$AI$2)-$AY60/$AI$2 = 0,AN60,\"\")","v":""},{"$f":"IF(TRUNC($AY60/$AI$2)-$AY60/$AI$2 = 0,AO60,\"\")","v":""},{"$f":"IF(TRUNC($AY60/$AI$2)-$AY60/$AI$2 = 0,AP60,\"\")","v":""},{"$f":"IF(TRUNC($AY60/$AI$2)-$AY60/$AI$2 = 0,AQ60,\"\")","v":""},{"$f":"IF(TRUNC($AY60/$AI$2)-$AY60/$AI$2 = 0,AR60,\"\")","v":""},{"$f":"IF(TRUNC($AY60/$AI$2)-$AY60/$AI$2 = 0,AS60,\"\")","v":""},{"$f":"IF(TRUNC($AY60/$AI$2)-$AY60/$AI$2 = 0,AT60,\"\")","v":""},{"$f":"IF(TRUNC($AY60/$AI$2)-$AY60/$AI$2 = 0,AU60,\"\")","v":""},{"$f":"IF(TRUNC($AY60/$AI$2)-$AY60/$AI$2 = 0,AV60,\"\")","v":""},{"$f":"IF(TRUNC($AY60/$AI$2)-$AY60/$AI$2 = 0,AW60,\"\")","v":""}]
[null,2017,{"$f":"VLOOKUP($B61,retdat,MATCH(C$13,Data!$A$3:$CC$3,0),0)","v":4.7366586873546314E-2},{"$f":"VLOOKUP($B61,retdat,MATCH(D$13,Data!$A$3:$CC$3,0),0)","v":3.7433333333333339E-2},{"$f":"VLOOKUP($B61,retdat,MATCH(E$13,Data!$A$3:$CC$3,0),0)","v":0.11922675741423988},{"$f":"VLOOKUP($B61,retdat,MATCH(F$13,Data!$A$3:$CC$3,0),0)","v":4.2138874131136143E-2},{"$f":"VLOOKUP($B61,retdat,MATCH(G$13,Data!$A$3:$CC$3,0),0)","v":2.0871491882029952E-2},{"$f":"VLOOKUP($B61,retdat,MATCH(H$13,Data!$A$3:$CC$3,0),0)","v":9.3083333333333351E-3},{"$f":"VLOOKUP($B61,retdat,MATCH(I$13,Data!$A$3:$CC$3,0),0)","v":0.1774762111462605},{"$f":"VLOOKUP($B61,retdat,MATCH(J$13,Data!$A$3:$CC$3,0),0)","v":0.22378984452168138},{"$f":"VLOOKUP($B61,retdat,MATCH(K$13,Data!$A$3:$CC$3,0),0)","v":8.3181535277241564E-2},{"$f":"VLOOKUP($B61,retdat,MATCH(L$13,Data!$A$3:$CC$3,0),0)","v":8.8871300527647759E-2},{"$f":"VLOOKUP($B61,retdat,MATCH(M$13,Data!$A$3:$CC$3,0),0)","v":4.5419739527444429E-2},{"$f":"VLOOKUP($B61,retdat,MATCH(N$13,Data!$A$3:$CC$3,0),0)","v":4.4400000000000002E-2},{"$f":"VLOOKUP($B61,retdat,MATCH(O$13,Data!$A$3:$CC$3,0),0)","v":3.9910000000000001E-2},{"$f":"VLOOKUP($B61,retdat,MATCH(P$13,Data!$A$3:$CC$3,0),0)","v":2.3299999999999998E-2},{"$f":"VLOOKUP($B61,retdat,MATCH(Q$13,Data!$A$3:$CC$3,0),0)","v":0.19705316894949082},null,{"$f":"AVERAGE(C59:C61)","v":4.6000567247470807E-2},{"$f":"AVERAGE(D59:D61)","v":3.7652777777777785E-2},{"$f":"AVERAGE(E59:E61)","v":2.2702671186503886E-2},{"$f":"AVERAGE(F59:F61)","v":-2.2002280104506688E-3},{"$f":"AVERAGE(G59:G61)","v":1.6224719284347329E-2},{"$f":"AVERAGE(H59:H61)","v":4.3361111111111118E-3},{"$f":"AVERAGE(I59:I61)","v":8.7085919842240025E-2},{"$f":"AVERAGE(J59:J61)","v":0.10902914052987389},{"$f":"AVERAGE(K59:K61)","v":6.4604131173144438E-2},{"$f":"AVERAGE(L59:L61)","v":6.6260294613334048E-2},{"$f":"AVERAGE(M59:M61)","v":4.3502802480939025E-2},{"$f":"AVERAGE(N59:N61)","v":4.7188888888888891E-2},{"$f":"AVERAGE(O59:O61)","v":3.8292361111111117E-2},{"$f":"AVERAGE(P59:P61)","v":2.1025000000000002E-2},{"$f":"AVERAGE(Q59:Q61)","v":4.8162211864521916E-2},null,{"$f":"GEOMEAN(C132:OFFSET(C132,$AI$2-1,0))-1","v":4.5925385632177296E-2},{"$f":"GEOMEAN(D132:OFFSET(D132,$AI$2-1,0))-1","v":3.7652374609475903E-2},{"$f":"GEOMEAN(E132:OFFSET(E132,$AI$2-1,0))-1","v":1.6641352013129218E-2},{"$f":"GEOMEAN(F132:OFFSET(F132,$AI$2-1,0))-1","v":-3.5477960746672643E-3},{"$f":"GEOMEAN(G132:OFFSET(G132,$AI$2-1,0))-1","v":1.620491932657786E-2},{"$f":"GEOMEAN(H132:OFFSET(H132,$AI$2-1,0))-1","v":4.3293815915468326E-3},{"$f":"GEOMEAN(I132:OFFSET(I132,$AI$2-1,0))-1","v":8.4449225805321104E-2},{"$f":"GEOMEAN(J132:OFFSET(J132,$AI$2-1,0))-1","v":0.10431497284869584},{"$f":"GEOMEAN(K132:OFFSET(K132,$AI$2-1,0))-1","v":6.4283334168782735E-2},{"$f":"GEOMEAN(L132:OFFSET(L132,$AI$2-1,0))-1","v":6.575759413288762E-2},{"$f":"GEOMEAN(M132:OFFSET(M132,$AI$2-1,0))-1","v":4.3454719328432034E-2},{"$f":"GEOMEAN(N132:OFFSET(N132,$AI$2-1,0))-1","v":4.7186400721539901E-2},{"$f":"GEOMEAN(O132:OFFSET(O132,$AI$2-1,0))-1","v":3.8291405668352763E-2},{"$f":"GEOMEAN(P132:OFFSET(P132,$AI$2-1,0))-1","v":2.1023025834042031E-2},{"$f":"GEOMEAN(Q132:OFFSET(Q132,$AI$2-1,0))-1","v":4.3081175763692192E-2},null,48,{"$f":"IF(TRUNC($AY61/$AI$2)-$AY61/$AI$2 = 0,AI61,\"\")","v":4.5925385632177296E-2},{"$f":"IF(TRUNC($AY61/$AI$2)-$AY61/$AI$2 = 0,AJ61,\"\")","v":3.7652374609475903E-2},{"$f":"IF(TRUNC($AY61/$AI$2)-$AY61/$AI$2 = 0,AK61,\"\")","v":1.6641352013129218E-2},{"$f":"IF(TRUNC($AY61/$AI$2)-$AY61/$AI$2 = 0,AL61,\"\")","v":-3.5477960746672643E-3},{"$f":"IF(TRUNC($AY61/$AI$2)-$AY61/$AI$2 = 0,AM61,\"\")","v":1.620491932657786E-2},{"$f":"IF(TRUNC($AY61/$AI$2)-$AY61/$AI$2 = 0,AN61,\"\")","v":4.3293815915468326E-3},{"$f":"IF(TRUNC($AY61/$AI$2)-$AY61/$AI$2 = 0,AO61,\"\")","v":8.4449225805321104E-2},{"$f":"IF(TRUNC($AY61/$AI$2)-$AY61/$AI$2 = 0,AP61,\"\")","v":0.10431497284869584},{"$f":"IF(TRUNC($AY61/$AI$2)-$AY61/$AI$2 = 0,AQ61,\"\")","v":6.4283334168782735E-2},{"$f":"IF(TRUNC($AY61/$AI$2)-$AY61/$AI$2 = 0,AR61,\"\")","v":6.575759413288762E-2},{"$f":"IF(TRUNC($AY61/$AI$2)-$AY61/$AI$2 = 0,AS61,\"\")","v":4.3454719328432034E-2},{"$f":"IF(TRUNC($AY61/$AI$2)-$AY61/$AI$2 = 0,AT61,\"\")","v":4.7186400721539901E-2},{"$f":"IF(TRUNC($AY61/$AI$2)-$AY61/$AI$2 = 0,AU61,\"\")","v":3.8291405668352763E-2},{"$f":"IF(TRUNC($AY61/$AI$2)-$AY61/$AI$2 = 0,AV61,\"\")","v":2.1023025834042031E-2},{"$f":"IF(TRUNC($AY61/$AI$2)-$AY61/$AI$2 = 0,AW61,\"\")","v":4.3081175763692192E-2}]
[null,2018,{"$f":"VLOOKUP($B62,retdat,MATCH(C$13,Data!$A$3:$CC$3,0),0)","v":4.2703536778866763E-2},{"$f":"VLOOKUP($B62,retdat,MATCH(D$13,Data!$A$3:$CC$3,0),0)","v":3.9299999999999995E-2},{"$f":"VLOOKUP($B62,retdat,MATCH(E$13,Data!$A$3:$CC$3,0),0)","v":-9.3385892677997628E-3},{"$f":"VLOOKUP($B62,retdat,MATCH(F$13,Data!$A$3:$CC$3,0),0)","v":2.3660806776660274E-2},{"$f":"VLOOKUP($B62,retdat,MATCH(G$13,Data!$A$3:$CC$3,0),0)","v":1.8921443566155969E-2},{"$f":"VLOOKUP($B62,retdat,MATCH(H$13,Data!$A$3:$CC$3,0),0)","v":1.9391666666666668E-2},{"$f":"VLOOKUP($B62,retdat,MATCH(I$13,Data!$A$3:$CC$3,0),0)","v":-6.4402595117360809E-2},{"$f":"VLOOKUP($B62,retdat,MATCH(J$13,Data!$A$3:$CC$3,0),0)","v":-5.7949859512723384E-2},{"$f":"VLOOKUP($B62,retdat,MATCH(K$13,Data!$A$3:$CC$3,0),0)","v":-4.1286080745918954E-2},{"$f":"VLOOKUP($B62,retdat,MATCH(L$13,Data!$A$3:$CC$3,0),0)","v":-4.0145937663215787E-2},{"$f":"VLOOKUP($B62,retdat,MATCH(M$13,Data!$A$3:$CC$3,0),0)","v":4.0489884041733711E-2},{"$f":"VLOOKUP($B62,retdat,MATCH(N$13,Data!$A$3:$CC$3,0),0)","v":4.8000000000000001E-2},{"$f":"VLOOKUP($B62,retdat,MATCH(O$13,Data!$A$3:$CC$3,0),0)","v":4.5390416666666669E-2},{"$f":"VLOOKUP($B62,retdat,MATCH(P$13,Data!$A$3:$CC$3,0),0)","v":2.9099999999999997E-2},{"$f":"VLOOKUP($B62,retdat,MATCH(Q$13,Data!$A$3:$CC$3,0),0)","v":-0.17597056381998566},null,4.0028047077323915E-2,3.7797222222222225E-2,6.2603204824243266E-2,3.0363413521483584E-2,2.010896160069332E-2,1.0625000000000001E-2,6.8049235435580821E-2,9.7241203218393621E-2,4.1555246237780875E-2,4.6112195042791682E-2,3.8769769057345499E-2,4.6525000000000004E-2,4.0592500000000004E-2,2.3605555555555557E-2,6.9845434383419835E-4,null,{"$f":"GEOMEAN(C133:OFFSET(C133,$AI$2-1,0))-1","v":4.0002138268687037E-2},{"$f":"GEOMEAN(D133:OFFSET(D133,$AI$2-1,0))-1","v":3.7796630162766132E-2},{"$f":"GEOMEAN(E133:OFFSET(E133,$AI$2-1,0))-1","v":6.1231537418954707E-2},{"$f":"GEOMEAN(F133:OFFSET(F133,$AI$2-1,0))-1","v":3.0329679482341998E-2},{"$f":"GEOMEAN(G133:OFFSET(G133,$AI$2-1,0))-1","v":2.0108606569770648E-2},{"$f":"GEOMEAN(H133:OFFSET(H133,$AI$2-1,0))-1","v":1.0602914112056272E-2},{"$f":"GEOMEAN(I133:OFFSET(I133,$AI$2-1,0))-1","v":6.3241201767652022E-2},{"$f":"GEOMEAN(J133:OFFSET(J133,$AI$2-1,0))-1","v":9.0832633983155109E-2},{"$f":"GEOMEAN(K133:OFFSET(K133,$AI$2-1,0))-1","v":3.9861589328730407E-2},{"$f":"GEOMEAN(L133:OFFSET(L133,$AI$2-1,0))-1","v":4.4281959331121667E-2},{"$f":"GEOMEAN(M133:OFFSET(M133,$AI$2-1,0))-1","v":3.8750928549108998E-2},{"$f":"GEOMEAN(N133:OFFSET(N133,$AI$2-1,0))-1","v":4.6523866462618413E-2},{"$f":"GEOMEAN(O133:OFFSET(O133,$AI$2-1,0))-1","v":4.0586029837569759E-2},{"$f":"GEOMEAN(P133:OFFSET(P133,$AI$2-1,0))-1","v":2.3596243643236647E-2},{"$f":"GEOMEAN(Q133:OFFSET(Q133,$AI$2-1,0))-1","v":-1.0892244071559753E-2},null,49,{"$f":"IF(TRUNC($AY62/$AI$2)-$AY62/$AI$2 = 0,AI62,\"\")","v":""},{"$f":"IF(TRUNC($AY62/$AI$2)-$AY62/$AI$2 = 0,AJ62,\"\")","v":""},{"$f":"IF(TRUNC($AY62/$AI$2)-$AY62/$AI$2 = 0,AK62,\"\")","v":""},{"$f":"IF(TRUNC($AY62/$AI$2)-$AY62/$AI$2 = 0,AL62,\"\")","v":""},{"$f":"IF(TRUNC($AY62/$AI$2)-$AY62/$AI$2 = 0,AM62,\"\")","v":""},{"$f":"IF(TRUNC($AY62/$AI$2)-$AY62/$AI$2 = 0,AN62,\"\")","v":""},{"$f":"IF(TRUNC($AY62/$AI$2)-$AY62/$AI$2 = 0,AO62,\"\")","v":""},{"$f":"IF(TRUNC($AY62/$AI$2)-$AY62/$AI$2 = 0,AP62,\"\")","v":""},{"$f":"IF(TRUNC($AY62/$AI$2)-$AY62/$AI$2 = 0,AQ62,\"\")","v":""},{"$f":"IF(TRUNC($AY62/$AI$2)-$AY62/$AI$2 = 0,AR62,\"\")","v":""},{"$f":"IF(TRUNC($AY62/$AI$2)-$AY62/$AI$2 = 0,AS62,\"\")","v":""},{"$f":"IF(TRUNC($AY62/$AI$2)-$AY62/$AI$2 = 0,AT62,\"\")","v":""},{"$f":"IF(TRUNC($AY62/$AI$2)-$AY62/$AI$2 = 0,AU62,\"\")","v":""},{"$f":"IF(TRUNC($AY62/$AI$2)-$AY62/$AI$2 = 0,AV62,\"\")","v":""},{"$f":"IF(TRUNC($AY62/$AI$2)-$AY62/$AI$2 = 0,AW62,\"\")","v":""}]
[null,2019,{"$f":"VLOOKUP($B63,retdat,MATCH(C$13,Data!$A$3:$CC$3,0),0)","v":4.4346969877602331E-2},{"$f":"VLOOKUP($B63,retdat,MATCH(D$13,Data!$A$3:$CC$3,0),0)","v":3.3875000000000009E-2},{"$f":"VLOOKUP($B63,retdat,MATCH(E$13,Data!$A$3:$CC$3,0),0)","v":0.16917188624625573},{"$f":"VLOOKUP($B63,retdat,MATCH(F$13,Data!$A$3:$CC$3,0),0)","v":-1.0000083334583311E-2},{"$f":"VLOOKUP($B63,retdat,MATCH(G$13,Data!$A$3:$CC$3,0),0)","v":2.2594117069698962E-2},{"$f":"VLOOKUP($B63,retdat,MATCH(H$13,Data!$A$3:$CC$3,0),0)","v":2.0608333333333329E-2},{"$f":"VLOOKUP($B63,retdat,MATCH(I$13,Data!$A$3:$CC$3,0),0)","v":0.25369657911584897},{"$f":"VLOOKUP($B63,retdat,MATCH(J$13,Data!$A$3:$CC$3,0),0)","v":0.20162068364120431},{"$f":"VLOOKUP($B63,retdat,MATCH(K$13,Data!$A$3:$CC$3,0),0)","v":0.25202540602970508},{"$f":"VLOOKUP($B63,retdat,MATCH(L$13,Data!$A$3:$CC$3,0),0)","v":0.24848140288953516},{"$f":"VLOOKUP($B63,retdat,MATCH(M$13,Data!$A$3:$CC$3,0),0)","v":4.3883694221725195E-2},{"$f":"VLOOKUP($B63,retdat,MATCH(N$13,Data!$A$3:$CC$3,0),0)","v":4.374999999999999E-2},{"$f":"VLOOKUP($B63,retdat,MATCH(O$13,Data!$A$3:$CC$3,0),0)","v":3.9337499999999997E-2},{"$f":"VLOOKUP($B63,retdat,MATCH(P$13,Data!$A$3:$CC$3,0),0)","v":2.1441666666666664E-2},{"$f":"VLOOKUP($B63,retdat,MATCH(Q$13,Data!$A$3:$CC$3,0),0)","v":-0.17597056381998566},null,{"$f":"AVERAGE(C61:C63)","v":4.4805697843338467E-2},{"$f":"AVERAGE(D61:D63)","v":3.6869444444444448E-2},{"$f":"AVERAGE(E61:E63)","v":9.3020018130898621E-2},{"$f":"AVERAGE(F61:F63)","v":1.8599865857737704E-2},{"$f":"AVERAGE(G61:G63)","v":2.0795684172628295E-2},{"$f":"AVERAGE(H61:H63)","v":1.643611111111111E-2},{"$f":"AVERAGE(I61:I63)","v":0.12225673171491623},{"$f":"AVERAGE(J61:J63)","v":0.1224868895500541},{"$f":"AVERAGE(K61:K63)","v":9.7973620187009225E-2},{"$f":"AVERAGE(L61:L63)","v":9.906892191798905E-2},{"$f":"AVERAGE(M61:M63)","v":4.3264439263634442E-2},{"$f":"AVERAGE(N61:N63)","v":4.5383333333333331E-2},4.154597222222222E-2,{"$f":"AVERAGE(P61:P63)","v":2.461388888888889E-2},{"$f":"AVERAGE(Q61:Q63)","v":-5.1629319563493502E-2},null,{"$f":"GEOMEAN(C134:OFFSET(C134,$AI$2-1,0))-1","v":4.4803913945942853E-2},{"$f":"GEOMEAN(D134:OFFSET(D134,$AI$2-1,0))-1","v":3.6867001156992263E-2},{"$f":"GEOMEAN(E134:OFFSET(E134,$AI$2-1,0))-1","v":9.0370010379639654E-2},{"$f":"GEOMEAN(F134:OFFSET(F134,$AI$2-1,0))-1","v":1.8370030462340425E-2},{"$f":"GEOMEAN(G134:OFFSET(G134,$AI$2-1,0))-1","v":2.079458153710867E-2},{"$f":"GEOMEAN(H134:OFFSET(H134,$AI$2-1,0))-1","v":1.6423465314086894E-2},{"$f":"GEOMEAN(I134:OFFSET(I134,$AI$2-1,0))-1","v":0.11363925306692013},{"$f":"GEOMEAN(J134:OFFSET(J134,$AI$2-1,0))-1","v":0.11476353213917512},{"$f":"GEOMEAN(K134:OFFSET(K134,$AI$2-1,0))-1","v":9.1443203549569141E-2},{"$f":"GEOMEAN(L134:OFFSET(L134,$AI$2-1,0))-1","v":9.2751166306407562E-2},{"$f":"GEOMEAN(M134:OFFSET(M134,$AI$2-1,0))-1","v":4.3262404931764031E-2},{"$f":"GEOMEAN(N134:OFFSET(N134,$AI$2-1,0))-1","v":4.5381663508391457E-2},{"$f":"GEOMEAN(O134:OFFSET(O134,$AI$2-1,0))-1","v":4.1542402702656078E-2},{"$f":"GEOMEAN(P134:OFFSET(P134,$AI$2-1,0))-1","v":2.4608703495801132E-2},{"$f":"GEOMEAN(Q134:OFFSET(Q134,$AI$2-1,0))-1","v":-6.6746492443817362E-2},null,50,"","","","","","","","","","","","","","",""]
[null,2020,{"$f":"VLOOKUP($B64,retdat,MATCH(C$13,Data!$A$3:$CC$3,0),0)","v":2.883864333086724E-2},{"$f":"VLOOKUP($B64,retdat,MATCH(D$13,Data!$A$3:$CC$3,0),0)","v":2.4766666666666666E-2},{"$f":"VLOOKUP($B64,retdat,MATCH(E$13,Data!$A$3:$CC$3,0),0)","v":0.22005577202713397},{"$f":"VLOOKUP($B64,retdat,MATCH(F$13,Data!$A$3:$CC$3,0),0)","v":-4.0282028286048868E-3},{"$f":"VLOOKUP($B64,retdat,MATCH(G$13,Data!$A$3:$CC$3,0),0)","v":1.2587100134394437E-2},{"$f":"VLOOKUP($B64,retdat,MATCH(H$13,Data!$A$3:$CC$3,0),0)","v":3.65E-3},{"$f":"VLOOKUP($B64,retdat,MATCH(I$13,Data!$A$3:$CC$3,0),0)","v":0.15064961299832172},{"$f":"VLOOKUP($B64,retdat,MATCH(J$13,Data!$A$3:$CC$3,0),0)","v":6.9959835307287471E-2},{"$f":"VLOOKUP($B64,retdat,MATCH(K$13,Data!$A$3:$CC$3,0),0)","v":-5.2573790130777169E-2},{"$f":"VLOOKUP($B64,retdat,MATCH(L$13,Data!$A$3:$CC$3,0),0)","v":-6.1616330316036284E-2},{"$f":"VLOOKUP($B64,retdat,MATCH(M$13,Data!$A$3:$CC$3,0),0)","v":2.8835079932036847E-2},{"$f":"VLOOKUP($B64,retdat,MATCH(N$13,Data!$A$3:$CC$3,0),0)","v":3.6024999999999995E-2},{"$f":"VLOOKUP($B64,retdat,MATCH(O$13,Data!$A$3:$CC$3,0),0)","v":3.1136666666666667E-2},{"$f":"VLOOKUP($B64,retdat,MATCH(P$13,Data!$A$3:$CC$3,0),0)","v":8.9416666666666655E-3},{"$f":"VLOOKUP($B64,retdat,MATCH(Q$13,Data!$A$3:$CC$3,0),0)","v":0.16919465171257445},null,{"$f":"AVERAGE(C62:C64)","v":3.8629716662445447E-2},{"$f":"AVERAGE(D62:D64)","v":3.2647222222222223E-2},{"$f":"AVERAGE(E62:E64)","v":0.12662968966852997},{"$f":"AVERAGE(F62:F64)","v":3.2108402044906926E-3},{"$f":"AVERAGE(G62:G64)","v":1.8034220256749788E-2},{"$f":"AVERAGE(H62:H64)","v":1.4549999999999999E-2},{"$f":"AVERAGE(I62:I64)","v":0.11331453233226996},{"$f":"AVERAGE(J62:J64)","v":7.1210219811922798E-2},{"$f":"AVERAGE(K62:K64)","v":5.272184505100299E-2},{"$f":"AVERAGE(L62:L64)","v":4.89063783034277E-2},{"$f":"AVERAGE(M62:M64)","v":3.7736219398498583E-2},{"$f":"AVERAGE(N62:N64)","v":4.2591666666666667E-2},3.8621527777777775E-2,{"$f":"AVERAGE(P62:P64)","v":1.9827777777777778E-2},{"$f":"AVERAGE(Q62:Q64)","v":-6.0915491975798958E-2},null,{"$f":"GEOMEAN(C135:OFFSET(C135,$AI$2-1,0))-1","v":3.8606354067507231E-2},{"$f":"GEOMEAN(D135:OFFSET(D135,$AI$2-1,0))-1","v":3.262979185238768E-2},{"$f":"GEOMEAN(E135:OFFSET(E135,$AI$2-1,0))-1","v":0.12217631467368917},{"$f":"GEOMEAN(F135:OFFSET(F135,$AI$2-1,0))-1","v":3.1042985330389516E-3},{"$f":"GEOMEAN(G135:OFFSET(G135,$AI$2-1,0))-1","v":1.8025822592349305E-2},{"$f":"GEOMEAN(H135:OFFSET(H135,$AI$2-1,0))-1","v":1.452049748859241E-2},{"$f":"GEOMEAN(I135:OFFSET(I135,$AI$2-1,0))-1","v":0.10511680147993663},{"$f":"GEOMEAN(J135:OFFSET(J135,$AI$2-1,0))-1","v":6.5948680658604486E-2},{"$f":"GEOMEAN(K135:OFFSET(K135,$AI$2-1,0))-1","v":4.3796548577195615E-2},{"$f":"GEOMEAN(L135:OFFSET(L135,$AI$2-1,0))-1","v":3.989440620031659E-2},{"$f":"GEOMEAN(M135:OFFSET(M135,$AI$2-1,0))-1","v":3.7716160156204381E-2},{"$f":"GEOMEAN(N135:OFFSET(N135,$AI$2-1,0))-1","v":4.2579870315226254E-2},{"$f":"GEOMEAN(O135:OFFSET(O135,$AI$2-1,0))-1","v":3.8605091715240958E-2},{"$f":"GEOMEAN(P135:OFFSET(P135,$AI$2-1,0))-1","v":1.9793881119246848E-2},{"$f":"GEOMEAN(Q135:OFFSET(Q135,$AI$2-1,0))-1","v":-7.4043131903775428E-2},null,51,{"$f":"IF(TRUNC($AY64/$AI$2)-$AY64/$AI$2 = 0,AI64,\"\")","v":3.8606354067507231E-2},{"$f":"IF(TRUNC($AY64/$AI$2)-$AY64/$AI$2 = 0,AJ64,\"\")","v":3.262979185238768E-2},{"$f":"IF(TRUNC($AY64/$AI$2)-$AY64/$AI$2 = 0,AK64,\"\")","v":0.12217631467368917},{"$f":"IF(TRUNC($AY64/$AI$2)-$AY64/$AI$2 = 0,AL64,\"\")","v":3.1042985330389516E-3},{"$f":"IF(TRUNC($AY64/$AI$2)-$AY64/$AI$2 = 0,AM64,\"\")","v":1.8025822592349305E-2},{"$f":"IF(TRUNC($AY64/$AI$2)-$AY64/$AI$2 = 0,AN64,\"\")","v":1.452049748859241E-2},{"$f":"IF(TRUNC($AY64/$AI$2)-$AY64/$AI$2 = 0,AO64,\"\")","v":0.10511680147993663},{"$f":"IF(TRUNC($AY64/$AI$2)-$AY64/$AI$2 = 0,AP64,\"\")","v":6.5948680658604486E-2},{"$f":"IF(TRUNC($AY64/$AI$2)-$AY64/$AI$2 = 0,AQ64,\"\")","v":4.3796548577195615E-2},{"$f":"IF(TRUNC($AY64/$AI$2)-$AY64/$AI$2 = 0,AR64,\"\")","v":3.989440620031659E-2},{"$f":"IF(TRUNC($AY64/$AI$2)-$AY64/$AI$2 = 0,AS64,\"\")","v":3.7716160156204381E-2},{"$f":"IF(TRUNC($AY64/$AI$2)-$AY64/$AI$2 = 0,AT64,\"\")","v":4.2579870315226254E-2},{"$f":"IF(TRUNC($AY64/$AI$2)-$AY64/$AI$2 = 0,AU64,\"\")","v":3.8605091715240958E-2},{"$f":"IF(TRUNC($AY64/$AI$2)-$AY64/$AI$2 = 0,AV64,\"\")","v":1.9793881119246848E-2},{"$f":"IF(TRUNC($AY64/$AI$2)-$AY64/$AI$2 = 0,AW64,\"\")","v":-7.4043131903775428E-2}]
[]
[null,null,{"$f":"C13","v":"US Ag 32 States"},"AAA","Gold","PPI","CPI","TBSM3M","S&P500","Dow Jones","Equity REITS","Composite\nREITS","US Ave Farm (all)","BAA","Mort30F","TCM10Y","EAFE",null,{"$f":"S13","v":"US Ag 32 States"},"AAA","Gold","PPI","CPI","TBSM3M","S&P500","Dow Jones","Equity REITS","Composite\nREITS","US Ave Farm (all)","BAA","Mort30F","TCM10Y","EAFE",null,{"$f":"\"Rolling overlap \" &AI2&\" year holding periods\"","v":"Rolling overlap 3 year holding periods"},null,null,null,null,null,null,null,null,null,null,null,null,null,null,null,null,{"$f":"AZ12","v":"Nonoverlapping 3 year holding periods"}]
[null,{"$f":"TRANSPOSE(C66:Q66)","v":"US Ag 32 States"},{"$f":"CORREL($C$14:$C$64,C14:C64)","v":1},{"$f":"CORREL($C$14:$C$64,D14:D64)","v":0.15128565221813348},{"$f":"CORREL($C$14:$C$64,E14:E64)","v":0.2485935530675992},{"$f":"CORREL($C$14:$C$64,F14:F64)","v":0.60853732078065392},{"$f":"CORREL($C$14:$C$64,G14:G64)","v":0.66274411229776253},{"$f":"CORREL($C$14:$C$64,H14:H64)","v":0.32762754762543328},{"$f":"CORREL($C$14:$C$64,I14:I64)","v":-0.26845493305340495},{"$f":"CORREL($C$14:$C$64,J14:J64)","v":-0.34184697512551321},{"$f":"CORREL($C$14:$C$64,K14:K64)","v":-6.8228480889178822E-2},{"$f":"CORREL($C$14:$C$64,L14:L64)","v":-0.12114298162041039},{"$f":"CORREL($C$14:$C$64,M14:M64)","v":0.99340715278590586},{"$f":"CORREL($C$14:$C$64,N14:N64)","v":0.12144571537807335},{"$f":"CORREL($C$14:$C$64,O14:O64)","v":0.14279144748075762},{"$f":"CORREL($C$14:$C$64,P14:P64)","v":0.20319313779724291},{"$f":"CORREL($C$14:$C$64,Q14:Q64)","v":-0.2114944821625224},{"$f":"TRANSPOSE(S66:AG66)","v":"US Ag 32 States"},{"$f":"CORREL($S$14:$S$64,S14:S64)","v":1},{"$f":"CORREL($S$14:$S$64,T14:T64)","v":0.12992560523569696},{"$f":"CORREL($S$14:$S$64,U14:U64)","v":0.44173748201832502},{"$f":"CORREL($S$14:$S$64,V14:V64)","v":0.762570566007852},{"$f":"CORREL($S$14:$S$64,W14:W64)","v":0.71797249040196698},{"$f":"CORREL($S$14:$S$64,X14:X64)","v":0.2935757362330505},{"$f":"CORREL($S$14:$S$64,Y14:Y64)","v":-0.28288561390779632},{"$f":"CORREL($S$14:$S$64,Z14:Z64)","v":-0.42844012666363024},{"$f":"CORREL($S$14:$S$64,AA14:AA64)","v":1.1639798468124568E-2},{"$f":"CORREL($S$14:$S$64,AB14:AB64)","v":-5.1062830781832873E-2},{"$f":"CORREL($S$14:$S$64,AC14:AC64)","v":0.99541293227531058},{"$f":"CORREL($S$14:$S$64,AD14:AD64)","v":0.11079068480855148},{"$f":"CORREL($S$14:$S$64,AE14:AE64)","v":0.12722619959002429},{"$f":"CORREL($S$14:$S$64,AF14:AF64)","v":0.17989022390370815},{"$f":"CORREL($S$14:$S$64,AG14:AG64)","v":-0.17170392931508505},null,{"$f":"AI13","v":"US Ag 32 States"},"AAA","Gold","PPI","CPI","TBSM3M","S&P500","Dow Jones","Equity REITS","Composite\nREITS","US Ave Farm (all)","BAA","Mort30F","TCM10Y","EAFE",null,null,{"$f":"AZ13","v":"US Ag 32 States"},{"$f":"BA13","v":"AAA"},"Gold","PPI","CPI","TBSM3M","S&P500","Dow Jones","Equity REITS","Composite\nREITS","US Ave Farm (all)","BAA","Mort30F","TCM10Y","EAFE"]
[null,"AAA",null,{"$f":"CORREL($D$14:$D$64,D14:D64)","v":0.99999999999999989},{"$f":"CORREL($D$14:$D$64,E14:E64)","v":-0.15055808110344079},{"$f":"CORREL($D$14:$D$64,F14:F64)","v":0.2170962843766894},{"$f":"CORREL($D$14:$D$64,G14:G64)","v":0.55628603496514906},{"$f":"CORREL($D$14:$D$64,H14:H64)","v":0.91938969030313722},{"$f":"CORREL($D$14:$D$64,I14:I64)","v":-1.3886677662565674E-2},{"$f":"CORREL($D$14:$D$64,J14:J64)","v":2.8314342146494903E-3},{"$f":"CORREL($D$14:$D$64,K14:K64)","v":0.1381197943880409},{"$f":"CORREL($D$14:$D$64,L14:L64)","v":8.8435293631588627E-2},{"$f":"CORREL($D$14:$D$64,M14:M64)","v":0.16641312865208863},{"$f":"CORREL($D$14:$D$64,N14:N64)","v":0.99324814893413549},{"$f":"CORREL($D$14:$D$64,O14:O64)","v":0.92647298830490332},{"$f":"CORREL($D$14:$D$64,P14:P64)","v":0.99322026425827914},{"$f":"CORREL($D$14:$D$64,Q14:Q64)","v":0.11850695615108325},"AAA",null,{"$f":"CORREL($T$14:$T$64,T14:T64)","v":1.0000000000000002},{"$f":"CORREL($T$14:$T$64,U14:U64)","v":-0.10180591404656263},{"$f":"CORREL($T$14:$T$64,V14:V64)","v":0.26655777502244532},{"$f":"CORREL($T$14:$T$64,W14:W64)","v":0.61652706694764947},{"$f":"CORREL($T$14:$T$64,X14:X64)","v":0.94714212460280345},{"$f":"CORREL($T$14:$T$64,Y14:Y64)","v":7.3783676367341053E-2},{"$f":"CORREL($T$14:$T$64,Z14:Z64)","v":7.0782516494007255E-2},{"$f":"CORREL($T$14:$T$64,AA14:AA64)","v":0.25873351526499522},{"$f":"CORREL($T$14:$T$64,AB14:AB64)","v":0.16115865226724582},{"$f":"CORREL($T$14:$T$64,AC14:AC64)","v":0.15077816363624394},{"$f":"CORREL($T$14:$T$64,AD14:AD64)","v":0.99543176799636202},{"$f":"CORREL($T$14:$T$64,AE14:AE64)","v":0.98516062425985218},{"$f":"CORREL($T$14:$T$64,AF14:AF64)","v":0.99518995365171603},{"$f":"CORREL($T$14:$T$64,AG14:AG64)","v":0.33673865541566966},{"$f":"TRANSPOSE(AI67:AW67)","v":"US Ag 32 States"},{"$f":"CORREL($AI$14:$AI$64,AI14:AI64)","v":1.0000000000000002},{"$f":"CORREL($AI$14:$AI$64,AJ14:AJ64)","v":0.12555640398248125},{"$f":"CORREL($AI$14:$AI$64,AK14:AK64)","v":0.37970759867877152},{"$f":"CORREL($AI$14:$AI$64,AL14:AL64)","v":0.75808592883150649},{"$f":"CORREL($AI$14:$AI$64,AM14:AM64)","v":0.71488162539912747},{"$f":"CORREL($AI$14:$AI$64,AN14:AN64)","v":0.28941781142482964},{"$f":"CORREL($AI$14:$AI$64,AO14:AO64)","v":-0.28207182265651587},{"$f":"CORREL($AI$14:$AI$64,AP14:AP64)","v":-0.42953422889393933},{"$f":"CORREL($AI$14:$AI$64,AQ14:AQ64)","v":3.070708688385292E-3},{"$f":"CORREL($AI$14:$AI$64,AR14:AR64)","v":-0.10803880582250232},{"$f":"CORREL($AI$14:$AI$64,AS14:AS64)","v":0.99544340218716199},{"$f":"CORREL($AI$14:$AI$64,AT14:AT64)","v":0.10588402956712571},{"$f":"CORREL($AI$14:$AI$64,AU14:AU64)","v":0.12247546503760479},{"$f":"CORREL($AI$14:$AI$64,AV14:AV64)","v":0.17586132401619015},{"$f":"CORREL($AI$14:$AI$64,AW14:AW64)","v":-0.15406197839625871},null,null,{"$f":"CORREL($AZ$14:$AZ$64,AZ14:AZ64)","v":1},{"$f":"CORREL($AZ$14:$AZ$64,BA14:BA64)","v":0.19324146040936643},{"$f":"CORREL($AZ$14:$AZ$64,BB14:BB64)","v":0.17899844097677908},{"$f":"CORREL($AZ$14:$AZ$64,BC14:BC64)","v":0.74155671180562732},{"$f":"CORREL($AZ$14:$AZ$64,BD14:BD64)","v":0.71196244626844907},{"$f":"CORREL($AZ$14:$AZ$64,BE14:BE64)","v":0.3569535921724406},{"$f":"CORREL($AZ$14:$AZ$64,BF14:BF64)","v":-0.40210074931300704},{"$f":"CORREL($AZ$14:$AZ$64,BG14:BG64)","v":-0.55439421386527266},{"$f":"CORREL($AZ$14:$AZ$64,BH14:BH64)","v":-0.10358907309841515},{"$f":"CORREL($AZ$14:$AZ$64,BI14:BI64)","v":-0.18973181719194282},{"$f":"CORREL($AZ$14:$AZ$64,BJ14:BJ64)","v":0.99645649647435008},{"$f":"CORREL($AZ$14:$AZ$64,BK14:BK64)","v":0.17328217536976165},{"$f":"CORREL($AZ$14:$AZ$64,BL14:BL64)","v":0.1738328631602421},{"$f":"CORREL($AZ$14:$AZ$64,BM14:BM64)","v":0.24036658172280972},{"$f":"CORREL($AZ$14:$AZ$64,BN14:BN64)","v":-0.31851948619415954}]
[null,"Gold",null,null,{"$f":"CORREL($E$14:$E$64,E14:E64)","v":0.99999999999999989},{"$f":"CORREL($E$14:$E$64,F14:F64)","v":0.55934609014870407},{"$f":"CORREL($E$14:$E$64,G14:G64)","v":0.38784209035410355},{"$f":"CORREL($E$14:$E$64,H14:H64)","v":-1.233528196553974E-2},{"$f":"CORREL($E$14:$E$64,I14:I64)","v":-0.21107373993483936},{"$f":"CORREL($E$14:$E$64,J14:J64)","v":-0.25485949010654441},{"$f":"CORREL($E$14:$E$64,K14:K64)","v":-9.3272431154704238E-2},{"$f":"CORREL($E$14:$E$64,L14:L64)","v":-0.20217716892801299},{"$f":"CORREL($E$14:$E$64,M14:M64)","v":0.27379830126394378},{"$f":"CORREL($E$14:$E$64,N14:N64)","v":-0.15387459234787312},{"$f":"CORREL($E$14:$E$64,O14:O64)","v":-0.10978401575021475},{"$f":"CORREL($E$14:$E$64,P14:P64)","v":-0.12046146392814813},{"$f":"CORREL($E$14:$E$64,Q14:Q64)","v":-9.846582079691267E-3},"Gold",null,null,{"$f":"CORREL($U$14:$U$64,U14:U64)","v":1},{"$f":"CORREL($U$14:$U$64,V14:V64)","v":0.7249007738716956},{"$f":"CORREL($U$14:$U$64,W14:W64)","v":0.48110046621159236},{"$f":"CORREL($U$14:$U$64,X14:X64)","v":2.5161585880826905E-2},{"$f":"CORREL($U$14:$U$64,Y14:Y64)","v":-0.52378278010200352},{"$f":"CORREL($U$14:$U$64,Z14:Z64)","v":-0.64606656602733981},{"$f":"CORREL($U$14:$U$64,AA14:AA64)","v":-0.22972027220816393},{"$f":"CORREL($U$14:$U$64,AB14:AB64)","v":-0.3287086931592989},{"$f":"CORREL($U$14:$U$64,AC14:AC64)","v":0.46059308658974446},{"$f":"CORREL($U$14:$U$64,AD14:AD64)","v":-9.4429909078583604E-2},{"$f":"CORREL($U$14:$U$64,AE14:AE64)","v":-9.7775239845482059E-2},{"$f":"CORREL($U$14:$U$64,AF14:AF64)","v":-6.4692694374053616E-2},{"$f":"CORREL($U$14:$U$64,AG14:AG64)","v":-4.5991079449100875E-3},"AAA",null,{"$f":"CORREL($AJ$14:$AJ$64,AJ14:AJ64)","v":1},{"$f":"CORREL($AJ$14:$AJ$64,AK14:AK64)","v":-0.16469745248335707},{"$f":"CORREL($AJ$14:$AJ$64,AL14:AL64)","v":0.26835898000401115},{"$f":"CORREL($AJ$14:$AJ$64,AM14:AM64)","v":0.61630773270209105},{"$f":"CORREL($AJ$14:$AJ$64,AN14:AN64)","v":0.94712849328036219},{"$f":"CORREL($AJ$14:$AJ$64,AO14:AO64)","v":8.2414445415091075E-2},{"$f":"CORREL($AJ$14:$AJ$64,AP14:AP64)","v":6.9891314192789669E-2},{"$f":"CORREL($AJ$14:$AJ$64,AQ14:AQ64)","v":0.26192877364512557},{"$f":"CORREL($AJ$14:$AJ$64,AR14:AR64)","v":0.15123753270388618},{"$f":"CORREL($AJ$14:$AJ$64,AS14:AS64)","v":0.14666144833254316},{"$f":"CORREL($AJ$14:$AJ$64,AT14:AT64)","v":0.99543865270547982},{"$f":"CORREL($AJ$14:$AJ$64,AU14:AU64)","v":0.98477290789788641},{"$f":"CORREL($AJ$14:$AJ$64,AV14:AV64)","v":0.99518033739470335},{"$f":"CORREL($AJ$14:$AJ$64,AW14:AW64)","v":0.33865552469072796},null,null,null,{"$f":"CORREL($BA$14:$BA$64,BA14:BA64)","v":1.0000000000000002},{"$f":"CORREL($BA$14:$BA$64,BB14:BB64)","v":-0.1602586457316667},{"$f":"CORREL($BA$14:$BA$64,BC14:BC64)","v":0.34180046151366611},{"$f":"CORREL($BA$14:$BA$64,BD14:BD64)","v":0.63031640145179602},{"$f":"CORREL($BA$14:$BA$64,BE14:BE64)","v":0.94371207931553203},{"$f":"CORREL($BA$14:$BA$64,BF14:BF64)","v":-1.7133807951622042E-2},{"$f":"CORREL($BA$14:$BA$64,BG14:BG64)","v":-1.0350109240995805E-2},{"$f":"CORREL($BA$14:$BA$64,BH14:BH64)","v":0.2220751138391602},{"$f":"CORREL($BA$14:$BA$64,BI14:BI64)","v":0.12246432487715431},{"$f":"CORREL($BA$14:$BA$64,BJ14:BJ64)","v":0.21558411598322155},{"$f":"CORREL($BA$14:$BA$64,BK14:BK64)","v":0.99658192600561579},{"$f":"CORREL($BA$14:$BA$64,BL14:BL64)","v":0.96549234289395014},{"$f":"CORREL($BA$14:$BA$64,BM14:BM64)","v":0.99570412410799225},{"$f":"CORREL($BA$14:$BA$64,BN14:BN64)","v":0.23674867920052076}]
[null,"PPI",null,null,null,{"$f":"CORREL($F$14:$F$64,F14:F64)","v":1},{"$f":"CORREL($F$14:$F$64,G14:G64)","v":0.78542059296799038},{"$f":"CORREL($F$14:$F$64,H14:H64)","v":0.36174666510311609},{"$f":"CORREL($F$14:$F$64,I14:I64)","v":-0.19238341897573047},{"$f":"CORREL($F$14:$F$64,J14:J64)","v":-0.23855627954560504},{"$f":"CORREL($F$14:$F$64,K14:K64)","v":-4.7233974593452598E-2},{"$f":"CORREL($F$14:$F$64,L14:L64)","v":-0.18226792645832512},{"$f":"CORREL($F$14:$F$64,M14:M64)","v":0.62043685583245445},{"$f":"CORREL($F$14:$F$64,N14:N64)","v":0.19652804872936544},{"$f":"CORREL($F$14:$F$64,O14:O64)","v":0.22972270679568269},{"$f":"CORREL($F$14:$F$64,P14:P64)","v":0.26108703084366452},{"$f":"CORREL($F$14:$F$64,Q14:Q64)","v":-1.1386618210149024E-2},"PPI",null,null,null,{"$f":"CORREL($V$14:$V$64,V14:V64)","v":1},{"$f":"CORREL($V$14:$V$64,W14:W64)","v":0.83016148377335963},{"$f":"CORREL($V$14:$V$64,X14:X64)","v":0.40754708764863296},{"$f":"CORREL($V$14:$V$64,Y14:Y64)","v":-0.35222109413020025},{"$f":"CORREL($V$14:$V$64,Z14:Z64)","v":-0.48347776800503905},{"$f":"CORREL($V$14:$V$64,AA14:AA64)","v":-4.2515499281690107E-2},{"$f":"CORREL($V$14:$V$64,AB14:AB64)","v":-0.1714902736909428},{"$f":"CORREL($V$14:$V$64,AC14:AC64)","v":0.77358321042427136},{"$f":"CORREL($V$14:$V$64,AD14:AD64)","v":0.26745763407523782},{"$f":"CORREL($V$14:$V$64,AE14:AE64)","v":0.27359202403855098},{"$f":"CORREL($V$14:$V$64,AF14:AF64)","v":0.31020858454239686},{"$f":"CORREL($V$14:$V$64,AG14:AG64)","v":-2.1484664276873607E-3},"Gold",null,null,{"$f":"CORREL($AK$14:$AK$64,AK14:AK64)","v":1},{"$f":"CORREL($AK$14:$AK$64,AL14:AL64)","v":0.66299653161298822},{"$f":"CORREL($AK$14:$AK$64,AM14:AM64)","v":0.38563321506132603},{"$f":"CORREL($AK$14:$AK$64,AN14:AN64)","v":-4.9280620797451866E-2},{"$f":"CORREL($AK$14:$AK$64,AO14:AO64)","v":-0.51520430951459306},{"$f":"CORREL($AK$14:$AK$64,AP14:AP64)","v":-0.61449965698234832},{"$f":"CORREL($AK$14:$AK$64,AQ14:AQ64)","v":-0.2516116101779387},{"$f":"CORREL($AK$14:$AK$64,AR14:AR64)","v":-0.35238848846560034},{"$f":"CORREL($AK$14:$AK$64,AS14:AS64)","v":0.40001893367266234},{"$f":"CORREL($AK$14:$AK$64,AT14:AT64)","v":-0.16001776977986154},{"$f":"CORREL($AK$14:$AK$64,AU14:AU64)","v":-0.16441721715523361},{"$f":"CORREL($AK$14:$AK$64,AV14:AV64)","v":-0.12917876010167648},{"$f":"CORREL($AK$14:$AK$64,AW14:AW64)","v":-5.1784690180959346E-2},null,null,null,null,{"$f":"CORREL($BB$14:$BB$64,BB14:BB64)","v":1},{"$f":"CORREL($BB$14:$BB$64,BC14:BC64)","v":0.48352100325499719},{"$f":"CORREL($BB$14:$BB$64,BD14:BD64)","v":0.27143681636497674},{"$f":"CORREL($BB$14:$BB$64,BE14:BE64)","v":-9.2646917473345872E-2},{"$f":"CORREL($BB$14:$BB$64,BF14:BF64)","v":-0.46893154287927824},{"$f":"CORREL($BB$14:$BB$64,BG14:BG64)","v":-0.50070053118101698},{"$f":"CORREL($BB$14:$BB$64,BH14:BH64)","v":-0.19768074735910166},{"$f":"CORREL($BB$14:$BB$64,BI14:BI64)","v":-0.25368542342546962},{"$f":"CORREL($BB$14:$BB$64,BJ14:BJ64)","v":0.20147976823425551},{"$f":"CORREL($BB$14:$BB$64,BK14:BK64)","v":-0.12997606187836727},{"$f":"CORREL($BB$14:$BB$64,BL14:BL64)","v":-0.21093092495563517},{"$f":"CORREL($BB$14:$BB$64,BM14:BM64)","v":-0.13798438572250615},{"$f":"CORREL($BB$14:$BB$64,BN14:BN64)","v":-5.4613017820236615E-2}]
[null,"CPI",null,null,null,null,{"$f":"CORREL($G$14:$G$64,G14:G64)","v":1},{"$f":"CORREL($G$14:$G$64,H14:H64)","v":0.7140108781771769},{"$f":"CORREL($G$14:$G$64,I14:I64)","v":-0.16911294656513948},{"$f":"CORREL($G$14:$G$64,J14:J64)","v":-0.23856698454025099},{"$f":"CORREL($G$14:$G$64,K14:K64)","v":-1.0587048423527087E-2},{"$f":"CORREL($G$14:$G$64,L14:L64)","v":-0.13054923461429924},{"$f":"CORREL($G$14:$G$64,M14:M64)","v":0.6704039260575303},{"$f":"CORREL($G$14:$G$64,N14:N64)","v":0.54109665929772044},{"$f":"CORREL($G$14:$G$64,O14:O64)","v":0.51710657342071054},{"$f":"CORREL($G$14:$G$64,P14:P64)","v":0.60249632714705914},{"$f":"CORREL($G$14:$G$64,Q14:Q64)","v":-4.2927437018445716E-2},"CPI",null,null,null,null,{"$f":"CORREL($W$14:$W$64,W14:W64)","v":1},{"$f":"CORREL($W$14:$W$64,X14:X64)","v":0.74525146505808826},{"$f":"CORREL($W$14:$W$64,Y14:Y64)","v":-0.181133603275342},{"$f":"CORREL($W$14:$W$64,Z14:Z64)","v":-0.3339615610466577},{"$f":"CORREL($W$14:$W$64,AA14:AA64)","v":0.10253196362252334},{"$f":"CORREL($W$14:$W$64,AB14:AB64)","v":-3.021798135140016E-2},{"$f":"CORREL($W$14:$W$64,AC14:AC64)","v":0.72603079623466238},{"$f":"CORREL($W$14:$W$64,AD14:AD64)","v":0.61414381133730145},{"$f":"CORREL($W$14:$W$64,AE14:AE64)","v":0.62841061461263048},{"$f":"CORREL($W$14:$W$64,AF14:AF64)","v":0.65898860317638175},{"$f":"CORREL($W$14:$W$64,AG14:AG64)","v":8.4294810840819578E-2},"PPI",null,null,null,{"$f":"CORREL($AL$14:$AL$64,AL14:AL64)","v":0.99999999999999989},{"$f":"CORREL($AL$14:$AL$64,AM14:AM64)","v":0.82994694567351657},{"$f":"CORREL($AL$14:$AL$64,AN14:AN64)","v":0.40871643795295509},{"$f":"CORREL($AL$14:$AL$64,AO14:AO64)","v":-0.34246671875633489},{"$f":"CORREL($AL$14:$AL$64,AP14:AP64)","v":-0.47551450162046011},{"$f":"CORREL($AL$14:$AL$64,AQ14:AQ64)","v":-3.183159977713413E-2},{"$f":"CORREL($AL$14:$AL$64,AR14:AR64)","v":-0.20811359018294209},{"$f":"CORREL($AL$14:$AL$64,AS14:AS64)","v":0.76944450481381865},{"$f":"CORREL($AL$14:$AL$64,AT14:AT64)","v":0.26883310134146882},{"$f":"CORREL($AL$14:$AL$64,AU14:AU64)","v":0.27515559759517438},{"$f":"CORREL($AL$14:$AL$64,AV14:AV64)","v":0.31265859119151934},{"$f":"CORREL($AL$14:$AL$64,AW14:AW64)","v":4.675237573248489E-4},null,null,null,null,null,{"$f":"CORREL($BC$14:$BC$64,BC14:BC64)","v":1},{"$f":"CORREL($BC$14:$BC$64,BD14:BD64)","v":0.85353048996989311},{"$f":"CORREL($BC$14:$BC$64,BE14:BE64)","v":0.45041335217205219},{"$f":"CORREL($BC$14:$BC$64,BF14:BF64)","v":-0.32156849692051037},{"$f":"CORREL($BC$14:$BC$64,BG14:BG64)","v":-0.44228508578128167},{"$f":"CORREL($BC$14:$BC$64,BH14:BH64)","v":2.7270274481713291E-2},{"$f":"CORREL($BC$14:$BC$64,BI14:BI64)","v":-0.13678879797879256},{"$f":"CORREL($BC$14:$BC$64,BJ14:BJ64)","v":0.74956953152735784},{"$f":"CORREL($BC$14:$BC$64,BK14:BK64)","v":0.3510485522831242},{"$f":"CORREL($BC$14:$BC$64,BL14:BL64)","v":0.32406250327907171},{"$f":"CORREL($BC$14:$BC$64,BM14:BM64)","v":0.37566029418829194},{"$f":"CORREL($BC$14:$BC$64,BN14:BN64)","v":-8.9246712210793E-2}]
[null,"TBSM3M",null,null,null,null,null,{"$f":"CORREL($H$14:$H$64,H14:H64)","v":1},{"$f":"CORREL($H$14:$H$64,I14:I64)","v":-2.596968589538921E-2},{"$f":"CORREL($H$14:$H$64,J14:J64)","v":-3.9468066629796406E-2},{"$f":"CORREL($H$14:$H$64,K14:K64)","v":4.2066571256025281E-2},{"$f":"CORREL($H$14:$H$64,L14:L64)","v":-2.4207412329647533E-2},{"$f":"CORREL($H$14:$H$64,M14:M64)","v":0.34387770695700515},{"$f":"CORREL($H$14:$H$64,N14:N64)","v":0.8995727663278732},{"$f":"CORREL($H$14:$H$64,O14:O64)","v":0.86403835676000884},{"$f":"CORREL($H$14:$H$64,P14:P64)","v":0.94435891246735792},{"$f":"CORREL($H$14:$H$64,Q14:Q64)","v":5.5389070929748999E-2},"TBSM3M",null,null,null,null,null,{"$f":"CORREL($X$14:$X$64,X14:X64)","v":1},{"$f":"CORREL($X$14:$X$64,Y14:Y64)","v":6.8269179801381849E-2},{"$f":"CORREL($X$14:$X$64,Z14:Z64)","v":2.2220508928458057E-2},{"$f":"CORREL($X$14:$X$64,AA14:AA64)","v":0.14706961979624814},{"$f":"CORREL($X$14:$X$64,AB14:AB64)","v":4.8933514659988339E-2},{"$f":"CORREL($X$14:$X$64,AC14:AC64)","v":0.31653340665271634},{"$f":"CORREL($X$14:$X$64,AD14:AD64)","v":0.93498865681575383},{"$f":"CORREL($X$14:$X$64,AE14:AE64)","v":0.95115520167889966},{"$f":"CORREL($X$14:$X$64,AF14:AF64)","v":0.96549897503379778},{"$f":"CORREL($X$14:$X$64,AG14:AG64)","v":0.27390242066360887},"CPI",null,null,null,null,{"$f":"CORREL($AM$14:$AM$64,AM14:AM64)","v":0.99999999999999978},{"$f":"CORREL($AM$14:$AM$64,AN14:AN64)","v":0.74499896392276599},{"$f":"CORREL($AM$14:$AM$64,AO14:AO64)","v":-0.17499074932434591},{"$f":"CORREL($AM$14:$AM$64,AP14:AP64)","v":-0.32985815299685967},{"$f":"CORREL($AM$14:$AM$64,AQ14:AQ64)","v":0.10834411375997506},{"$f":"CORREL($AM$14:$AM$64,AR14:AR64)","v":-6.7431129157467656E-2},{"$f":"CORREL($AM$14:$AM$64,AS14:AS64)","v":0.72325142664837128},{"$f":"CORREL($AM$14:$AM$64,AT14:AT64)","v":0.61368640368131167},{"$f":"CORREL($AM$14:$AM$64,AU14:AU64)","v":0.62786757916190761},{"$f":"CORREL($AM$14:$AM$64,AV14:AV64)","v":0.65901061556807561},{"$f":"CORREL($AM$14:$AM$64,AW14:AW64)","v":9.718429324710183E-2},null,null,null,null,null,null,{"$f":"CORREL($BD$14:$BD$64,BD14:BD64)","v":1},{"$f":"CORREL($BD$14:$BD$64,BE14:BE64)","v":0.76217683629669275},{"$f":"CORREL($BD$14:$BD$64,BF14:BF64)","v":-0.26754599090525355},{"$f":"CORREL($BD$14:$BD$64,BG14:BG64)","v":-0.3950825123822051},{"$f":"CORREL($BD$14:$BD$64,BH14:BH64)","v":3.4085580808324634E-2},{"$f":"CORREL($BD$14:$BD$64,BI14:BI64)","v":-0.11678894958986416},{"$f":"CORREL($BD$14:$BD$64,BJ14:BJ64)","v":0.72233799202595483},{"$f":"CORREL($BD$14:$BD$64,BK14:BK64)","v":0.63483935765378918},{"$f":"CORREL($BD$14:$BD$64,BL14:BL64)","v":0.62802814694873554},{"$f":"CORREL($BD$14:$BD$64,BM14:BM64)","v":0.66693643247161793},{"$f":"CORREL($BD$14:$BD$64,BN14:BN64)","v":-3.625929388229833E-2}]
[null,"S&P500",null,null,null,null,null,null,{"$f":"CORREL($I$14:$I$64,I14:I64)","v":1},{"$f":"CORREL($I$14:$I$64,J14:J64)","v":0.96008181993476083},{"$f":"CORREL($I$14:$I$64,K14:K64)","v":0.58287828585570667},{"$f":"CORREL($I$14:$I$64,L14:L64)","v":0.61135725026439391},{"$f":"CORREL($I$14:$I$64,M14:M64)","v":-0.2632940510114446},{"$f":"CORREL($I$14:$I$64,N14:N64)","v":-2.0330804973683864E-2},{"$f":"CORREL($I$14:$I$64,O14:O64)","v":7.0324704297751763E-3},{"$f":"CORREL($I$14:$I$64,P14:P64)","v":2.3279077215561509E-3},{"$f":"CORREL($I$14:$I$64,Q14:Q64)","v":0.68918665999017525},"S&P500",null,null,null,null,null,null,{"$f":"CORREL($Y$14:$Y$64,Y14:Y64)","v":1.0000000000000002},{"$f":"CORREL($Y$14:$Y$64,Z14:Z64)","v":0.94672765430933159},{"$f":"CORREL($Y$14:$Y$64,AA14:AA64)","v":0.40753563300525114},{"$f":"CORREL($Y$14:$Y$64,AB14:AB64)","v":0.41868003565691947},{"$f":"CORREL($Y$14:$Y$64,AC14:AC64)","v":-0.28506302024609925},{"$f":"CORREL($Y$14:$Y$64,AD14:AD64)","v":4.5543395845068155E-2},{"$f":"CORREL($Y$14:$Y$64,AE14:AE64)","v":7.8371160053663708E-2},{"$f":"CORREL($Y$14:$Y$64,AF14:AF64)","v":9.3889977010526329E-2},{"$f":"CORREL($Y$14:$Y$64,AG14:AG64)","v":0.52842047439441686},"TBSM3M",null,null,null,null,null,{"$f":"CORREL($AN$14:$AN$64,AN14:AN64)","v":1},{"$f":"CORREL($AN$14:$AN$64,AO14:AO64)","v":7.7892724432470639E-2},{"$f":"CORREL($AN$14:$AN$64,AP14:AP64)","v":2.4744708734758602E-2},{"$f":"CORREL($AN$14:$AN$64,AQ14:AQ64)","v":0.15632058022314338},{"$f":"CORREL($AN$14:$AN$64,AR14:AR64)","v":4.1669761371699025E-2},{"$f":"CORREL($AN$14:$AN$64,AS14:AS64)","v":0.31259931271802327},{"$f":"CORREL($AN$14:$AN$64,AT14:AT64)","v":0.93493053501718848},{"$f":"CORREL($AN$14:$AN$64,AU14:AU64)","v":0.95074072768119966},{"$f":"CORREL($AN$14:$AN$64,AV14:AV64)","v":0.96553310419385807},{"$f":"CORREL($AN$14:$AN$64,AW14:AW64)","v":0.2846390970913405},null,null,null,null,null,null,null,{"$f":"CORREL($BE$14:$BE$64,BE14:BE64)","v":1},{"$f":"CORREL($BE$14:$BE$64,BF14:BF64)","v":-8.9111960120147854E-2},{"$f":"CORREL($BE$14:$BE$64,BG14:BG64)","v":-0.12370948270682737},{"$f":"CORREL($BE$14:$BE$64,BH14:BH64)","v":2.9719878779039522E-2},{"$f":"CORREL($BE$14:$BE$64,BI14:BI64)","v":-5.6094034966865665E-2},{"$f":"CORREL($BE$14:$BE$64,BJ14:BJ64)","v":0.38127063781227521},{"$f":"CORREL($BE$14:$BE$64,BK14:BK64)","v":0.93862136144797281},{"$f":"CORREL($BE$14:$BE$64,BL14:BL64)","v":0.93026659206669537},{"$f":"CORREL($BE$14:$BE$64,BM14:BM64)","v":0.96131147525787741},{"$f":"CORREL($BE$14:$BE$64,BN14:BN64)","v":0.10464218901235348}]
[null,"Dow Jones",null,null,null,null,null,null,null,{"$f":"CORREL($J$14:$J$64,J14:J64)","v":1.0000000000000002},{"$f":"CORREL($J$14:$J$64,K14:K64)","v":0.55607425899148011},{"$f":"CORREL($J$14:$J$64,L14:L64)","v":0.60384143331863327},{"$f":"CORREL($J$14:$J$64,M14:M64)","v":-0.33604269637412199},{"$f":"CORREL($J$14:$J$64,N14:N64)","v":-2.1505760617518571E-3},{"$f":"CORREL($J$14:$J$64,O14:O64)","v":9.2600963795736065E-4},{"$f":"CORREL($J$14:$J$64,P14:P64)","v":6.161493019558247E-3},{"$f":"CORREL($J$14:$J$64,Q14:Q64)","v":0.66743316041703016},"Dow Jones",null,null,null,null,null,null,null,{"$f":"CORREL($Z$14:$Z$64,Z14:Z64)","v":1.0000000000000002},{"$f":"CORREL($Z$14:$Z$64,AA14:AA64)","v":0.34569575542348524},{"$f":"CORREL($Z$14:$Z$64,AB14:AB64)","v":0.37858327780513013},{"$f":"CORREL($Z$14:$Z$64,AC14:AC64)","v":-0.42512473575069265},{"$f":"CORREL($Z$14:$Z$64,AD14:AD64)","v":4.1530154713239474E-2},{"$f":"CORREL($Z$14:$Z$64,AE14:AE64)","v":6.2927656401813581E-2},{"$f":"CORREL($Z$14:$Z$64,AF14:AF64)","v":7.4384972029977084E-2},{"$f":"CORREL($Z$14:$Z$64,AG14:AG64)","v":0.49335560515021565},"S&P500",null,null,null,null,null,null,{"$f":"CORREL($AO$14:$AO$64,AO14:AO64)","v":1.0000000000000002},{"$f":"CORREL($AO$14:$AO$64,AP14:AP64)","v":0.95525031722172216},{"$f":"CORREL($AO$14:$AO$64,AQ14:AQ64)","v":0.47641611566675418},{"$f":"CORREL($AO$14:$AO$64,AR14:AR64)","v":0.49581138843600098},{"$f":"CORREL($AO$14:$AO$64,AS14:AS64)","v":-0.28127044238079796},{"$f":"CORREL($AO$14:$AO$64,AT14:AT64)","v":5.0070164964938518E-2},{"$f":"CORREL($AO$14:$AO$64,AU14:AU64)","v":8.5485850525322912E-2},{"$f":"CORREL($AO$14:$AO$64,AV14:AV64)","v":0.10257576532914799},{"$f":"CORREL($AO$14:$AO$64,AW14:AW64)","v":0.60892317964697784},null,null,null,null,null,null,null,null,{"$f":"CORREL($BF$14:$BF$64,BF14:BF64)","v":1},{"$f":"CORREL($BF$14:$BF$64,BG14:BG64)","v":0.9573679521706967},{"$f":"CORREL($BF$14:$BF$64,BH14:BH64)","v":0.39610043513172233},{"$f":"CORREL($BF$14:$BF$64,BI14:BI64)","v":0.4329785673295759},{"$f":"CORREL($BF$14:$BF$64,BJ14:BJ64)","v":-0.40714475742536071},{"$f":"CORREL($BF$14:$BF$64,BK14:BK64)","v":-3.5094983348143961E-2},{"$f":"CORREL($BF$14:$BF$64,BL14:BL64)","v":-2.4416072475187192E-2},{"$f":"CORREL($BF$14:$BF$64,BM14:BM64)","v":-1.003321156376938E-2},{"$f":"CORREL($BF$14:$BF$64,BN14:BN64)","v":0.70849621273601548}]
[null,"Equity REITS",null,null,null,null,null,null,null,null,{"$f":"CORREL($K$14:$K$64,K14:K64)","v":0.99999999999999989},{"$f":"CORREL($K$14:$K$64,L14:L64)","v":0.95725556366239384},{"$f":"CORREL($K$14:$K$64,M14:M64)","v":-5.6784704926058874E-2},{"$f":"CORREL($K$14:$K$64,N14:N64)","v":0.1332893565651328},{"$f":"CORREL($K$14:$K$64,O14:O64)","v":0.1495357401334497},{"$f":"CORREL($K$14:$K$64,P14:P64)","v":0.14030555284198931},{"$f":"CORREL($K$14:$K$64,Q14:Q64)","v":0.42937380627115534},"Equity REITS",null,null,null,null,null,null,null,null,{"$f":"CORREL($AA$14:$AA$64,AA14:AA64)","v":1.0000000000000002},{"$f":"CORREL($AA$14:$AA$64,AB14:AB64)","v":0.95941287268424735},{"$f":"CORREL($AA$14:$AA$64,AC14:AC64)","v":1.956289138300648E-2},{"$f":"CORREL($AA$14:$AA$64,AD14:AD64)","v":0.25153183633900894},{"$f":"CORREL($AA$14:$AA$64,AE14:AE64)","v":0.27058495908849384},{"$f":"CORREL($AA$14:$AA$64,AF14:AF64)","v":0.25667461094990085},{"$f":"CORREL($AA$14:$AA$64,AG14:AG64)","v":0.37820202009828174},"Dow Jones",null,null,null,null,null,null,null,{"$f":"CORREL($AP$14:$AP$64,AP14:AP64)","v":1.0000000000000002},{"$f":"CORREL($AP$14:$AP$64,AQ14:AQ64)","v":0.41412271580891419},{"$f":"CORREL($AP$14:$AP$64,AR14:AR64)","v":0.45823660349908907},{"$f":"CORREL($AP$14:$AP$64,AS14:AS64)","v":-0.42416595449117589},{"$f":"CORREL($AP$14:$AP$64,AT14:AT64)","v":3.7129269947607117E-2},{"$f":"CORREL($AP$14:$AP$64,AU14:AU64)","v":6.1707997830294285E-2},{"$f":"CORREL($AP$14:$AP$64,AV14:AV64)","v":7.3820121175082951E-2},{"$f":"CORREL($AP$14:$AP$64,AW14:AW64)","v":0.56322195245151518},null,null,null,null,null,null,null,null,null,{"$f":"CORREL($BG$14:$BG$64,BG14:BG64)","v":1.0000000000000002},{"$f":"CORREL($BG$14:$BG$64,BH14:BH64)","v":0.32537945744727576},{"$f":"CORREL($BG$14:$BG$64,BI14:BI64)","v":0.37382336194798577},{"$f":"CORREL($BG$14:$BG$64,BJ14:BJ64)","v":-0.5547032547629912},{"$f":"CORREL($BG$14:$BG$64,BK14:BK64)","v":-3.1547297574272881E-2},{"$f":"CORREL($BG$14:$BG$64,BL14:BL64)","v":-3.3112454239802504E-2},{"$f":"CORREL($BG$14:$BG$64,BM14:BM64)","v":-1.7715298354654442E-2},{"$f":"CORREL($BG$14:$BG$64,BN14:BN64)","v":0.68779483260555119}]
[null,"Composite\nREITS",null,null,null,null,null,null,null,null,null,{"$f":"CORREL($L$14:$L$64,L14:L64)","v":1},{"$f":"CORREL($L$14:$L$64,M14:M64)","v":-0.11629852392373694},{"$f":"CORREL($L$14:$L$64,N14:N64)","v":9.8060993856107351E-2},{"$f":"CORREL($L$14:$L$64,O14:O64)","v":9.4944451242707506E-2},{"$f":"CORREL($L$14:$L$64,P14:P64)","v":8.2898954152798812E-2},{"$f":"CORREL($L$14:$L$64,Q14:Q64)","v":0.40757746169365283},"Composite\nREITS",null,null,null,null,null,null,null,null,null,{"$f":"CORREL($AB$14:$AB$64,AB14:AB64)","v":1},{"$f":"CORREL($AB$14:$AB$64,AC14:AC64)","v":-4.9962998439704351E-2},{"$f":"CORREL($AB$14:$AB$64,AD14:AD64)","v":0.16249974572661968},{"$f":"CORREL($AB$14:$AB$64,AE14:AE64)","v":0.17197695839182575},{"$f":"CORREL($AB$14:$AB$64,AF14:AF64)","v":0.1511982465996124},{"$f":"CORREL($AB$14:$AB$64,AG14:AG64)","v":0.26443062652442312},"Equity REITS",null,null,null,null,null,null,null,null,{"$f":"CORREL($AQ$14:$AQ$64,AQ14:AQ64)","v":0.99999999999999989},{"$f":"CORREL($AQ$14:$AQ$64,AR14:AR64)","v":0.94589801754300618},{"$f":"CORREL($AQ$14:$AQ$64,AS14:AS64)","v":1.3021024632576124E-2},{"$f":"CORREL($AQ$14:$AQ$64,AT14:AT64)","v":0.25029908056510164},{"$f":"CORREL($AQ$14:$AQ$64,AU14:AU64)","v":0.27066185770495471},{"$f":"CORREL($AQ$14:$AQ$64,AV14:AV64)","v":0.26097098035610727},{"$f":"CORREL($AQ$14:$AQ$64,AW14:AW64)","v":0.4875715280461439},null,null,null,null,null,null,null,null,null,null,{"$f":"CORREL($BH$14:$BH$64,BH14:BH64)","v":0.99999999999999989},{"$f":"CORREL($BH$14:$BH$64,BI14:BI64)","v":0.95882451310904948},{"$f":"CORREL($BH$14:$BH$64,BJ14:BJ64)","v":-0.10066038734857903},{"$f":"CORREL($BH$14:$BH$64,BK14:BK64)","v":0.22187098731871319},{"$f":"CORREL($BH$14:$BH$64,BL14:BL64)","v":0.23348694718836668},{"$f":"CORREL($BH$14:$BH$64,BM14:BM64)","v":0.19871718702382649},{"$f":"CORREL($BH$14:$BH$64,BN14:BN64)","v":0.43061574501361288}]
[null,"US Ave Farm (all)",null,null,null,null,null,null,null,null,null,null,{"$f":"CORREL($M$14:$M$64,M14:M64)","v":1},{"$f":"CORREL($M$14:$M$64,N14:N64)","v":0.13362292553299132},{"$f":"CORREL($M$14:$M$64,O14:O64)","v":0.15841341316756083},{"$f":"CORREL($M$14:$M$64,P14:P64)","v":0.22101297981231091},{"$f":"CORREL($M$14:$M$64,Q14:Q64)","v":-0.18956985109209978},"US Ave Farm (all)",null,null,null,null,null,null,null,null,null,null,{"$f":"CORREL($AC$14:$AC$64,AC14:AC64)","v":1.0000000000000002},{"$f":"CORREL($AC$14:$AC$64,AD14:AD64)","v":0.12838987723433209},{"$f":"CORREL($AC$14:$AC$64,AE14:AE64)","v":0.14850255063608556},{"$f":"CORREL($AC$14:$AC$64,AF14:AF64)","v":0.20329824934401111},{"$f":"CORREL($AC$14:$AC$64,AG14:AG64)","v":-0.13333444054550644},"Composite\nREITS",null,null,null,null,null,null,null,null,null,{"$f":"CORREL($AR$14:$AR$64,AR14:AR64)","v":1},{"$f":"CORREL($AR$14:$AR$64,AS14:AS64)","v":-0.10467500513004267},{"$f":"CORREL($AR$14:$AR$64,AT14:AT64)","v":0.14819158428613199},{"$f":"CORREL($AR$14:$AR$64,AU14:AU64)","v":0.16093475850951586},{"$f":"CORREL($AR$14:$AR$64,AV14:AV64)","v":0.14116297661240124},{"$f":"CORREL($AR$14:$AR$64,AW14:AW64)","v":0.37891945979463643},null,null,null,null,null,null,null,null,null,null,null,{"$f":"CORREL($BI$14:$BI$64,BI14:BI64)","v":1.0000000000000002},{"$f":"CORREL($BI$14:$BI$64,BJ14:BJ64)","v":-0.18747995112918481},{"$f":"CORREL($BI$14:$BI$64,BK14:BK64)","v":0.12381806015243202},{"$f":"CORREL($BI$14:$BI$64,BL14:BL64)","v":0.12634269767148304},{"$f":"CORREL($BI$14:$BI$64,BM14:BM64)","v":9.6204594466250321E-2},{"$f":"CORREL($BI$14:$BI$64,BN14:BN64)","v":0.35683107607188103}]
[null,"BAA",null,null,null,null,null,null,null,null,null,null,null,{"$f":"CORREL($N$14:$N$64,N14:N64)","v":1.0000000000000002},{"$f":"CORREL($N$14:$N$64,O14:O64)","v":0.92355774924110412},{"$f":"CORREL($N$14:$N$64,P14:P64)","v":0.98080841877987623},{"$f":"CORREL($N$14:$N$64,Q14:Q64)","v":0.11132463538474692},"BAA",null,null,null,null,null,null,null,null,null,null,null,{"$f":"CORREL($AD$14:$AD$64,AD14:AD64)","v":1},{"$f":"CORREL($AD$14:$AD$64,AE14:AE64)","v":0.98339638381312078},{"$f":"CORREL($AD$14:$AD$64,AF14:AF64)","v":0.98726733449336757},{"$f":"CORREL($AD$14:$AD$64,AG14:AG64)","v":0.31648782304572548},"US Ave Farm (all)",null,null,null,null,null,null,null,null,null,null,{"$f":"CORREL($AS$14:$AS$64,AS14:AS64)","v":1.0000000000000002},{"$f":"CORREL($AS$14:$AS$64,AT14:AT64)","v":0.12374062497170991},{"$f":"CORREL($AS$14:$AS$64,AU14:AU64)","v":0.14395381158597872},{"$f":"CORREL($AS$14:$AS$64,AV14:AV64)","v":0.19951756840065504},{"$f":"CORREL($AS$14:$AS$64,AW14:AW64)","v":-0.11572120489032298},null,null,null,null,null,null,null,null,null,null,null,null,{"$f":"CORREL($BJ$14:$BJ$64,BJ14:BJ64)","v":0.99999999999999989},{"$f":"CORREL($BJ$14:$BJ$64,BK14:BK64)","v":0.19371947401658676},{"$f":"CORREL($BJ$14:$BJ$64,BL14:BL64)","v":0.19479680276140771},{"$f":"CORREL($BJ$14:$BJ$64,BM14:BM64)","v":0.26443378437880721},{"$f":"CORREL($BJ$14:$BJ$64,BN14:BN64)","v":-0.29548253917739575}]
[null,"Mort30F",null,null,null,null,null,null,null,null,null,null,null,null,{"$f":"CORREL($O$14:$O$64,O14:O64)","v":0.99999999999999978},{"$f":"CORREL($O$14:$O$64,P14:P64)","v":0.92005297072078618},{"$f":"CORREL($O$14:$O$64,Q14:Q64)","v":0.15431496597370781},"Mort30F",null,null,null,null,null,null,null,null,null,null,null,null,{"$f":"CORREL($AE$14:$AE$64,AE14:AE64)","v":1},{"$f":"CORREL($AE$14:$AE$64,AF14:AF64)","v":0.98401337127931143},{"$f":"CORREL($AE$14:$AE$64,AG14:AG64)","v":0.32240525917711277},"BAA",null,null,null,null,null,null,null,null,null,null,null,{"$f":"CORREL($AT$14:$AT$64,AT14:AT64)","v":1},{"$f":"CORREL($AT$14:$AT$64,AU14:AU64)","v":0.98300110210404334},{"$f":"CORREL($AT$14:$AT$64,AV14:AV64)","v":0.98725248204088378},{"$f":"CORREL($AT$14:$AT$64,AW14:AW64)","v":0.31243442219964401},null,null,null,null,null,null,null,null,null,null,null,null,null,{"$f":"CORREL($BK$14:$BK$64,BK14:BK64)","v":1},{"$f":"CORREL($BK$14:$BK$64,BL14:BL64)","v":0.9660494578310207},{"$f":"CORREL($BK$14:$BK$64,BM14:BM64)","v":0.99072295043978098},{"$f":"CORREL($BK$14:$BK$64,BN14:BN64)","v":0.22233797553998333}]
[null,"TCM10Y",null,null,null,null,null,null,null,null,null,null,null,null,null,{"$f":"CORREL($P$14:$P$64,P14:P64)","v":1.0000000000000002},{"$f":"CORREL($P$14:$P$64,Q14:Q64)","v":0.12945854240938379},"TCM10Y",null,null,null,null,null,null,null,null,null,null,null,null,null,{"$f":"CORREL($AF$14:$AF$64,AF14:AF64)","v":1},{"$f":"CORREL($AF$14:$AF$64,AG14:AG64)","v":0.35396366547661851},"Mort30F",null,null,null,null,null,null,null,null,null,null,null,null,{"$f":"CORREL($AU$14:$AU$64,AU14:AU64)","v":1},{"$f":"CORREL($AU$14:$AU$64,AV14:AV64)","v":0.98360388441109226},{"$f":"CORREL($AU$14:$AU$64,AW14:AW64)","v":0.3259524516511168},null,null,null,null,null,null,null,null,null,null,null,null,null,null,{"$f":"CORREL($BL$14:$BL$64,BL14:BL64)","v":0.99999999999999978},{"$f":"CORREL($BL$14:$BL$64,BM14:BM64)","v":0.96376856190066096},{"$f":"CORREL($BL$14:$BL$64,BN14:BN64)","v":0.19317773808552557}]
[null,"EAFE",null,null,null,null,null,null,null,null,null,null,null,null,null,null,{"$f":"CORREL($Q$14:$Q$64,Q14:Q64)","v":0.99999999999999978},"EAFE",null,null,null,null,null,null,null,null,null,null,null,null,null,null,{"$f":"CORREL($AG$14:$AG$64,AG14:AG64)","v":1},"TCM10Y",null,null,null,null,null,null,null,null,null,null,null,null,null,{"$f":"CORREL($AV$14:$AV$64,AV14:AV64)","v":0.99999999999999989},{"$f":"CORREL($AV$14:$AV$64,AW14:AW64)","v":0.35761639245458982},null,null,null,null,null,null,null,null,null,null,null,null,null,null,null,{"$f":"CORREL($BM$14:$BM$64,BM14:BM64)","v":1.0000000000000002},{"$f":"CORREL($BM$14:$BM$64,BN14:BN64)","v":0.23991272305876382}]
[null,null,null,null,null,null,null,null,null,null,null,null,null,null,null,null,null,null,null,null,null,null,null,null,null,null,null,null,null,null,null,null,null,"EAFE",null,null,null,null,null,null,null,null,null,null,null,null,null,null,{"$f":"CORREL($AW$14:$AW$64,AW14:AW64)","v":1},null,null,null,null,null,null,null,null,null,null,null,null,null,null,null,null,{"$f":"CORREL($BN$14:$BN$64,BN14:BN64)","v":0.99999999999999978}]
[]
[]
[]
[null,null,null,null,null,null,null,null,null,null,null,null,null,null,null,null,null,null,null,null,null,null,null,null,null,null,null,null,null,null,null,null,null,null,null,null,null,null,null,null,null,null,null,null,null,null,null,null,null,null,null,"Difference "]
[null,1970,{"$f":"1+C14","v":1.1097488298991325},1.0804,1.0625462051235002,1.0217992283425845,1.0542068178364268,1.0639166666666666,1.0009771457267369,1.0469799071426706,1,1,1.1060521362446263,1.0910500000000001,1,1.0734833333333333,0.86156044388841324,null,null,null,null,null,null,null,null,null,null,null,null,null,null,null,null,null,null,null,null,null,null,null,null,null,null,null,null,null,null,null,null,null,null,null,{"$f":"BA68-AJ68","v":6.7685056426885187E-2},-0.20070915770199244,-1.6529217025879173E-2,-2.9191791306784065E-3,6.7535780747610963E-2,-0.12002892665649117,-0.12485998497133333,-0.10665978178680045,-8.1693011369440502E-2,1.0130942871880988E-3,6.7398145802635936E-2,5.1357398122637316E-2,6.4505257706619579E-2,-0.16445750779790083]
[null,1971,{"$f":"1+C15","v":1.1091581116753202},1.0738666666666667,1.1495614106436174,1.0396353068573956,1.032141209211797,1.0433250000000001,1.1024370930650917,1.0593546467295052,1,1,1.1087877482972424,1.0856333333333335,1.0754577777777778,1.0615916666666667,1.2322552844795713,null,null,null,null,null,null,null,null,null,null,null,null,null,null,null,null,null,null,null,null,null,null,null,null,null,null,null,null,null,null,null,null,null,null,null,null,{"$f":"BB69-AK69","v":4.4388067516903662E-3},7.344148150965496E-2,1.4008668749704967E-2,-3.4164139648301672E-3,-9.9548253366713121E-2,-8.0241423433785472E-2,-3.9853659805965364E-2,-2.8773207826731872E-2,6.8922667650678393E-2,1.1432733001359718E-3,-1.9280565003936267E-2,5.2378671328889848E-4,-0.1019068454902072]
[null,1972,{"$f":"1+C16","v":1.1387601366336548},1.0721333333333334,1.3851747814091817,1.0627558450314039,1.0334959544281821,1.0407249999999999,1.1452534863505979,1.1361117496965627,1.0770560562832943,1.1060924044061002,1.137048651265584,1.08155,1.0738329166666667,1.0621,1.2872896394777584,null,null,null,null,null,null,null,null,null,null,null,null,null,null,null,null,null,null,null,null,null,null,null,null,null,null,null,null,null,null,null,null,null,null,null,null,null,{"$f":"BC70-AL70","v":-0.17947552835799102},-0.11419639869634929,-4.3366296675894006E-2,4.6272766635314821E-2,0.11379912580133134,5.393086281883705E-2,9.8703065040130711E-2,-0.19853916543840683,3.0041707901494269E-2,-4.6513707800401566E-2,-8.8056256208296768E-3,-2.8283276392772685E-3]
[null,1973,{"$f":"1+C17","v":1.1796312919202006},1.0744083333333334,1.5129862560622962,1.1426141071988418,1.0834757221573221,1.0703166666666666,0.80925680353759832,0.81873670657719488,0.8313546342207474,0.68231689300802145,1.170687113217685,1.0824083333333334,1.0804291666666668,1.068425,0.81586201303086869,null,null,null,null,null,null,null,null,null,null,null,null,null,null,null,null,null,null,null,null,null,null,null,null,null,null,null,null,null,null,null,null,null,null,null,null,null,null,{"$f":"BD71-AM71","v":2.3583544296376546E-2},4.1696914219097103E-2,2.0898221835824515E-2,3.3229415839178433E-2,5.9101874258847421E-2,7.1324792204149529E-2,-1.9874973286460818E-2,8.2215450941655388E-2,4.8906905683897328E-2,6.3001702996772602E-2,-8.9714235968117853E-2]
[null,1974,{"$f":"1+C18","v":1.2703518930643645},1.0856583333333334,1.5429704150543087,1.189678395019663,1.1163389920841498,1.0783,0.64734420722040409,0.67727697330705605,0.75916299687364985,0.45127088779792357,1.2627679222596457,1.0949666666666666,1.0918704166666666,1.0755749999999999,0.704319779932845,null,null,null,null,null,null,null,null,null,null,null,null,null,null,null,null,null,null,null,null,null,null,null,null,null,null,null,null,null,null,null,null,null,null,null,null,null,null,null,{"$f":"BE72-AN72","v":1.7177872373926761E-2},-9.2555241580907638E-2,-6.5224359385345432E-2,-7.4258532951650427E-2,-4.9357820432396504E-2,-9.1343462241644247E-4,2.1152953972477517E-2,1.6056778682793649E-4,7.9258169035423265E-3,-0.13344358712940016]
[null,1975,{"$f":"1+C19","v":1.1870623564923637},1.0882583333333333,0.72330126358286329,1.0410313966778626,1.0670642305805458,1.05775,1.2742092818880923,1.3244843140618943,1.1764668843059281,1.3099571675656285,1.174222048209753,1.1061000000000001,1.0904054166666666,1.0798749999999999,1.2715765754782999,null,null,null,null,null,null,null,null,null,null,null,null,null,null,null,null,null,null,null,null,null,null,null,null,null,null,null,null,null,null,null,null,null,null,null,null,null,null,null,null,{"$f":"BF73-AO73","v":-0.16700468455261849},-0.14845419144158598,-0.12660070144410385,-9.776379633856469E-2,6.8671325094251945E-2,3.690826430784333E-3,-2.0474135614504285E-2,-4.2216289359806591E-3,-0.17999690807898702]
[null,1976,{"$f":"1+C20","v":1.2111286836978077},1.0843416666666668,0.96073281762895901,1.0458345363437993,1.0475023339850034,1.0497416666666666,1.1752001291230585,1.1643883682438065,1.389258839984286,1.3985998253270009,1.2048960304807732,1.0974666666666666,1.0886433333333334,1.0761166666666666,0.99641086608386775,null,null,null,null,null,null,null,null,null,null,null,null,null,null,null,null,null,null,null,null,null,null,null,null,null,null,null,null,null,null,null,null,null,null,null,null,null,null,null,null,null,{"$f":"BG74-AP74","v":2.117634948974545E-3},-8.0315680535031853E-2,-6.2832821106425074E-2,-0.12587431504456276,-8.5165148313082473E-2,-0.1099019230005101,-0.11260897689291736,9.9573033089037644E-2]
[null,1977,{"$f":"1+C21","v":1.2268338157821952},1.0802416666666668,1.1797623975835725,1.0575139062006069,1.064860634202041,1.0526916666666666,0.8778102842506692,0.81042617131674899,1.2023221385697138,1.174595834237862,1.2073877786845522,1.0896916666666667,1.0884166666666666,1.0741916666666667,1.136395193175521,null,null,null,null,null,null,null,null,null,null,null,null,null,null,null,null,null,null,null,null,null,null,null,null,null,null,null,null,null,null,null,null,null,null,null,null,null,null,null,null,null,null,{"$f":"BH75-AQ75","v":-8.8743258361638433E-2},-8.4413241551103302E-2,-0.13053730027181532,-6.8676567521880005E-2,-9.4820452070096789E-2,-9.15354195297374E-2,0.124572880154036]
[null,1978,{"$f":"1+C22","v":1.1758968977708197},1.08725,1.258845676121096,1.093660921596511,1.0863401909787962,1.0718833333333333,1.0105643992838484,0.96797183763354566,1.0983557579107945,0.98345870477465847,1.1640936688472709,1.0948833333333334,1.0963245833333333,1.0841000000000001,1.253974963200186,null,null,null,null,null,null,null,null,null,null,null,null,null,null,null,null,null,null,null,null,null,null,null,null,null,null,null,null,null,null,null,null,null,null,null,null,null,null,null,null,null,null,null,{"$f":"BI76-AR76","v":1.2926495566043306E-2},{"$f":"BJ76-AS76","v":-0.11368141198115515},{"$f":"BK76-AT76","v":-2.8428093246388453E-2},{"$f":"BL76-AU76","v":-3.7174910516588028E-2},{"$f":"BM76-AV76","v":-6.2253793332280788E-2},{"$f":"BN76-AW76","v":-5.6955783032531015E-2}]
[null,1979,{"$f":"1+C23","v":1.2156190568891629},1.0962916666666667,1.9022499553442216,1.1373069248252274,1.1248155284549812,1.1006916666666666,1.1160821483553038,1.0410107965718025,1.3064367635830771,1.2664025583598197,1.2150693385132234,1.1069,1.1119174999999999,1.094425,1.0179729795642671,null,null,null,null,null,null,null,null,null,null,null,null,null,null,null,null,null,null,null,null,null,null,null,null,null,null,null,null,null,null,null,null,null,null,null,null,null,null,null,null,null,null,null,null,-8.2804945999142135E-2,-2.4373524133699975E-2,-3.4592060838032818E-2,-4.4958382146150916E-2,-2.20883837227554E-2]
[null,1980,{"$f":"1+C24","v":1.2035646987608577},1.1193833333333334,1.1413740932482765,1.1175165466474779,1.1179278897161717,1.1143416666666668,1.2293131037354741,1.1392382206201797,1.2180837879267217,1.2470120762617969,1.2051007110743628,1.1366833333333333,1.1376949999999999,1.1146,1.1740642490588382,null,null,null,null,null,null,null,null,null,null,null,null,null,null,null,null,null,null,null,null,null,null,null,null,null,null,null,null,null,null,null,null,null,null,null,null,null,null,null,null,null,null,null,null,null,6.9978849044876848E-2,5.0842991175428981E-2,6.491621597815217E-2,-0.17976133428707278]
[null,1981,{"$f":"1+C25","v":1.1563509658272106},1.1417083333333333,0.60549621580660218,1.051932748741643,1.0854651841806215,1.14025,0.89763048904815068,0.90313259174706884,1.0582765445241669,1.0822768394400482,1.1416531531828231,1.1604416666666668,1.1663462499999999,1.1391083333333334,0.95029850403915739,null,null,null,null,null,null,null,null,null,null,null,null,null,null,null,null,null,null,null,null,null,null,null,null,null,null,null,null,null,null,null,null,null,null,null,null,null,null,null,null,null,null,null,null,null,null,-1.6951644273022648E-2,3.4704683988971974E-3,-9.0096446659660684E-2]
[null,1982,{"$f":"1+C26","v":1.0519328251501845},1.137875,1.1392696144748393,1.0170601227453084,1.0375827111490428,1.1061416666666666,1.1376843239627452,1.1789826555284399,1.1955741977978269,1.2749308598966655,1.0490936870254886,1.1611333333333334,1.1609020833333332,1.1300166666666667,0.95261093434003818,null,null,null,null,null,null,null,null,null,null,null,null,null,null,null,null,null,null,null,null,null,null,null,null,null,null,null,null,null,null,null,null,null,null,null,null,null,null,null,null,null,null,null,null,null,null,null,-1.9835322510431297E-2,-0.13277471356559123]
[null,1983,{"$f":"1+C27","v":1.0136263667589214},1.1204166666666666,0.82200263260802042,1.0177519454584503,1.037208917835591,1.0861083333333332,1.159317707523194,1.1845487292067787,1.267246555590325,1.2268874718562939,1.0076027772489276,1.1355416666666667,1.1322687499999999,1.1110500000000001,1.1899067954562719,null,null,null,null,null,null,null,null,null,null,null,null,null,null,null,null,null,null,null,null,null,null,null,null,null,null,null,null,null,null,null,null,null,null,null,null,null,null,null,null,null,null,null,null,null,null,null,null,-0.11770366939582599]
[null,1984,{"$f":"1+C28","v":1.0758505308594326},1.1270916666666666,0.78460615371485842,1.011661939747843,1.0387270078852919,1.0952249999999999,1.0139087650283034,0.96194180806024909,1.1900191517355294,1.1381547346550116,1.0744096765918039,1.1418999999999999,1.1386937500000001,1.1243833333333333,1.0489831368519464]
[null,1985,{"$f":"1+C29","v":0.94152363579461373},1.1137333333333332,1.0582750280937432,1.0009657171199589,1.037282976042563,1.0747916666666666,1.2337543615005124,1.244181828891012,1.174762670708813,1.0575132100127054,0.94936179540504806,1.1271500000000001,1.1242325,1.1062333333333334,1.4250651192136408]
[null,1986,{"$f":"1+C30","v":0.96929393379403972},1.0902083333333332,1.1735881005075961,0.96162834714241008,1.0109191257753145,1.0597833333333333,1.1364556908835335,1.203622774770873,1.1752778560499804,1.1754299390850307,0.97554196489305378,1.1039083333333333,1.1017783333333333,1.0768249999999999,1.5116228319527509]
[null,1987,{"$f":"1+C31","v":1.0018307446483157},1.0937583333333334,1.2193550334522048,1.0441464523514739,1.0433888331161918,1.05775,1.0200722119552883,1.0223228211562538,0.96292270792842438,0.8871833460855103,1.0147466001834793,1.1057583333333334,1.1019441666666667,1.0838416666666666,1.2085141385841101]
[null,1988,{"$f":"1+C32","v":1.1159095789834959},1.0971,0.83447523302455151,1.045035752909877,1.0432453988567103,1.066675,1.1169012410573744,1.1120125730668606,1.1265042596357084,1.1075568111079526,1.1094001541539575,1.1083000000000001,1.1033424999999999,1.0884583333333333,1.2363505604636309]
[null,1989,{"$f":"1+C33","v":1.1217619694468257},1.0925750000000001,0.97119167780849414,1.0360399364831969,1.0454254900401643,1.0811166666666667,1.2409871480005232,1.2386820734861275,1.0847291290913441,0.98169784832230045,1.1216543352161192,1.1017749999999999,1.1032316666666666,1.0849833333333334,1.0881971791031211]
[null,1990,{"$f":"1+C34","v":1.0931840309884777},1.0932166666666667,0.96839696221571958,1.0492114829032817,1.0592709047232545,1.0749333333333333,0.93215853911809055,0.95562583007606361,0.83333446211968121,0.80950432219451973,1.0843462288840415,1.10355,1.1012883333333332,1.0854999999999999,0.71623570381105095]
[null,1991,{"$f":"1+C35","v":1.0868323912596289},1.0876916666666667,0.91053752586051728,0.97612844873008364,1.0301826371051281,1.05375,1.2335429268458751,1.1849632657074343,1.3052483530327057,1.3051221698579869,1.0899966747234322,1.0980166666666666,1.0924775,1.0785833333333334,1.0970048339916632]
[null,1992,{"$f":"1+C36","v":1.0758686103884816},1.0813999999999999,0.9409492487260479,1.0145612851188204,1.0285937993667409,1.0343166666666668,1.0436748585826343,1.0409027789369851,1.1361870053646059,1.114893600687682,1.0764729920338849,1.0897666666666668,1.0839904166666667,1.0701000000000001,0.85048570567718629]
[null,1993,{"$f":"1+C37","v":1.1014640207519781},1.0721916666666667,1.1627817366551507,1.0084674510990985,1.0271132354085608,1.0299750000000001,1.0681739489747741,1.1285928297995009,1.1794384859432767,1.1701406603547444,1.0976236861242825,1.0792999999999999,1.0732658333333334,1.0587333333333333,1.2661527810079118]
[null,1994,{"$f":"1+C38","v":1.1161700622896071},1.0796250000000001,0.97806363651579331,1.0274445499236009,1.0263974718510247,1.0424666666666667,0.98448743900512936,1.0211643928012286,1.0312148618963555,1.0080231569679996,1.1360517734418711,1.086225,1.0835483333333333,1.0708,1.0605318872113665]
[null,1995,{"$f":"1+C39","v":1.1104374618137667},1.0759000000000001,1.0097371752778583,1.0306970791089758,1.0250672756016692,1.0548999999999999,1.2934950483006831,1.2885749034695153,1.1420799787096458,1.168129624695732,1.0999073457493491,1.0820083333333332,1.0795283333333334,1.0658000000000001,1.09002666213234]
[null,1996,{"$f":"1+C40","v":1.0972097522870761},1.0737000000000001,0.95304922838170736,1.026689182256395,1.0326847421734959,1.0500583333333333,1.1845163658185163,1.2312286578438145,1.3020779550906165,1.3056709338074959,1.0872447397053984,1.0805416666666667,1.0780429166666667,1.0643833333333332,1.0430361085753519]
[null,1997,{"$f":"1+C41","v":1.0843390836353999},1.0726166666666668,0.75909641903859826,0.98202374415052873,1.0168806759304156,1.0506083333333334,1.2700895857072421,1.2040963106792653,1.1844874705830282,1.1727837401458485,1.0763254410653047,1.0786249999999999,1.0759579166666666,1.0635250000000001,1.0023757782999005]
[null,1998,{"$f":"1+C42","v":1.0931379178756899},1.0653166666666667,0.99169545400318004,0.96794597370991653,1.0159905006186207,1.0477666666666667,1.2364039638377642,1.1492701250655792,0.80760149501139056,0.79146560146463485,1.0828715875991157,1.0722083333333334,1.0694629166666667,1.0526416666666667,1.1674663222356245]
[null,1999,{"$f":"1+C43","v":1.0991784873042989},1.0704166666666666,1.0084768261247334,1.0399095262303923,1.0264916154469763,1.0463833333333334,1.1783641094164545,1.2249118637335144,0.95269890943712343,0.9330484896590614,1.0931786456178167,1.0787083333333334,1.0742849999999999,1.0563666666666667,1.2252707639331839]
[null,2000,{"$f":"1+C44","v":1.0984820431560149},1.076225,0.94402647441789733,1.0636578517719775,1.0333071980177686,1.0581666666666667,0.89309176880525454,0.93633957562251025,1.2340073133651741,1.2302400099124469,1.0940520347426947,1.0836416666666666,1.0806162500000001,1.0602916666666666,0.83505572689434637]
[null,2001,{"$f":"1+C45","v":1.0938781795248209},1.0708249999999999,1.0074417259664912,0.93868681518727659,1.0153980801111218,1.0338833333333333,0.86024714656466195,0.92630436688377371,1.1304395681020614,1.1441178489034816,1.0901564321535506,1.079475,1.0697104166666667,1.0501750000000001,0.74367344838054872]
[null,2002,{"$f":"1+C46","v":1.0910203708843136},1.0649166666666667,1.2276901618238056,1.0367857568165111,1.0234910130755988,1.0160416666666667,0.73387108023275582,0.81651986875786087,1.0374960455861082,1.0508411128047885,1.0879209013189191,1.0780166666666666,1.0653670833333333,1.0461083333333334,0.80742658459553429]
[null,2003,{"$f":"1+C47","v":1.0883231521757224},1.0566666666666666,1.1813850585084587,1.0484676355422207,1.0186204722745282,1.0101083333333334,1.2341261886810704,1.2257183867691532,1.3157862294997198,1.3254571110947744,1.0843883276042978,1.0676583333333334,1.0581954166666667,1.0401499999999999,1.302195979207335]
[null,2004,{"$f":"1+C48","v":1.0936281672888544},1.0562833333333332,1.0454383497641517,1.0739031380686139,1.0320369096263262,1.0137166666666666,1.0861176280735656,1.0309947195969336,1.2744258179932024,1.2655093580367833,1.1032886718112498,1.0639333333333334,1.0583849999999999,1.0427416666666667,1.1620439453216505]
[null,2005,{"$f":"1+C49","v":1.1925291027968763},1.0523499999999999,1.163551454111964,1.0817824614767282,1.0335862103160491,1.0314666666666668,1.0295687358800327,0.99390617220479005,1.1147815132519203,1.0796256487274196,1.1999038169092948,1.0606416666666667,1.0586487499999999,1.0428999999999999,1.103138950909855]
[null,2006,{"$f":"1+C50","v":1.1412397788557715},1.0558749999999999,1.2086135489760879,1.015825041144397,1.0250891233013555,1.0472666666666666,1.1276843565704608,1.1508983709072684,1.3005539143032956,1.292813821599867,1.1471383059334654,1.0647916666666666,1.0641083333333334,1.0479166666666666,1.210839348493195]
[null,2007,{"$f":"1+C51","v":1.1349366208262444},1.0555583333333334,1.2770442030829761,1.0755734264912393,1.0400018366771902,1.0435333333333334,1.0346871604171728,1.0623391275564598,0.82930961864141095,0.80359834978276801,1.1286289467470609,1.0648249999999999,1.0634045833333334,1.0462916666666666,1.0827119157692724]
[null,2008,{"$f":"1+C52","v":1.0979319537502832},1.0563166666666666,1.042272216802218,0.95592992167914659,1.0009137114449864,1.0136499999999999,0.51410903038075373,0.58694974341193329,0.52634753879426199,0.52454433252032495,1.0877384761435636,1.0744666666666667,1.0603612499999999,1.0366666666666666,0.40060613127012445]
[null,2009,{"$f":"1+C53","v":0.98795007533782031},1.0531333333333333,1.2234309489307877,1.0412666001740707,1.0268496126527518,1.0015000000000001,1.2106913288074508,1.1724341294773795,1.246783627621753,1.2453035898595504,0.98038906257901604,1.0729583333333332,1.0504137499999999,1.0325666666666666,1.2448835031922041]
[null,2010,{"$f":"1+C54","v":1.0498325208586534},1.0494333333333332,1.2565116273837473,1.0630986866453527,1.0148464788703224,1.0013666666666667,1.1202904578789596,1.1045651322736927,1.2464456724238233,1.2434466506005988,1.0365855811415163,1.0603833333333332,1.0469058333333334,1.0321416666666667,1.0478809111393226]
[null,2011,{"$f":"1+C55","v":1.0869106210887105},1.0463916666666666,1.0855280053110972,1.0518729892734848,1.029193870078126,1.0005250000000001,0.99996819389004343,1.0538098380217216,1.0795846165083347,1.0705023883672062,1.0739394692028448,1.0566416666666667,1.0445583333333333,1.0278583333333333,0.83960360040412885]
[null,2012,{"$f":"1+C56","v":1.1091284424727532},1.0367333333333333,1.0793893264023338,1.0084725151722844,1.0172604021937379,1.0008583333333334,1.1258014102553582,1.0700539496758761,1.1798251928725356,1.1800472884085087,1.0913087745235692,1.04935,1.0365591666666667,1.018025,1.1271101621968089]
[null,2013,1.0937243861294224,1.0423500000000001,0.68075409999490843,1.002478316014467,1.0149057120482263,1.0005833333333334,1.2592922064940661,1.2350674710724028,1.0281571931628195,1.0231355562605031,1.0808614629164761,1.0510166666666667,1.0398191666666667,1.0235083333333332,1.1775241456474632]
[null,2014,1.0967693279109498,1.041625,1.0012445552322047,0.97797708791256266,1.0075364620885403,1.0003249999999999,1.1078731001583322,1.07249800365667,1.2470756210144496,1.2408167829025152,1.0873657520730864,1.0485416666666667,1.0417283333333334,1.0254083333333333,0.92370755968974283]
[null,2015,{"$f":"1+C59","v":1.0606210972893075},1.0388666666666666,0.87095980981898213,0.92596988218085752,1.0072687166171179,1.0005250000000001,0.99270745810261685,0.97741395242171747,1.0278605740601718,1.0202983610484113,1.0546889843125142,1.0499916666666667,1.0384899999999999,1.0213583333333334,0.96642070874207753]
[null,2016,{"$f":"1+C60","v":1.0300140175795587},1.0366583333333332,1.0779214463262896,1.0252905596566544,1.0205339493538941,1.0031749999999999,1.0910740902778429,1.1258836246462227,1.0827702841820199,1.0896112222639431,1.0303996836028584,1.047175,1.0364770833333334,1.0184166666666667,0.98101275790199749]
[null,2017,{"$f":"1+C61","v":1.0473665868735462},1.0374333333333334,1.1192267574142398,1.0421388741311362,1.0208714918820299,1.0093083333333333,1.1774762111462604,1.2237898445216815,1.0831815352772416,1.0888713005276478,1.0454197395274445,1.0444,1.0399099999999999,1.0233000000000001,1.1970531689494908]
[null,2018,1.0427035367788668,1.0392999999999999,0.99066141073220026,1.0236608067766604,1.018921443566156,1.0193916666666667,0.93559740488263921,0.94205014048727664,0.958713919254081,0.95985406233678416,1.0404898840417338,1.048,1.0453904166666668,1.0290999999999999,0.82402943618001434]
[null,2019,1.0443469698776022,1.0338750000000001,1.1691718862462557,0.98999991666541665,1.022594117069699,1.0206083333333333,1.253696579115849,1.2016206836412042,1.2520254060297051,1.2484814028895352,1.0438836942217251,1.04375,1.0393375,1.0214416666666666,0.82402943618001434]
[null,2020,1.0288386433308672,1.0247666666666666,1.2200557720271339,0.99597179717139517,1.0125871001343945,1.0036499999999999,1.1506496129983217,1.0699598353072874,0.94742620986922288,0.93838366968396369,1.0288350799320369,1.036025,1.0311366666666666,1.0089416666666666,1.1691946517125744]